{"text_format":"2","workbook":"xlsx","n_sheets":2,"sheets":["Custo por trabalhador","Cálculo materiais uniformes"],"not_rendered":{"charts":0,"images":0,"macros":0,"external_links":0,"defined_names":0,"comments":1,"pivot_tables":0},"unopened":[],"bounds":{"document_bytes":16777216,"sheet_cells":100000,"run_cost":"one","rows_first":2000,"rows_last":500,"rows_between":2000,"halvings":0,"cell_chars":16384,"cell_head_chars":4096},"cells_cut":0,"cells_raw":0,"read":"whole","date_system":"1900"}

{"sheet":"Custo por trabalhador","index":0,"n_rows":557,"n_cols":8,"rows_kept":557,"cut":false,"hidden":false,"merged":[[403,0,403,7],[405,0,405,3],[414,0,414,4],[438,0,438,7],[449,0,449,7],[440,0,440,3],[432,0,432,3],[424,0,424,7],[461,0,461,1],[423,0,423,7],[555,2,555,4],[556,2,556,6],[65,0,65,7],[76,0,76,7],[117,0,117,7],[159,0,159,7],[219,0,219,7],[230,0,230,7],[192,0,192,3],[201,0,201,3],[210,0,210,3],[161,0,161,5],[172,0,172,4],[158,0,158,7],[140,0,140,3],[98,0,98,4],[107,0,107,4],[426,0,426,3],[385,0,385,3],[304,0,304,7],[354,0,354,7],[365,0,365,7],[456,0,456,1],[457,0,457,1],[36,0,36,7],[64,0,64,7],[315,0,315,3],[324,0,324,3],[345,0,345,3],[336,0,336,4],[303,0,303,7],[386,0,387,0],[386,1,386,3],[333,0,333,7],[370,0,371,0],[370,1,371,1],[370,2,371,2],[356,0,356,4],[368,0,368,6],[369,0,369,6],[366,0,366,7],[53,0,53,5],[89,0,89,3],[334,0,334,7],[80,0,80,3],[119,0,119,1],[131,0,131,3],[116,0,116,7],[402,0,402,7],[306,0,306,3],[0,0,0,7],[4,0,4,7],[10,0,10,1],[25,0,25,3],[47,0,47,3],[1,0,1,7],[7,0,7,7],[14,0,14,7],[78,0,78,7],[2,0,2,7],[17,0,17,3],[38,0,38,4],[22,0,22,7],[35,0,35,7],[42,0,42,4],[52,0,52,3],[67,0,67,6],[55,0,55,3],[5,0,5,7],[8,0,8,7],[15,0,15,7],[23,0,23,7],[149,0,149,3],[181,0,181,3],[163,0,163,4],[294,0,294,3],[232,0,232,3],[264,0,264,1],[276,0,276,3],[285,0,285,3],[252,0,252,4],[273,0,273,7],[250,0,250,7],[261,0,261,7],[274,0,274,7],[262,0,262,7],[221,0,221,6],[190,0,190,5],[241,0,241,5],[490,0,490,2],[463,0,463,1],[537,0,537,4],[451,0,451,6],[511,0,511,5],[512,0,512,1],[465,0,465,2],[474,0,474,5],[492,0,492,3],[517,0,517,3],[529,0,529,3],[501,0,501,3],[527,0,527,5],[526,0,526,7],[535,0,535,7],[510,0,510,7],[453,0,453,1],[454,0,454,1],[455,0,455,1],[458,0,458,1],[459,0,459,1],[460,0,460,1],[462,0,462,1],[452,0,452,1]]}
["PLANILHA DE CUSTOS E FORMAÇÃO DE PREÇOS"]
["MODELO DE FORMAÇÃO DE CUSTO MENSAL PARA UM EMPREGADO "]
["* A planilha de custos e formação de preços é ferramenta de apoio à realização de estimativas da contratação e para a análise das propostas na fase de pregão e nas prorrogações contratuais.\n* O modelo disponibilizado na Instrução Normativa n° 5, de 26 de maio de 2017, é inspiracional, devendo ser adaptado pelo órgão ou entidade contratante às suas necessidades.\n* A presente proposta visa, tão somente, auxiliar aos órgão que não possuam um modelo definido na formatação dos cálculos de direitos trabalhistas para estimativas de contratos de prestação de serviços, observando as disposições da Consolidação das Leis do Trabalho - CLT e das Convenções Coletivas de Trabalho - CCT (sendo válidos, ainda, os acordos e dissídios coletivos).\n* É responsábilidade do usuário que optar pela utilização deste modelo a conferência das fórmulas automatizadas em conformidade com as dispoções de CLT e CCT, para minimizar o risco de equívocos no cômputo das previsões financeiras.\n* Dúvidas sobre a metodologia de cálculo poderão ser esclarecidas com a leitura dos Cadernos Técnicos de divulgação de valores limites em: https://www.comprasgovernamentais.gov.br/index.php/cadernos-tecnicos-e-valores-limites."]
[]
["MÓDULO 1 - REMUNERAÇÃO"]
["* A remuneração é definida no art. 457 da Consolidação das Leis do Trabalho. \n* É composta por Salário Base, Adicionais (noturno, de insalubridade ou periculosidade) e gratificações, quando houver."]
[]
["SALÁRIO BASE"]
["* O Salário Base vem definido na Convenção Coletiva de Trabalho da categoria profissional a ser contratada para o objeto da prestação de serviço. \n* O contratante deverá observar se a CCT abrange o município de prestação de serviço e se está vigente."]
[]
["SALÁRIO BASE"]
["Vigilante (12x36h e 44h)",2450.39]
["Supervisor",2939.18]
[]
["GRATIFICAÇÃO DE FUNÇÃO"]
["* Gratificação de função, quando houver, virá informada na Convenção Coletiva de Trabalho da categoria profissional a ser contratada. \n* O órgão contrantante deverá observar, além da existência de gratificação, se esta incidirá sobre os adicionais, devendo adaptar a planilha ao caso em concreto.\n*  Para o presente modelo foi considerada gratificação como percentual sobre o salário base e sem incidência sobre os adicionais (noturno, periculosidade ou insalubridade)."]
[]
["GRATIFICAÇÃO DE FUNÇÃO"]
["Categoria","Base de cálculo","Percentual","Valor da Gratificação"]
[{"$f":"A12","v":"Vigilante (12x36h e 44h)"},{"$f":"B12","v":2450.39},null,{"$f":"B20*C20","v":0}]
[{"$f":"A13","v":"Supervisor"},{"$f":"B13","v":2939.18},null,{"$f":"B21*C21","v":0}]
[]
["ADICIONAIS (periculosidade ou insalubridade, se houver)"]
["* Os adicionais de periculosidade ou insalubridade, em conformidade com os art. 192 e 193 da CLT, dependem da natureza do serviço a ser prestado. \n* O órgão contrantante deverá observar, além da existência de previsão em CLT, se há informações na Convenção Coletiva de Trabalho acerca dos adicionais, bem como seu percentual e a base de cálculo, devendo adaptar a planilha ao caso em concreto. "]
[]
["ADICIONAL DE PERICULOSIDADE"]
["Categoria","Base de cálculo","Percentual","Valor"]
["Vigilante (12x36 Diurno)",{"$f":"B20","v":2450.39},0.3,{"$f":"B28*C28","v":735.11699999999996}]
["vigilante (12x36 Noturno)",{"$f":"B20","v":2450.39},{"$f":"C28","v":0.3},735.11699999999996]
["Vigilante (44h semanais)",{"$f":"B20","v":2450.39},{"$f":"C29","v":0.3},735.11699999999996]
["-",null,{"$f":"C30","v":0.3},0]
["-",null,{"$f":"C31","v":0.3},0]
["Supervisor (44h semanais)",{"$f":"B21","v":2939.18},{"$f":"C32","v":0.3},{"$f":"B33*C33","v":881.75399999999991}]
[]
[]
["ADICIONAL NOTURNO"]
["* O Adicional Noturno e a Hora Noturna Reduzida, conforme art. 73 da CLT, serão pagos entre 22h e 5h do dia seguinte, sem prorrogação quando da jornada 12x36h.\n* O órgão contrantante deverá observar, além da existência do previsto em CLT, se há informações na Convenção Coletiva de Trabalho acerca da existência do percentual de adicional noturno, bem como se haverá pagamento de hora noturna reduzida e adaptar a planilha ao caso em concreto. "]
[]
["ADICIONAL NOTURNO"]
["Categoria","Base de Cálculo","Proporção","Percentual","Valor"]
[{"$f":"A29","v":"vigilante (12x36 Noturno)"},{"$f":"B12+D29","v":3185.5069999999996},{"$f":"7/12","v":0.58333333333333337},0.2,{"$f":"B41*C41*D41","v":371.6424833333333}]
["-",0,{"$f":"7/12","v":0.58333333333333337},0,{"$f":"B42*C42*D42","v":0}]
["HORA NOTURNA REDUZIDA"]
["Categoria","Base de Cálculo","Proporção","Percentual","Valor"]
[{"$f":"A29","v":"vigilante (12x36 Noturno)"},{"$f":"B12+D29","v":3185.5069999999996},{"$f":"1/12","v":8.3333333333333329E-2},{"$f":"1+D41","v":1.2},{"$f":"B45*C45*D45","v":318.55069999999989}]
["-",0,{"$f":"1/12","v":8.3333333333333329E-2},0,{"$f":"B46*C46*D46","v":0}]
[]
["ADICIONAL POR TRABALHO NOTURNO"]
["Categoria","Adicional Noturno","Hora Noturna\nReduzida","Valor"]
[{"$f":"A29","v":"vigilante (12x36 Noturno)"},{"$f":"E41","v":371.6424833333333},{"$f":"E45","v":318.55069999999989},{"$f":"SUM(B50:C50)","v":690.1931833333332}]
["-",{"$f":"E42","v":0},{"$f":"E46","v":0},{"$f":"SUM(B51:C51)","v":0}]
[]
["ADICIONAL XXX"]
["* Em caso de previsão de outros adicionais em Convenção Coletiva de Trabalho o órgão poderá utilizar este campo."]
[]
["ADICIONAL XXX"]
["Categoria","Base de cálculo","Percentual","Valor"]
["Cargo A (12x36 Diurno)"]
["Cargo A (12x36 Noturno)"]
["Cargo A (44h semanais)"]
["Cargo B (12x36 Diurno)"]
["Cargo B (12x36 Noturno)"]
["Cargo B (44h semanais)"]
[]
["MÓDULO 1 - REMUNERAÇÃO"]
["Este quadro totaliza a remuneração devida ao trabalhador, conforme previsão da Consolidação das Leis do Trabalho e valores disponíveis na Convenção Coletiva para a categoria"]
[]
["MÓDULO 1 - REMUNERAÇÃO"]
["Categoria","Salário Base","Gratificação de função","Adicional de Periculosidade ou Insalubridade","Adicional Noturno","Adicional XXX","Total"]
[{"$f":"A28","v":"Vigilante (12x36 Diurno)"},{"$f":"B12","v":2450.39},{"$f":"D20","v":0},{"$f":"D28","v":735.11699999999996},null,{"$f":"D58","v":0},{"$f":"SUM(B70:F70)","v":3185.5069999999996}]
[{"$f":"A29","v":"vigilante (12x36 Noturno)"},{"$f":"B12","v":2450.39},{"$f":"D20","v":0},735.11699999999996,{"$f":"D50","v":690.1931833333332},0,3875.7001833333329]
[{"$f":"A30","v":"Vigilante (44h semanais)"},{"$f":"B12","v":2450.39},{"$f":"D20","v":0},735.11699999999996,null,0,3185.5069999999996]
["-",0,{"$f":"D21","v":0},0,null,0,0]
["-",0,{"$f":"D21","v":0},0,{"$f":"D51","v":0},0,0]
[{"$f":"A33","v":"Supervisor (44h semanais)"},{"$f":"B13","v":2939.18},{"$f":"D21","v":0},881.75399999999991,null,0,3820.9339999999997]
[]
["MÓDULO 2 - ENCARGOS E BENEFÍCIOS (ANUAIS, MENSAIS E DIÁRIOS)"]
[]
["SUBMÓDULO 2.1 – 13° SALÁRIO, FÉRIAS E ADICIONAL DE FÉRIAS"]
[]
["13° SALÁRIO\nPrevisto no Decreto 57.155, de 1965."]
["Categoria","Base de cálculo","Provisionamento Mensal","Valor"]
[{"$f":"A70","v":"Vigilante (12x36 Diurno)"},{"$f":"G70","v":3185.5069999999996},{"$f":"1/12","v":8.3333333333333329E-2},{"$f":"B83*C83","v":265.4589166666666}]
[{"$f":"A71","v":"vigilante (12x36 Noturno)"},3875.7001833333329,{"$f":"1/12","v":8.3333333333333329E-2},{"$f":"B84*C84","v":322.97501527777774}]
[{"$f":"A72","v":"Vigilante (44h semanais)"},3185.5069999999996,8.3333333333333329E-2,265.4589166666666]
["-",0,8.3333333333333329E-2,0]
["-",0,8.3333333333333329E-2,0]
[{"$f":"A33","v":"Supervisor (44h semanais)"},3820.9339999999997,8.3333333333333329E-2,318.41116666666665]
[]
["FÉRIAS\nPrevisto no art. 7° da Constituição Federal"]
["Categoria","Base de cálculo","Provisionamento Mensal","Valor"]
[{"$f":"A83","v":"Vigilante (12x36 Diurno)"},{"$f":"G70","v":3185.5069999999996},0.121,{"$f":"B92*C92","v":385.44634699999995}]
[{"$f":"A84","v":"vigilante (12x36 Noturno)"},3875.7001833333329,0.121,{"$f":"B93*C93","v":468.95972218333327}]
[{"$f":"A85","v":"Vigilante (44h semanais)"},3185.5069999999996,0.121,385.44634699999995]
["-",0,0.121,0]
["-",0,0.121,0]
[{"$f":"A88","v":"Supervisor (44h semanais)"},3820.9339999999997,0.121,462.33301399999993]
[]
["ADICIONAL DE FÉRIAS - 1/3 CONSTITUCIONAL"]
["Categoria","Base de cálculo","Alíquota Adicional","Provisionamento Mensal","Valor"]
[{"$f":"A92","v":"Vigilante (12x36 Diurno)"},{"$f":"G70","v":3185.5069999999996},{"$f":"1/3","v":0.33333333333333331},0.121,{"$f":"B101*C101*D101","v":128.48211566666663}]
[{"$f":"A93","v":"vigilante (12x36 Noturno)"},3875.7001833333329,{"$f":"1/3","v":0.33333333333333331},0.121,{"$f":"B102*C102*D102","v":156.31990739444441}]
[{"$f":"A94","v":"Vigilante (44h semanais)"},3185.5069999999996,{"$f":"1/3","v":0.33333333333333331},0.121,128.48211566666663]
["-",0,0.33333333333333331,0.121,0]
["-",0,0.33333333333333331,0.121,0]
[{"$f":"A97","v":"Supervisor (44h semanais)"},3820.9339999999997,0.33333333333333331,0.121,154.11100466666664]
[]
["SUBMÓDULO 2.1 – 13° SALÁRIO, FÉRIAS E ADICIONAL DE FÉRIAS"]
["Categoria","13° Salário","Férias ","1/3 Constitucional","Total"]
[{"$f":"A101","v":"Vigilante (12x36 Diurno)"},{"$f":"D83","v":265.4589166666666},{"$f":"D92","v":385.44634699999995},{"$f":"E101","v":128.48211566666663},{"$f":"SUM(B110:D110)","v":779.38737933333323}]
[{"$f":"A102","v":"vigilante (12x36 Noturno)"},322.97501527777774,468.95972218333327,156.31990739444441,{"$f":"SUM(B111:D111)","v":948.2546448555554}]
[{"$f":"A103","v":"Vigilante (44h semanais)"},265.4589166666666,385.44634699999995,128.48211566666663,779.38737933333323]
["-",0,0,0,0]
["-",0,0,0,0]
[{"$f":"A106","v":"Supervisor (44h semanais)"},318.41116666666665,462.33301399999993,154.11100466666664,934.85518533333322]
[]
["SUBMÓDULO 2.2 - ENCARGOS PREVIDENCIÁRIOS E FGTS"]
["* Previsto no art. 195 da Constituição Federal. \n* Os percentuais informados não são taxativos e deverão observar o enquadramento real das empresas prestadoras de serviço, em especial no que diz respeito ao SAT-GIIL/RAT."]
[]
["COMPOSIÇÃO DO GPS E FGTS"]
["Encargos","Percentual"]
["INSS - empregador",0.2]
["Salário-Educação",2.5000000000000001E-2]
["SAT- GIL/RAT",0.03]
["SESC",1.4999999999999999E-2]
["SENAC",0.01]
["SEBRAE",6.0000000000000001E-3]
["INCRA",2E-3]
["FGTS",0.08]
["TOTAL",{"$f":"SUM(B122:B129)","v":0.36800000000000005}]
[]
["GPS - GUIA DA PREVIDÊNCIA SOCIAL"]
["Categoria","Base de cálculo","Percentual","Valor"]
[{"$f":"A92","v":"Vigilante (12x36 Diurno)"},{"$f":"G70+E110","v":3964.8943793333328},{"$f":"SUM($B$122:$B$128)","v":0.28800000000000003},{"$f":"B134*C134","v":1141.889581248}]
[{"$f":"A93","v":"vigilante (12x36 Noturno)"},4823.9548281888883,{"$f":"SUM($B$122:$B$128)","v":0.28800000000000003},{"$f":"B135*C135","v":1389.2989905183999}]
[{"$f":"A94","v":"Vigilante (44h semanais)"},3964.8943793333328,0.28800000000000003,1141.889581248]
["-",0,0.28800000000000003,0]
["-",0,0.28800000000000003,0]
[{"$f":"A97","v":"Supervisor (44h semanais)"},4755.7891853333331,0.28800000000000003,1369.6672853760001]
[]
["FGTS - FUNDO DE GARANTIA POR TEMPO DE SERVIÇO"]
["Categoria","Base de cálculo","Percentual","Valor"]
[{"$f":"A101","v":"Vigilante (12x36 Diurno)"},{"$f":"G70+E110","v":3964.8943793333328},{"$f":"$B$129","v":0.08},{"$f":"B143*C143","v":317.19155034666665}]
[{"$f":"A102","v":"vigilante (12x36 Noturno)"},4823.9548281888883,{"$f":"$B$129","v":0.08},{"$f":"B144*C144","v":385.91638625511109}]
[{"$f":"A103","v":"Vigilante (44h semanais)"},3964.8943793333328,0.08,317.19155034666665]
["-",0,0.08,0]
["-",0,0.08,0]
[{"$f":"A106","v":"Supervisor (44h semanais)"},4755.7891853333331,0.08,380.46313482666665]
[]
["SUBMÓDULO 2.2 - ENCARGOS PREVIDENCIÁRIOS E FGTS"]
["Categoria","GPS","FGTS","Total"]
[{"$f":"A110","v":"Vigilante (12x36 Diurno)"},{"$f":"D134","v":1141.889581248},{"$f":"D143","v":317.19155034666665},{"$f":"B152+C152","v":1459.0811315946667}]
[{"$f":"A111","v":"vigilante (12x36 Noturno)"},{"$f":"D135","v":1389.2989905183999},{"$f":"D144","v":385.91638625511109},{"$f":"B153+C153","v":1775.215376773511}]
[{"$f":"A112","v":"Vigilante (44h semanais)"},1141.889581248,317.19155034666665,1459.0811315946667]
["-",0,0,0]
["-",0,0,0]
[{"$f":"A115","v":"Supervisor (44h semanais)"},1369.6672853760001,380.46313482666665,1750.1304202026668]
[]
["SUBMÓDULO 2.3 - BENEFÍCIOS MENSAIS E DIÁRIOS"]
["* O cálculo de benefícios mensais e diários dependerá das disposições constantes em Convenção Coletiva de Trabalho sobre os direitos negociados aos trabalhadores, observando sempre o custo efetivo a ser suportado pela Administração no contrato de prestação de serviços (descontados os valores arcados pelos empregados)."]
[]
["VALE TRANSPORTE"]
[]
["CUSTO DA PASSAGEM"]
["Categoria","Vr. Unitário","Vales por dia ","Dias efetivamente trabalhados","Custo total"]
["Vigilante (12x36 Diurno)",5.5,2,15,{"$f":"B166*C166*D166","v":165}]
["Vigilante (12x36 Noturno)",{"$f":"B166","v":5.5},{"$f":"C166","v":2},15,165]
["Vigilante (44h semanais)",{"$f":"B167","v":5.5},2,22,242]
["-",0,2,15,0]
["-",{"$f":"B169","v":0},2,15,0]
["Supervisor (44h semanais)",{"$f":"B166","v":5.5},2,22,242]
[]
["DESCONTO DO VALE TRANSPORTE"]
["Categoria","Base de cálculo","Proporcionalidade","Percentual","Desconto"]
["Vigilante (12x36 Diurno)",{"$f":"B12","v":2450.39},0.5,0.06,{"$f":"B175*C175*D175","v":73.51169999999999}]
["Vigilante (12x36 Noturno)",{"$f":"B12","v":2450.39},0.5,0.06,73.51169999999999]
["Vigilante (44h semanais)",{"$f":"B12","v":2450.39},1,0.06,147.02339999999998]
["-",0,0.5,0.06,0]
["-",0,0.5,0.06,0]
["Supervisor (44h semanais)",{"$f":"B13","v":2939.18},1,0.06,176.35079999999999]
[]
["CUSTO EFETIVO DO VALE TRANSPORTE"]
["Categoria","Custo total","Valor do desconto","Custo efetivo"]
["Vigilante (12x36 Diurno)",{"$f":"E166","v":165},{"$f":"E175","v":73.51169999999999},{"$f":"B184-C184","v":91.48830000000001}]
["Vigilante (12x36 Noturno)",165,73.51169999999999,{"$f":"B185-C185","v":91.48830000000001}]
["Vigilante (44h semanais)",242,147.02339999999998,94.976600000000019]
["-",0,0,0]
["-",0,0,0]
["Supervisor (44h semanais)",242,176.35079999999999,65.649200000000008]
[]
["VALE ALIMENTAÇÃO/REFEIÇÃO"]
[]
["VALE ALIMENTAÇÃO/REFEIÇÃO"]
["Categoria","Valor diário","Dias efetivamente trabalhados","Valor"]
["Vigilante (12x36 Diurno)",42.63,{"$f":"D166","v":15},{"$f":"B195*C195","v":639.45000000000005}]
["Vigilante (12x36 Noturno)",{"$f":"B195","v":42.63},{"$f":"D167","v":15},{"$f":"B196*C196","v":639.45000000000005}]
["Vigilante (44h semanais)",{"$f":"B196","v":42.63},22,937.86]
["-",0,15,0]
["-",{"$f":"B198","v":0},15,0]
["Supervisor (44h semanais)",{"$f":"B195","v":42.63},22,937.86]
[]
["DESCONTO DO VALE ALIMENTAÇÃO/REFEIÇÃO"]
["Categoria","Base de cálculo","Percentual","Desconto"]
["Vigilante (12x36 Diurno)",{"$f":"D195","v":639.45000000000005},0.02,{"$f":"B204*C204","v":12.789000000000001}]
["Vigilante (12x36 Noturno)",{"$f":"D196","v":639.45000000000005},{"$f":"C204","v":0.02},{"$f":"B205*C205","v":12.789000000000001}]
["Vigilante (44h semanais)",937.86,{"$f":"C205","v":0.02},18.757200000000001]
["-",0,{"$f":"C206","v":0.02},0]
["-",0,{"$f":"C207","v":0.02},0]
["Supervisor (44h semanais)",937.86,{"$f":"C208","v":0.02},18.757200000000001]
[]
["CUSTO EFETIVO DO VALE ALIMENTAÇÃO/REFEIÇÃO"]
["Categoria","Custo total","Desconto","Custo efetivo"]
["Vigilante (12x36 Diurno)",{"$f":"D195","v":639.45000000000005},{"$f":"D204","v":12.789000000000001},{"$f":"B213-C213","v":626.66100000000006}]
["Vigilante (12x36 Noturno)",{"$f":"D196","v":639.45000000000005},{"$f":"D205","v":12.789000000000001},{"$f":"B214-C214","v":626.66100000000006}]
["Vigilante (44h semanais)",937.86,18.757200000000001,919.1028]
["-",0,0,0]
["-",0,0,0]
["Supervisor (44h semanais)",937.86,18.757200000000001,919.1028]
[]
["BENEFÍCIO MÉDICO/HOSPITALAR, SEGURO DE VIDA E APOSENTADORIA\nUtilizar este campo em caso de outros benefícios previstos em Convenção Coletiva, sempre especificando o tipo, finalidade e previsão legal do mesmo."]
[]
["BENEFÍCIO MÉDICO/HOSPITALAR E OUTROS"]
["Categoria","Plano de Saúde","Fundo social odontológico","Fundo de indenização aposentadoria/invalidez","Seguro de vida",null,"Total"]
["Vigilante (12x36 Diurno)",151.9,9.76,15.19,14.28,null,{"$f":"B224+C224+D224+E224","v":191.13}]
["Vigilante (12x36 Noturno)",{"$f":"B224","v":151.9},{"$f":"C224","v":9.76},{"$f":"D224","v":15.19},{"$f":"E224","v":14.28},null,191.13]
["Vigilante (44h semanais)",{"$f":"B224","v":151.9},{"$f":"C224","v":9.76},{"$f":"D224","v":15.19},{"$f":"E224","v":14.28},null,191.13]
["-",0,0,0,0,null,0]
["-",{"$f":"B227","v":0},0,0,0,null,0]
["Supervisor (44h semanais)",{"$f":"B224","v":151.9},{"$f":"C224","v":9.76},{"$f":"D224","v":15.19},{"$f":"E224","v":14.28},null,191.13]
[]
["BENEFÍCIO YYY\nUtilizar este campo em caso de outros benefícios previstos em Convenção Coletiva, sempre especificando o tipo, finalidade e previsão legal do mesmo."]
[]
["BENEFÍCIO yyy"]
["Categoria"]
["Vigilante (12x36 Diurno)"]
["Vigilante (12x36 Noturno)"]
["Vigilante (44h semanais)"]
["-"]
["-"]
["Supervisor (44h semanais)"]
[]
["SUBMÓDULO 2.3 - BENEFÍCIOS MENSAIS E DIÁRIOS"]
["Categoria","Vale Transporte","Vale Refeição","Benefício médico/hospitalar","-","Total"]
["Vigilante (12x36 Diurno)",{"$f":"D184","v":91.48830000000001},{"$f":"D213","v":626.66100000000006},{"$f":"G224","v":191.13},{"$f":"D235","v":0},{"$f":"SUM(B244:E244)","v":909.27930000000003}]
["Vigilante (12x36 Noturno)",{"$f":"D185","v":91.48830000000001},{"$f":"D214","v":626.66100000000006},{"$f":"G225","v":191.13},0,{"$f":"SUM(B245:E245)","v":909.27930000000003}]
["Vigilante (44h semanais)",94.976600000000019,919.1028,191.13,0,1205.2094000000002]
["-",0,0,0,0,0]
["-",0,0,0,0,0]
["Supervisor (44h semanais)",65.649200000000008,919.1028,191.13,0,1175.8820000000001]
[]
["MÓDULO 2 - ENCARGOS E BENEFÍCIOS (ANUAIS, MENSAIS E DIÁRIOS)"]
[]
["MÓDULO 2 - ENCARGOS E BENEFÍCIOS (ANUAIS, MENSAIS E DIÁRIOS)"]
["Categoria","Submódulo 2.1","Submódulo 2.2","Submódulo 2.3","Total"]
["Vigilante (12x36 Diurno)",{"$f":"E110","v":779.38737933333323},{"$f":"D152","v":1459.0811315946667},{"$f":"F244","v":909.27930000000003},{"$f":"SUM(B255:D255)","v":3147.747810928}]
["Vigilante (12x36 Noturno)",948.2546448555554,1775.215376773511,909.27930000000003,3632.7493216290668]
["Vigilante (44h semanais)",779.38737933333323,1459.0811315946667,1205.2094000000002,3443.6779109280001]
["-",0,0,0,0]
["-",0,0,0,0]
["Supervisor (44h semanais)",934.85518533333322,1750.1304202026668,1175.8820000000001,3860.8676055360002]
[]
["MÓDULO 3 - PROVISÃO PARA RESCISÃO"]
["* Este módulo destina-se a calcular o custo de possível desligamento de um empregado vinculado ao contrato de prestação de seviços. \n* Na metodologia Seges calcula-se uma probabilidade de ocorrência, por tipos de desligamentos, como fator de ponderação do custo total."]
[]
["PERCENTUAIS POR TIPO DE\n DESLIGAMENTO"]
["Tipos","Percentual"]
["Demissão \nSEM  justa Causa",0.65620000000000001]
["SEM justa Causa\nAP INDENIZADO",{"$f":"B267*45%","v":0.29529}]
["SEM justa Causa \nAP TRABALHADO",{"$f":"B267*55%","v":0.36091000000000001}]
["Demissão\n COM  justa Causa",4.5100000000000001E-2]
["Desligamentos \nOUTROS TIPOS",0.29870000000000002]
["TOTAL",{"$f":"SUM(B268:B271)","v":1}]
[]
["SUBMÓDULO 3.1 - AVISO PRÉVIO INDENIZADO"]
["* Quando ocorrer a demissão de uma trabalhador e a empresa não conceder prazo de aviso prévio, o trabalhador terá direito a receber o salário referente ao mês completo, conforme dispõe o art. 487 § 1º da CLT.\n* A metodologia utilizada pela Seges computa todos os direitos do trabalhador, aplicando a proporcionalidade estimada de ocorrência de aviso prévio indenizado, relizando provisionamento mensal do custo.\n* Estes custos deverão ser apreciados atentamente nos casos de prorrogaçao contratual para verificar a necessidade de sua renovação ou não.\n* Deverão, ainda, ser obsrvados os ditames da Lei nº 12.506, de 2011 e seus impactos no custo quando das prorrogações contratuais."]
[]
["AVISO PRÉVIO INDENIZADO"]
["Categoria","Base de cálculo","Provisionamento Mensal","Valor"]
["Vigilante (12x36 Diurno)",{"$f":"G70+(E255-D134)","v":5191.3652296799992},12,{"$f":"B279/C279","v":432.61376913999993}]
["Vigilante (12x36 Noturno)",6119.1505144439998,{"$f":"C279","v":12},{"$f":"B280/C280","v":509.92920953699996}]
["Vigilante (44h semanais)",5487.2953296799997,{"$f":"C280","v":12},457.27461080666666]
["-",0,{"$f":"C281","v":12},0]
["-",0,{"$f":"C282","v":12},0]
["Supervisor (44h semanais)",6312.1343201599993,{"$f":"C283","v":12},526.01119334666657]
[]
["MULTA DO FGTS E CONTRIBUIÇÃO SOCIAL SOBRE O AVISO PRÉVIO INDENIZADO"]
["Categoria","Base de cálculo","Percentual da \nMulta","Valor"]
["Vigilante (12x36 Diurno)",{"$f":"D143","v":317.19155034666665},0.5,{"$f":"B288*C288","v":158.59577517333332}]
["Vigilante (12x36 Noturno)",385.91638625511109,0.5,{"$f":"B289*C289","v":192.95819312755555}]
["Vigilante (44h semanais)",317.19155034666665,0.5,158.59577517333332]
["-",0,0.5,0]
["-",0,0.5,0]
["Supervisor (44h semanais)",380.46313482666665,0.5,190.23156741333332]
[]
["SUBMÓDULO 3.1 - CUSTO DO AVISO PRÉVIO INDENIZADO"]
["Categoria","Base de cálculo","Percentual","Valor"]
["Vigilante (12x36 Diurno)",{"$f":"D279+D288","v":591.20954431333325},{"$f":"$B$268","v":0.29529},{"$f":"B297*C297","v":174.57826634028419}]
["Vigilante (12x36 Noturno)",{"$f":"D280+D289","v":702.88740266455557},{"$f":"$B$268","v":0.29529},{"$f":"B298*C298","v":207.55562113281661}]
["Vigilante (44h semanais)",615.87038598000004,0.29529,181.8603662760342]
["-",0,0.29529,0]
["-",0,0.29529,0]
["Supervisor (44h semanais)",716.2427607599999,0.29529,211.49932482482038]
[]
["SUBMÓDULO 3.2 - AVISO PRÉVIO TRABALHADO"]
["* Quando ocorrer a demissão de um trabalhador com aviso prévio, o trabalhador cumprirá os dias em atividade, e terá direito a receber o salário referente ao mês completo, conforme dispõe o art. 487 § 1º da CLT.\n* A metodologia utilizada pela Seges computa todos os direitos do trabalhador, aplicando a proporcionalidade estimada de ocorrência de aviso prévio trabalhado, relizando provisionamento mensal do custo.\n* Estes custos deverão ser apreciados atentamente nos casos de prorrogaçao contratual para verificar a necessidade de sua renovação ou não.\n* Deverão, ainda, ser observados os ditames da Lei nº 12.506, de 2011, e seus impactos no custo quando das prorrogações contratuais."]
[]
["AVISO PRÉVIO TRABALHADO"]
["Categoria","Base de cálculo","Provisionamento Mensal","Valor"]
["Vigilante (12x36 Diurno)",{"$f":"G70+E255","v":6333.2548109279996},12,{"$f":"B309/C309","v":527.77123424399997}]
["Vigilante (12x36 Noturno)",7508.4495049624002,12,{"$f":"B310/C310","v":625.70412541353335}]
["Vigilante (44h semanais)",6629.1849109279992,12,552.43207591066664]
["-",0,12,0]
["-",0,12,0]
["Supervisor (44h semanais)",7681.8016055360004,12,640.15013379466666]
[]
["MULTA DO FGTS E CONTRIBUIÇÃO SOCIAL SOBRE O AVISO PRÉVIO TRABALHADO"]
["Categoria","Base de cálculo","Percentual da \nMulta","Valor"]
["Vigilante (12x36 Diurno)",{"$f":"D143","v":317.19155034666665},0.5,{"$f":"B318*C318","v":158.59577517333332}]
["Vigilante (12x36 Noturno)",385.91638625511109,0.5,{"$f":"B319*C319","v":192.95819312755555}]
["Vigilante (44h semanais)",317.19155034666665,0.5,158.59577517333332]
["-",0,0.5,0]
["-",0,0.5,0]
["Supervisor (44h semanais)",380.46313482666665,0.5,190.23156741333332]
[]
["SUBMÓDULO 3.2 - CUSTO DO AVISO PRÉVIO TRABALHADO"]
["Categoria","Base de cálculo","Percentual","Valor"]
["Vigilante (12x36 Diurno)",{"$f":"D309+D318","v":686.36700941733329},{"$f":"$B$269","v":0.36091000000000001},{"$f":"B327*C327","v":247.71671736880975}]
["Vigilante (12x36 Noturno)",{"$f":"D310+D319","v":818.66231854108889},{"$f":"$B$269","v":0.36091000000000001},{"$f":"B328*C328","v":295.46341738466441}]
["Vigilante (44h semanais)",711.02785108399996,0.36091000000000001,256.61706173472641]
["-",0,0.36091000000000001,0]
["-",0,0.36091000000000001,0]
["Supervisor (44h semanais)",830.38170120799998,0.36091000000000001,299.69305978297928]
[]
["SUBMÓDULO 3.3 - DEMISSÃO POR JUSTA CAUSA"]
["*Na hipotese de demissão por justa causa o empregado perde o direito ao pagamento de 13° salário, férias e adicional de férias, como previsto no parágrafo único do art. 146 da CLT.\n* Para estes casos,  na metodologia Seges, haverá o desconto dos valores que, por tratar-se de provisão mensal, deverão ser reduzidos da fatura da empresa contratada.\n* Igualmente, o cômputo de custos com demissão por justa causa considera a probabilidade de ocorrência desta para provisionamento."]
[]
["BASE DE CÁLCULO PARA DEMISSÃO POR JUSTA CAUSA"]
["Categoria","Valor provisionado do 13º Salário","Valor provisionado das Férias","Valor provisionado do Adicional de Férias","Valor"]
["Vigilante (12x36 Diurno)",{"$f":"-D83","v":-265.4589166666666},{"$f":"-D92","v":-385.44634699999995},{"$f":"-E101","v":-128.48211566666663},{"$f":"SUM(B339:D339)","v":-779.38737933333323}]
["Vigilante (12x36 Noturno)",-322.97501527777774,-468.95972218333327,-156.31990739444441,-948.2546448555554]
["Vigilante (44h semanais)",-265.4589166666666,-385.44634699999995,-128.48211566666663,-779.38737933333323]
["-",0,0,0,0]
["-",0,0,0,0]
["Supervisor (44h semanais)",-318.41116666666665,-462.33301399999993,-154.11100466666664,-934.85518533333322]
[]
["SUBMÓDULO 3.3 - CUSTO DA DEMISSÃO COM JUSTA CAUSA"]
["Categoria","Base de Cálculo","Percentual","Valor"]
["Vigilante (12x36 Diurno)",{"$f":"E339","v":-779.38737933333323},{"$f":"$B$270","v":4.5100000000000001E-2},{"$f":"B348*C348","v":-35.150370807933328}]
["Vigilante (12x36 Noturno)",-948.2546448555554,{"$f":"$B$270","v":4.5100000000000001E-2},{"$f":"B349*C349","v":-42.766284482985547}]
["Vigilante (44h semanais)",-779.38737933333323,4.5100000000000001E-2,-35.150370807933328]
["-",0,4.5100000000000001E-2,0]
["-",0,4.5100000000000001E-2,0]
["Supervisor (44h semanais)",-934.85518533333322,4.5100000000000001E-2,-42.161968858533328]
[]
["MÓDULO 3 - PROVISÃO PARA RESCISÃO"]
[]
["MÓDULO 3 - PROVISÃO PARA RESCISÃO"]
["Categoria","Submódulo 3.1","Submódulo 3.2","Submódulo 3.3","Total"]
["Vigilante (12x36 Diurno)",{"$f":"D297","v":174.57826634028419},{"$f":"D327","v":247.71671736880975},{"$f":"D348","v":-35.150370807933328},{"$f":"SUM(B359:D359)","v":387.1446129011606}]
["Vigilante (12x36 Noturno)",207.55562113281661,295.46341738466441,{"$f":"D349","v":-42.766284482985547},460.25275403449547]
["Vigilante (44h semanais)",181.8603662760342,256.61706173472641,-35.150370807933328,403.32705720282729]
["-",0,0,0,0]
["-",0,0,0,0]
["Supervisor (44h semanais)",211.49932482482038,299.69305978297928,-42.161968858533328,469.03041574926635]
[]
["MÓDULO 4 - CUSTO DE REPOSIÇÃO DO PROFISSIONAL AUSENTE"]
["* O Custo de reposição do profissional ausente refere-se ao custo necessário para substituir, no posto de trabalho, o profissional residente quando estiver em gozo de férias ou no caso de um das ausências legais previstas no art 473 da Consolidação das Leis do Trabalho. \n* Na metodologia Seges utiliza-se uma probabilidade de ocorrência, mediante estatísticas da Relação Anual de Informações Sociais-2016 (RAIS/MTE), da Pesquisa Nacional por Amostra de Domicílios-2016 (PNAD/IBGE), do Registro Civil (IBGE)-2016.\n* São computados, então, a probabilidade de dias de ausência para cobertura, conforme escala de trabalho mensal.\n* Para jornadas jornadas 12x36h a necessidade de reposição incide somente em 50% do dias de ausência devido à escala. \n* Na jornada 44h computa-se somente a reposição nos dias úteis, portanto, 69,04% da ausência total."]
[]
["Probabilidade de ocorrência de ausências legais, conforme previsão do art. 473 da Consolidação das Leis do Trabalho."]
["Memória de Cálculo - número de dias de reposição do profissional ausente para cada evento "]
["Categoria","Incidencia anual","Duração Legal  \nda Ausência","12x36",null,"44h"]
[null,null,null,"Proporção dias afetados","Dias de reposição","Proporção dias afetados","Dias de reposição"]
["Férias",1,30,0.5,{"$f":"(B373*C373)*D373","v":15},{"$f":"(252/365)","v":0.69041095890410964},{"$f":"(B373*C373)*F373","v":20.712328767123289}]
["Ausência justificada",1,1,1,1,1,1]
["Acidente trabalho",9.2200000000000004E-2,15,0.5,0.6915,{"$f":"(252/365)","v":0.69041095890410964},0.95483835616438362]
["Afastamento por doença",1,5,0.5,2.5,{"$f":"(252/365)","v":0.69041095890410964},3.4520547945205484]
["Consulta médica filho",0.13439999999999999,2,1,0.26879999999999998,1,0.26879999999999998]
["Óbitos na família",3.0499999999999999E-2,2,0.5,3.0499999999999999E-2,{"$f":"(252/365)","v":0.69041095890410964},4.2115068493150686E-2]
["Casamento",1.18E-2,3,0.5,1.77E-2,1,3.5400000000000001E-2]
["Doação de sangue",0.02,1,1,0.02,1,0.02]
["Testemunho",4.0000000000000001E-3,1,1,4.0000000000000001E-3,1,4.0000000000000001E-3]
["Paternidade",1,20,0.5,10,{"$f":"(252/365)","v":0.69041095890410964},13.808219178082194]
["Maternidade",0,180,0.5,0,{"$f":"(252/365)","v":0.69041095890410964},0]
["curso de reciclagem",0.5,5,1,2.5,1,2.5]
[]
["ESTIMATIVA DA NECESSIDADE DE REPOSIÇÃO DE PROFISSIONAL"]
["Composição","ESCALAS -  Cargo A"]
[null," 12 x 36 D","12 x 36 N","44 SEM"]
["Férias",{"$f":"E373","v":15},{"$f":"E373","v":15},{"$f":"G373","v":20.712328767123289}]
["Ausência justificada",1,1,1]
["Acidente trabalho",0.6915,0.6915,0.95483835616438362]
["Afastamento por doença",2.5,2.5,3.4520547945205484]
["Consulta médica filho",0.26879999999999998,0.26879999999999998,0.26879999999999998]
["Óbitos na família",3.0499999999999999E-2,3.0499999999999999E-2,4.2115068493150686E-2]
["Casamento",1.77E-2,1.77E-2,3.5400000000000001E-2]
["Doação de sangue",0.02,0.02,0.02]
["Testemunho",4.0000000000000001E-3,4.0000000000000001E-3,4.0000000000000001E-3]
["Paternidade",10,10,13.808219178082194]
["Maternidade",0,0,0]
["Consulta pré-natal",2.5,2.5,2.5]
["Total Para reposição",{"$f":"SUM(B389:B400)","v":32.032499999999999},{"$f":"SUM(C389:C400)","v":32.032499999999999},{"$f":"SUM(D389:D400)","v":42.797756164383564}]
[]
["SUBMÓDULO 4.1 - AUSÊNCIAS LEGAIS"]
["* O Submódulo 4.1 destina-se ao cálculo do custo estimado para a reposição de ausências legais do empregado residente.\n* Na metodologia Seges computa-se o custo total de um empregado, com direito à remuneração, 13° salário, férias, encargos e benefícios, bem como probabilidade de rescisão, para a base de cálculo do presente submódulo que, em seguida, servirá para estipular o custo diário de um profissional para a contratação. \n* Com base neste custo diário estima-se o custo mensal com reposição de profissional ausente."]
[]
["CUSTO DIÁRIO PARA O REPOSITOR"]
["Categoria","Base de cálculo","Divisor do dia","Custo diário"]
["Vigilante (12x36 Diurno)",{"$f":"G70+E255+E359","v":6720.3994238291598},30,{"$f":"B408/C408","v":224.01331412763867}]
["Vigilante (12x36 Noturno)",7968.7022589968956,{"$f":"C408","v":30},{"$f":"B409/C409","v":265.62340863322987}]
["Vigilante (44h semanais)",7032.5119681308261,{"$f":"C409","v":30},234.41706560436086]
["-",0,{"$f":"C410","v":30},0]
["-",0,{"$f":"C411","v":30},0]
["Supervisor (44h semanais)",8150.8320212852668,{"$f":"C412","v":30},271.6944007095089]
[]
["SUBMÓDULO 4.1 - AUSÊNCIAS LEGAIS"]
["Categoria","Custo diário","Necessidade de Reposição","Custo anual","Custo mensal"]
["Vigilante (12x36 Diurno)",{"$f":"D408","v":224.01331412763867},{"$f":"B401","v":32.032499999999999},{"$f":"B417*C417","v":7175.7064847935853},{"$f":"D417/12","v":597.97554039946544}]
["Vigilante (12x36 Noturno)",{"$f":"D409","v":265.62340863322987},{"$f":"C401","v":32.032499999999999},{"$f":"B418*C418","v":8508.5818370439356},709.048486420328]
["Vigilante (44h semanais)",234.41706560436086,{"$f":"D401","v":42.797756164383564},10032.52441450574,836.04370120881174]
["-",0,{"$f":"B401","v":32.032499999999999},0,0]
["-",0,{"$f":"C401","v":32.032499999999999},0,0]
["Supervisor (44h semanais)",271.6944007095089,{"$f":"D401","v":42.797756164383564},11627.910712793882,968.99255939949023]
[]
["SUBMÓDULO 4.2 - INTRAJORNADA"]
["* O submódulo 4.2 destina-se a calcular o custo de um repositor para cobertura do tempo de concessão do intervalo para repouso e alimentação, previsto no art. 71 da Consolidação das Leis do Trabalho, ao empregado residente. \n* Na metodologia Seges, calcula-se o custo da hora de trabalho e multiplica-se pela necessidade de horas de cobertura no mês. \n* Por tratar-se de condição excepcional, dependerá de decisão do órgão contratante, bem como de disposições constantes da Convenção Coletiva quanto ao tempo de intervalo e ao adicional para pagamento.\n* Não se computa custo de reposição intrajornada para supervisores por considerar que estes não realizam a cobertura de posto de trabalho e poderiam se ausentar durante o tempo previsto em lei, definição que também deverá ser objeto de apreciação pelos órgãos contratantes."]
[]
["CUSTO POR HORA DO REPOSITOR"]
["Categoria","Base de cálculo","divisor de hora","Valor"]
["Vigilante (12x36 Diurno)",null,220,{"$f":"B429/C429","v":0}]
["Vigilante (12x36 Noturno)",null,{"$f":"C429","v":220},{"$f":"B430/C430","v":0}]
["Vigilante (44h semanais)",null,{"$f":"C430","v":220},0]
[]
["SUBMÓDULO 4.2 - INTRAJORNADA"]
["Categoria","Valor da hora","Necessidade de Reposição (horas)","Valor"]
["Vigilante (12x36 Diurno)",{"$f":"D429","v":0},null,{"$f":"B435*C435","v":0}]
["Vigilante (12x36 Noturno)",{"$f":"D430","v":0},null,{"$f":"B436*C436","v":0}]
["Vigilante (44h semanais)",0,null,0]
[]
["MÓDULO 4 - CUSTO DE REPOSIÇÃO DO PROFISSIONAL AUSENTE"]
[]
["MÓDULO 4 - CUSTO DE REPOSIÇÃO DO PROFISSIONAL AUSENTE"]
["Categoria","Submódulo 4.1","Submódulo 4.2","Total"]
["Vigilante (12x36 Diurno)",{"$f":"E417","v":597.97554039946544},{"$f":"D435","v":0},{"$f":"B443+C443","v":597.97554039946544}]
["Vigilante (12x36 Noturno)",709.048486420328,{"$f":"D436","v":0},{"$f":"B444+C444","v":709.048486420328}]
["Vigilante (44h semanais)",836.04370120881174,0,836.04370120881174]
["-",0,null,0]
["-",0,null,0]
["Supervisor (44h semanais)",968.99255939949023,0,968.99255939949023]
[]
["MÓDULO 5 - INSUMOS DE MÃO DE OBRA"]
[]
["UNIFORMES - COMPOSIÇÃO - VALOR ANUAL "]
["Item",null,"Valor médio unitário","Quantidade\n(12x36 h e 44h)","12x36 h e 44h","Quantidade\n(44h supervisor)","44h supervisor","Valor total"]
["Camisa (cor padrão da empresa) manga curta, em tecido de boa qualidade, contendo o emblema da Contratada bordado no lado superior esquerdo ou direito.",null,{"$f":"'Cálculo materiais uniformes'!C4","v":0},6,{"$f":"(C454*D454)*12","v":0},4,{"$f":"(C454*F454)*1","v":0},{"$f":"E454+G454","v":0}]
["Camisa Interna manga curta (malha fria na cor preta com logomarca da empresa no lado superior esquerdo ou direito",null,{"$f":"'Cálculo materiais uniformes'!C5","v":0},6,{"$f":"(C455*D455)*12","v":0},4,{"$f":"(C455*F455)*1","v":0},{"$f":"E455+G455","v":0}]
["Camisa tipo gola pólo, na cor preta, manga curta, com logomarca da empresa no lado superior esquerdo ou direito e inscrição nas costas “VIGILANTE SUPERVISOR”",null,{"$f":"'Cálculo materiais uniformes'!C18","v":0},0,0,4,{"$f":"(C456*F456)*1","v":0},0]
["Jaqueta de frio, (cor padrão da empresa) , em tecido de qualidade, forrado internamente, inclusive na manga, com 2 (dois) bolsos inferiores, contendo o emblema da Contratada bordado no lado superior esquerdo.",null,{"$f":"'Cálculo materiais uniformes'!C6","v":0},1,0,1,0,0]
["Calça tipo tática em tecido ripstop na mesma cor da jaqueta.",null,{"$f":"'Cálculo materiais uniformes'!C7","v":0},6,0,6,0,0]
["Par de meia social em tecido liso, 100%  algodão, na cor preta.",null,{"$f":"'Cálculo materiais uniformes'!C21","v":0},0,0,6,0,0]
["Sapato modelo social, de boa qualidade, em couro, na cor preta, solado antiderrapante.",null,{"$f":"'Cálculo materiais uniformes'!C22","v":0},0,0,2,0,0]
["Bota tipo coturno tático operacional operacional",null,{"$f":"'Cálculo materiais uniformes'!C9","v":0},2,0,0,0,0]
["Par de Meia em algodão, tipo soquete.",null,{"$f":"'Cálculo materiais uniformes'!C8","v":0},6,0,0,0,0]
["Boné (padrão da empresa) para utilização no posto externo.",null,{"$f":"'Cálculo materiais uniformes'!C10","v":0},8,0,0,0,0]
["Custo anual por Pessoa  ",null,{"$f":"SUM(C454:C463)","v":0},null,{"$f":"SUM(E454:E463)","v":0},null,{"$f":"SUM(G454:G463)","v":0},{"$f":"SUM(H454:H463)","v":0}]
[]
["UNIFORMES"]
["Categoria","Custo anual","Custo mensal "]
["Vigilante (12x36 Diurno)",{"$f":"E464","v":0},{"$f":"B468/12","v":0}]
["Vigilante (12x36 Noturno)",{"$f":"E464","v":0},{"$f":"B469/12","v":0}]
["Vigilante (44h semanais)",{"$f":"E464","v":0},{"$f":"B470/12","v":0}]
["-"]
["-"]
["Supervisor (44h semanais)",{"$f":"G464","v":0},{"$f":"B473/12","v":0}]
[]
["Equipamentos  "]
["Descrição","Valor médio unitário","Quantidade","TOTAL","12x36 h","44 h","44 h Supervisor","Duração dos itens \n(vida útil)"]
["Apito de metal, com cordão trançado",{"$f":"'Cálculo materiais uniformes'!C28","v":0},13,{"$f":"B477*C477","v":0},{"$f":"D477/13*8","v":0},{"$f":"D477/13*4","v":0},{"$f":"D477/13*1","v":0}]
["Livro de Ocorrências",{"$f":"'Cálculo materiais uniformes'!C29","v":0},5,{"$f":"B478*C478","v":0},{"$f":"D478/13*8","v":0},{"$f":"D478/13*4","v":0},{"$f":"D478/13*1","v":0}]
["Revólver calibre 38 com, no mínimo, cinco tiros (padrão)",{"$f":"'Cálculo materiais uniformes'!C30","v":0},2,0,0,0,0]
["Munições de calibre 38 ",{"$f":"'Cálculo materiais uniformes'!C31","v":0},10,0,0,0,0]
["Lanterna Tática Profissional portátil (com bateria recarregável e carregador)",{"$f":"'Cálculo materiais uniformes'!C32","v":0},5,0,0,0,0]
["Colete Balístico Nível III, conforme Portaria 191/2006   M.T.E (Novo, placa com validade de 5 anos)",{"$f":"'Cálculo materiais uniformes'!C33","v":0},9,0,0,0,0]
["Capa para guarda de colete balístico (Colete tático)",{"$f":"'Cálculo materiais uniformes'!C34","v":0},9,0,0,0,0]
["Cinto tático guarnição completa (com coldre, porta munição, porta lanterna e porta tonfa)",{"$f":"'Cálculo materiais uniformes'!C35","v":0},13,0,0,0,0]
["Tonfa em fibra",{"$f":"'Cálculo materiais uniformes'!C36","v":0},13,0,0,0,0]
["Espargidor defensivo (Spray de pimenta)",{"$f":"'Cálculo materiais uniformes'!C37","v":0},13,0,0,0,0]
["Capa de Chuva (Em PVC, seu comprimento é de tamanho longo, protegendo o tronco e pernas, possuir botões de pressão de boa qualidade).",{"$f":"'Cálculo materiais uniformes'!C38","v":0},5,0,0,0,0]
["Protetor solar (postos externos com validade dentro da vigência do contrato)",{"$f":"'Cálculo materiais uniformes'!C39","v":0},12,0,0,0,0]
["Cofre de segurança para revólveres",{"$f":"'Cálculo materiais uniformes'!C40","v":0},1,0,0,0,0]
["Rádio de comunicação móvel e portátil (transmissor HT) com base e carregadores",{"$f":"'Cálculo materiais uniformes'!C41","v":0},13,0,0,0,0]
["Valor total ",null,null,{"$f":"SUM(D477:D490)","v":0},{"$f":"SUM(E477:E490)","v":0},{"$f":"SUM(F477:F490)","v":0},{"$f":"SUM(G477:G490)","v":0}]
[]
["CUSTO MENSAL DOS EQUIPAMENTOS"]
["Categoria","Custo anual","Custo mensal","Valor por empregado"]
["Vigilante (12x36 Diurno)",{"$f":"E491","v":0},{"$f":"B495/12","v":0},{"$f":"C495/4","v":0}]
["Vigilante (12x36 Noturno)",{"$f":"E491","v":0},{"$f":"B496/12","v":0},{"$f":"C496/4","v":0}]
["Vigilante (44h semanais)",{"$f":"F491","v":0},{"$f":"B497/12","v":0},{"$f":"C497/4","v":0}]
["-"]
["-"]
["Supervisor (44h semanais)",{"$f":"G491","v":0},{"$f":"B500/12","v":0},{"$f":"C500/1","v":0}]
[]
["MÓDULO 5 - INSUMOS DE MÃO DE OBRA"]
["Categoria","Custo com Uniformes","Custo com Equipamentos","Valor"]
["Vigilante (12x36 Diurno)",{"$f":"C468","v":0},{"$f":"D495","v":0},{"$f":"SUM(B504:C504)","v":0}]
["Vigilante (12x36 Noturno)",{"$f":"C469","v":0},0,{"$f":"SUM(B505:C505)","v":0}]
["Vigilante (44h semanais)",0,0,{"$f":"SUM(B506:C506)","v":0}]
["-",0,0,0]
["-",0,0,0]
["Supervisor (44h semanais)",0,0,{"$f":"SUM(B509:C509)","v":0}]
[]
["MÓDULO 6 - CUSTOS INDIRETOS, TRIBUTOS E LUCRO"]
[]
["INFORMAÇÃO DE PERCENTUAIS ESTIMADOS DE CITL"]
["Custos Indiretos",0.06]
["Tributos",8.6499999999999994E-2]
["Lucro",6.7900000000000002E-2]
[]
["MÓDULO 6 - CUSTOS INDIRETOS, TRIBUTOS E LUCRO"]
["Categoria","Base de cálculo","Percentual","Valor"]
["Vigilante (12x36 Diurno)",{"$f":"G70+E255+E359+D443+D504","v":7318.3749642286257},{"$f":"((1+$B$514)/(1-$B$515-$B$516))-1","v":0.25354777672658479},{"$f":"B520*C520","v":1855.5577014316675}]
["Vigilante (12x36 Noturno)",8677.7507454172228,{"$f":"((1+$B$514)/(1-$B$515-$B$516))-1","v":0.25354777672658479},{"$f":"B521*C521","v":2200.2244084880008}]
["Vigilante (44h semanais)",7868.5556693396375,0.25354777672658479,1995.0547960104293]
["-",0,0.25354777672658479,0]
["-",0,0.25354777672658479,0]
["Supervisor (44h semanais)",9119.8245806847572,0.25354777672658479,2312.3112465690788]
[]
["RATEIO DO Cargo B"]
["* Para os casos em que há Supervisor e este não for contratado como um posto de trabalho, a exemplo dos serviços de vigilância patrimonial, seu custo deverá ser rateado pelo total de empregados supervisionados, conforme disposição do Anexo VII-D da Insrução Normativa n° 5, de 2017."]
[]
["RATEIO DA CHEFIA DE CAMPO"]
["Categoria","Base de cálculo","Subordinados","Valor"]
["-",{"$f":"G73+E258+E362+D446+D507+D523","v":0},null,{"$f":"B532/C532","v":{"$error":"#DIV/0!"}}]
["-",{"$f":"G74+E259+E363+D447+D508+D524","v":0},{"$f":"C532","v":0},{"$f":"B533/C533","v":{"$error":"#DIV/0!"}}]
["Supervisor (44h semanais)",{"$f":"G75+E260+E364+D448+D509+D525","v":11432.135827253836},null,{"$error":"#DIV/0!"}]
[]
["CUSTO DO TRABALHADOR"]
[]
["CUSTO TOTAL POR TRABALHADOR"]
["Módulo","12x36 Diurno","12x36 Noturno","44h Semanais","44h Semanais (Supervisor)"]
["Remuneração",{"$f":"G70","v":3185.5069999999996},{"$f":"G71","v":3875.7001833333329},{"$f":"G72","v":3185.5069999999996},{"$f":"G75","v":3820.9339999999997}]
["Encargos e Benefícios",{"$f":"E255","v":3147.747810928},{"$f":"E256","v":3632.7493216290668},{"$f":"E257","v":3443.6779109280001},{"$f":"E260","v":3860.8676055360002}]
["Rescisão",{"$f":"E359","v":387.1446129011606},{"$f":"E360","v":460.25275403449547},{"$f":"E361","v":403.32705720282729},{"$f":"E364","v":469.03041574926635}]
["Reposição do Profissional Ausente",{"$f":"D443","v":597.97554039946544},{"$f":"D444","v":709.048486420328},{"$f":"D445","v":836.04370120881174},{"$f":"D448","v":968.99255939949023}]
["Insumos Diversos",{"$f":"D504","v":0},{"$f":"D505","v":0},{"$f":"D506","v":0},{"$f":"D509","v":0}]
["Custos Indiretos, Tributos e Lucro",{"$f":"D520","v":1855.5577014316675},{"$f":"D521","v":2200.2244084880008},{"$f":"D522","v":1995.0547960104293},{"$f":"D525","v":2312.3112465690788}]
["Rateio da Chefia de Campo",{"$f":"D532","v":{"$error":"#DIV/0!"}},{"$f":"D533","v":{"$error":"#DIV/0!"}},{"$f":"D532","v":{"$error":"#DIV/0!"}},{"$f":"D534","v":{"$error":"#DIV/0!"}}]
["Valor por Empregado",{"$f":"SUM(B540:B546)","v":{"$error":"#DIV/0!"}},{"$f":"SUM(C540:C546)","v":{"$error":"#DIV/0!"}},{"$f":"SUM(D540:D546)","v":{"$error":"#DIV/0!"}},{"$f":"SUM(E540:E546)","v":{"$error":"#DIV/0!"}}]
["Valor por Posto",{"$f":"B547*2","v":{"$error":"#DIV/0!"}},{"$f":"C547*2","v":{"$error":"#DIV/0!"}},{"$f":"D547*1","v":{"$error":"#DIV/0!"}},{"$f":"E547*1","v":{"$error":"#DIV/0!"}}]
[]
["Item","Tipo de Serviço","Qtde. de Postos","Qtde. de empregados no posto","Valor por empregado","Valor por posto (MENSAL)","Valor por posto (MENSAL)","Valor por posto (ANUAL)"]
["I","Vigilante armado - noturno - 12x36h",2,4,{"$f":"C547","v":{"$error":"#DIV/0!"}},{"$f":"E551*D551","v":{"$error":"#DIV/0!"}},{"$f":"E551*D551","v":{"$error":"#DIV/0!"}},{"$f":"G551*12","v":{"$error":"#DIV/0!"}}]
["II","Vigilante armado - diurno - 12x36h",2,4,{"$f":"B547","v":{"$error":"#DIV/0!"}},{"$error":"#DIV/0!"},{"$f":"E552*D552","v":{"$error":"#DIV/0!"}},{"$f":"G552*12","v":{"$error":"#DIV/0!"}}]
["III","Vigilante diurno 44h",1,4,{"$f":"D547","v":{"$error":"#DIV/0!"}},{"$error":"#DIV/0!"},{"$f":"E553*D553","v":{"$error":"#DIV/0!"}},{"$f":"G553*12","v":{"$error":"#DIV/0!"}}]
["IV","Supervisor - 44h ",1,1,{"$f":"E547","v":{"$error":"#DIV/0!"}},{"$error":"#DIV/0!"},{"$f":"E554*D554","v":{"$error":"#DIV/0!"}},{"$f":"G554*12","v":{"$error":"#DIV/0!"}}]
["TOTAL",null,{"$f":"SUM(C551:C554)","v":6},{"$f":"SUM(D551:D554)","v":13},"-","-","-","-"]
[null,null,"VALOR MENSAL DOS SERVIÇOS",null,null,{"$f":"SUM(F551:F555)","v":{"$error":"#DIV/0!"}},{"$f":"SUM(G551:G555)","v":{"$error":"#DIV/0!"}},"-"]
[null,null,"VALOR ANUAL DOS SERVIÇOS - TOTAL GLOBAL",{"$nulls":4},{"$f":"SUM(H551:H556)","v":{"$error":"#DIV/0!"}}]

{"sheet":"Cálculo materiais uniformes","index":1,"n_rows":42,"n_cols":5,"rows_kept":42,"cut":false,"hidden":false,"merged":[[0,0,0,4],[25,0,25,4],[41,0,41,3],[13,0,13,4],[10,0,10,3],[11,0,11,3],[22,0,22,3],[23,0,23,3],[1,0,1,4]]}
["MEMÓRIA DE CÁLCULO DE MATERIAIS E UNIFORMES"]
["UNIFORME MASCULINO VIGILANTE "]
["ITEM","DESCRIÇÃO","VALOR MÉDIO UNITÁRIO ","QUANTIDADE ANUAL","VALOR TOTAL ANUAL"]
[1,"Camisa (cor padrão da empresa) manga curta, em tecido de boa qualidade, contendo o emblema da Contratada bordado no lado superior esquerdo ou direito.",null,null,{"$f":"C4*D4","v":0}]
[2,"camisa Interna manga curta (malha fria na cor preta com logomarca da empresa no lado superior esquerdo ou direito",null,null,{"$f":"C5*D5","v":0}]
[3,"Jaqueta de frio, (cor padrão da empresa) , em tecido de qualidade, forrado internamente, inclusive na manga, com 2 (dois) bolsos inferiores, contendo o emblema da Contratada bordado no lado superior esquerdo.",null,null,0]
[4,"Calça tipo tática em tecido ripstop na mesma cor da jaqueta.",null,null,0]
[5,"Par de Meia em algodão, tipo soquete.",null,null,0]
[6,"Bota tipo coturno tático operacional operacional",null,null,0]
[7,"Boné (padrão da empresa) para utilização no posto externo.",null,null,0]
["VALOR TOTAL",null,null,null,{"$f":"SUM(E4:E10)","v":0}]
["VALOR MENSAL POR VIGILANTE",null,null,null,{"$f":"E11/13","v":0}]
[]
["UNIFORME MASCULINO SUPERVISOR"]
["ITEM","DESCRIÇÃO","VALOR MÉDIO UNITÁRIO ","QUANTIDADE ANUAL","VALOR TOTAL ANUAL"]
[1,"Camisa (cor padrão da empresa) manga curta, em tecido de boa qualidade, contendo o emblema da Contratada bordado no lado superior esquerdo ou direito.",null,null,{"$f":"C16*D16","v":0}]
[2,"Camisa Interna manga curta (malha fria na cor preta com logomarca da empresa no lado superior esquerdo ou direito",null,null,{"$f":"C17*D17","v":0}]
[3,"Camisa tipo gola pólo, na cor preta, manga curta, com logomarca da empresa no lado superior esquerdo ou direito e inscrição nas costas “VIGILANTE SUPERVISOR”",null,null,0]
[4,"Jaqueta de frio, (cor padrão da empresa) , em tecido de qualidade, forrado internamente, inclusive na manga, com 2 (dois) bolsos inferiores, contendo o emblema da Contratada bordado no lado superior esquerdo.",null,null,0]
[5,"Calça tipo tática em tecido ripstop na mesma cor da jaqueta.",null,null,0]
[6,"Par de meia social em tecido liso, 100%  algodão, na cor preta.",null,null,0]
[7,"Sapato modelo social, de boa qualidade, em couro, na cor preta, solado antiderrapante.",null,null,0]
["VALOR TOTAL",null,null,null,{"$f":"SUM(E16:E22)","v":0}]
["VALOR MENSAL POR VIGILANTE",null,null,null,{"$f":"E23/1","v":0}]
[]
["EQUIPAMENTO E MATERIAL"]
["ITEM","DESCRIÇÃO","VALOR MÉDIO UNITÁRIO ","QUANTIDADE ","VALOR TOTAL"]
[1,"Apito de metal, com cordão trançado",null,null,{"$f":"C28*D28","v":0}]
[2,"Livro de Ocorrências",null,null,{"$f":"C29*D29","v":0}]
[3,"Revólver calibre 38 com, no mínimo, cinco tiros (padrão)",null,null,0]
[4,"Munições de calibre 38 ",null,null,0]
[5,"Lanterna Tática Profissional portátil (com bateria recarregável e carregador)",null,null,{"$f":"C32*D32","v":0}]
[6,"Colete Balístico Nível III, conforme Portaria 191/2006   M.T.E (Novo, placa com validade de 5 anos)",null,null,{"$f":"C33*D33","v":0}]
[8,"Capa para guarda de colete balístico (Colete tático)",null,null,0]
[9,"Cinto tático guarnição completa (com coldre, porta munição, porta lanterna e porta tonfa)",null,null,0]
[10,"Tonfa em fibra",null,null,0]
[11,"Espargidor defensivo (Spray de pimenta)",null,null,0]
[12,"Capa de Chuva (Em PVC, seu comprimento é de tamanho longo, protegendo o tronco e pernas, possuir botões de pressão de boa qualidade).",null,null,0]
[13,"Protetor solar (postos externos com validade dentro da vigência do contrato)",null,null,0]
[14,"Cofre de segurança para revólveres",null,null,0]
[15,"Rádio de comunicação móvel e portátil (transmissor HT) com base e carregadores",null,null,0]
["TOTAL",null,null,null,{"$f":"SUM(E28:E41)","v":0}]