{"text_format":"2","workbook":"xlsx","n_sheets":7,"sheets":["Escopo de Fornecimento","CPU - ITEM 1","CPU - ITEM 2","COTAÇÕES","BDI","Det.Encargos Sociais","Cronograma"],"not_rendered":{"charts":2,"images":4,"macros":0,"external_links":0,"defined_names":1,"comments":0,"pivot_tables":0},"unopened":[],"bounds":{"document_bytes":16777216,"sheet_cells":100000,"run_cost":"one","rows_first":2000,"rows_last":500,"rows_between":2000,"halvings":0,"cell_chars":16384,"cell_head_chars":4096},"cells_cut":0,"cells_raw":0,"read":"whole","date_system":"1900"}

{"sheet":"Escopo de Fornecimento","index":0,"n_rows":59,"n_cols":10,"rows_kept":59,"cut":false,"hidden":false,"merged":[[11,0,11,4],[16,0,16,1],[23,0,23,1],[57,0,57,7],[58,2,58,4],[58,5,58,6],[32,1,32,7],[13,1,13,7]]}
[null,"                                                                     Ministério do Desenvolvimento Regional - MDR"]
[null,"                                                                     Companhia do Desenvolvimento dos Vales do São Francisco e Parnaíba"]
[null,"                                                                     Codevasf - Brasília"]
[]
[]
[]
["Objeto: Modernização da comporta da Jansen em São Luís/MA"]
[]
[]
[]
["Valores com o BDI inclusos e preços sinapi junho/22"]
["ESCOPO DE FORNECIMENTO E SERVIÇOS"]
[]
[1,"RECUPERAÇÃO DA INFRAESTRUTURA EXISTENTE, FORNECIMENTO E MONTAGEM DE COMPORTA E COMPLETO ACIONAMENTO"]
[{"$nulls":4},"DESONERADO C/BDI",null,"NÃO DESONERADO C/BDI"]
["Item","Descrição","Unid.","Qtd","Vlr Unitário","Vlr Total","Vlr Unitário","Vlr Total"]
["FORNECIMENTO"]
["1.2","Comporta deslizante em aço inoxidável 4 x 3 m, ítem 3.2.2 do T.R.","unid.",1,{"$f":"COTAÇÕES!K11","v":1020433.3333333333},{"$f":"D18*E18","v":1020433.3333333333},{"$f":"COTAÇÕES!L11","v":1020433.3333333333},{"$f":"D18*G18","v":1020433.3333333333},null,{"$f":"SUM(H18:H23)","v":1801168.3333333333}]
["1.3","Cilindro Hidráulico para acionamento da comporta, ítem 3.2.3.2 do T.R.","unid.",1,{"$f":"COTAÇÕES!K13","v":112699.99999999999},{"$f":"D19*E19","v":112699.99999999999},{"$f":"COTAÇÕES!L13","v":112699.99999999999},{"$f":"D19*G19","v":112699.99999999999}]
["1.4","Unidade Oleodinâmica para acionar o cilindro hidraúlico ítem 3.2.3.1 do T.R.","unid.",1,{"$f":"COTAÇÕES!K15","v":370185},{"$f":"E20*D20","v":370185},{"$f":"COTAÇÕES!L15","v":370185},{"$f":"G20*D20","v":370185}]
["1.5","Quadro de Comando Local ítem 3.2.4 do T.R.","unid.",1,{"$f":"COTAÇÕES!K17","v":106949.99999999999},106949.99999999999,{"$f":"COTAÇÕES!L17","v":106949.99999999999},106949.99999999999]
["1.6","Sensor de Nível ultrassônico alcance 20 metros","unid.",2,{"$f":"COTAÇÕES!K19","v":17250},{"$f":"D22*E22","v":34500},{"$f":"COTAÇÕES!L19","v":17250},34500]
["1.7","Licensa software Elipse","unid.",1,{"$f":"COTAÇÕES!K21","v":156400},{"$f":"E23*D23","v":156400},{"$f":"COTAÇÕES!L21","v":156400},156400]
["SERVIÇOS  ",{"$nulls":7},{"$f":"SUM(H18:H23)/H30","v":0.63959105167174557}]
["1.8","Serviços de recuperação da infraestrutura existente, ítem 3.1.3 do T.R.","unid.",1,{"$f":"'CPU - ITEM 1'!K29","v":311580.56000000006},{"$f":"E25*D25","v":311580.56000000006},{"$f":"'CPU - ITEM 1'!L29","v":290421.36000000004},{"$f":"D25*G25","v":290421.36000000004}]
["1.9","Substituição da comporta, montagem do acionamento e testes","unid.",1,{"$f":"'CPU - ITEM 1'!K46","v":464692.80000000005},{"$f":"D26*E26","v":464692.80000000005},{"$f":"'CPU - ITEM 1'!L46","v":443713.20000000007},443713.20000000007,null,{"$f":"SUM(H25:H28)","v":1014956.64}]
["1.10","Montagem do Painél de Comando, comissionamento e start up local","unid.",1.5,{"$f":"'CPU - ITEM 1'!K55","v":92202.560000000012},138303.84000000003,{"$f":"'CPU - ITEM 1'!L55","v":85966.720000000001},128950.08]
["1.11","Desenvolvimento de Software de Gerenciamento","unid.",2,{"$f":"'CPU - ITEM 1'!K63","v":80797.600000000006},161595.20000000001,{"$f":"'CPU - ITEM 1'!L63","v":75936},151872]
[]
[null,"TOTAL DOS SERVIÇOS E FORNECIMENTOS",null,null,null,{"$f":"SUM(F17:F28)","v":2877340.7333333334},null,{"$f":"SUM(H17:H28)","v":2816124.9733333336},{"$f":"SUM(H25:H28)/H30","v":0.36040894832825432}]
[]
[]
[2,"TELECOM"]
[{"$nulls":4},"DESONERADO C/BDI",null,"NÃO DESONERADO C/BDI"]
["Item","Descrição","Unid.","Qtd","Vlr Unitário","Vlr Total","Vlr Unitário","Vlr Total"]
[null,"FORNECIMENTO"]
["2.1","Torre de comunicação de 15m conforme item 3.3.1.2 do T.R.","unid.",2,{"$f":"COTAÇÕES!K23","v":93868.75},{"$f":"E37*D37","v":187737.5},{"$f":"COTAÇÕES!L23","v":93868.75},{"$f":"D37*G37","v":187737.5}]
["2.2","Poste 4 x 4 m antivandalismo para suporte sensor de nível","unid.",2,{"$f":"COTAÇÕES!K25","v":39509.399999999994},{"$f":"E38*D38","v":79018.799999999988},{"$f":"COTAÇÕES!L25","v":39509.399999999994},{"$f":"D38*G38","v":79018.799999999988}]
["2.3","Painél tipo Rack Telecon, ventilação, IP 66,  IP 67, resistência marinha","unid.",2,{"$f":"COTAÇÕES!K27","v":10772.805166666667},{"$f":"D39*E39","v":21545.610333333334},{"$f":"COTAÇÕES!L27","v":10772.805166666667},{"$f":"D39*G39","v":21545.610333333334}]
["2.4","Rádio PTP de 5Ghz","unid.",2,{"$f":"COTAÇÕES!K29","v":43079},{"$f":"D40*E40","v":86158},{"$f":"COTAÇÕES!L29","v":43079},{"$f":"D40*G40","v":86158}]
["2.5","Câmera espeed Dome PTZ, zoom ótico 32x, CMOS de 1/1.8\", infravermelho 200m","unid.",3,{"$f":"COTAÇÕES!K31","v":20700},{"$f":"E41*D41","v":62100},{"$f":"COTAÇÕES!L31","v":20700},{"$f":"G41*D41","v":62100}]
["2.6","Workstation para servidor elipse e cameras, windows 10, sata de 4 TB, etc","unid.",1,{"$f":"COTAÇÕES!K33","v":40250},40250,{"$f":"COTAÇÕES!L33","v":40250},40250]
["2.7","No Break tipo torre 220V/ 2.200VA, dysplay informativo, comunicação ethernet","unid.",4,{"$f":"COTAÇÕES!K35","v":11087.253499999999},44349.013999999996,{"$f":"COTAÇÕES!L35","v":11087.253499999999},44349.013999999996]
["2.8","CX de Cabo LAN CAT 6 F/UTP 4p x 23AWG – 305 metros – ANSI/TIA-568.2-D","unid.",2,{"$f":"COTAÇÕES!K37","v":3737.4999999999995},{"$f":"E44*D44","v":7474.9999999999991},{"$f":"COTAÇÕES!L37","v":3737.4999999999995},{"$f":"G44*D44","v":7474.9999999999991}]
["2.9","Bobina 500m Cabo maritimo blindado,não halogêno,antichama,condutor dreno flexivel","Unid.",1,{"$f":"COTAÇÕES!K39","v":14374.999999999998},{"$f":"E45*D45","v":14374.999999999998},{"$f":"COTAÇÕES!L39","v":14374.999999999998},{"$f":"G45*D45","v":14374.999999999998}]
[null,"SERVIÇOS  "]
["2.9","Estudo de Enlace","unid.",1,{"$f":"'CPU - ITEM 2'!K16","v":80797.600000000006},{"$f":"D47*E47","v":80797.600000000006},{"$f":"'CPU - ITEM 2'!L16","v":75936},75936]
["2.10","Montagem da torre e equipamentos (laguna Jansen)","unid.",1,{"$f":"'CPU - ITEM 2'!K33","v":181722.52000000005},{"$f":"D48*E48","v":181722.52000000005},{"$f":"'CPU - ITEM 2'!L33","v":170369.36000000007},170369.36000000007]
["2.11","Montagem da torre e equipamentos (edificio SINFRA)","unid.",1,{"$f":"'CPU - ITEM 2'!K49","v":237746.36000000004},{"$f":"D49*E49","v":237746.36000000004},{"$f":"'CPU - ITEM 2'!L49","v":223331.92000000007},223331.92000000007]
["2.12","Interligação, comissionamento e star-up Torre Laguna Jansen com Painél","unid.",1,{"$f":"'CPU - ITEM 2'!K59","v":171123.36000000004},171123.36000000004,{"$f":"'CPU - ITEM 2'!L59","v":161831.04000000004},161831.04000000004]
["2.13","Interligação, comissionamento e star-up Torre SINFRA com servidor ","unid.",1,{"$f":"'CPU - ITEM 2'!K69","v":171123.36000000004},171123.36000000004,{"$f":"'CPU - ITEM 2'!L69","v":161831.04000000004},161831.04000000004]
["2.14","Montagem de poste antivandalismo 4 x 4 m com equipamentos","unid.",2,{"$f":"'CPU - ITEM 2'!K81","v":57525.280000000006},115050.56000000001,{"$f":"'CPU - ITEM 2'!L81","v":54308.80000000001},108617.60000000002]
["2.15","Interligação Sensor de nível do mar ao painél de comando","unid.",1,{"$f":"'CPU - ITEM 2'!K90","v":25344.960000000003},25344.960000000003,{"$f":"'CPU - ITEM 2'!L90","v":24001.600000000002},24001.600000000002]
["2.16","Interligação Sensor de nível da Laguna Jansen ao painél de comando","unid.",1,{"$f":"'CPU - ITEM 2'!K101","v":62173.760000000009},62173.760000000009,{"$f":"'CPU - ITEM 2'!L101","v":58723.840000000011},58723.840000000011]
["2.17","Start up TELECOM","unid.",1,{"$f":"'CPU - ITEM 2'!K115","v":124467.20000000001},124467.20000000001,{"$f":"'CPU - ITEM 2'!L115","v":201113.92},201113.92]
[]
[null,"TOTAL DOS SERVIÇOS E FORNECIMENTOS",null,null,null,{"$f":"SUM(F37:F55)","v":1712558.6043333334},null,{"$f":"SUM(H37:H56)","v":1728765.2443333336}]
[]
[null,"TOTAL DOS SERVIÇOS E FORNECIMENTOS",{"$nulls":5},{"$f":"H57+H30","v":4544890.217666667}]

{"sheet":"CPU - ITEM 1","index":1,"n_rows":63,"n_cols":12,"rows_kept":63,"cut":false,"hidden":false,"merged":[[7,0,7,6],[5,0,5,6]]}
[null,null,"                                                          Ministério do Desenvolvimento Regional - MDR"]
[null,null,"                                                          Companhia do Desenvolvimento dos Vales do São Francisco e Parnaíba"]
[null,null,"                                                          Codevasf - Brasília"]
[]
[]
["MODERNIZAÇÃO DA COMPORTA DA JANSEN"]
["*SINAPI MA jul/22"]
["1 - SERVIÇOS DE RECUPERAÇÃO, FORNECIMENTO E MONTAGEM DE COMPORTA COM ACIONAMENTO, ITEM 3.2 DO T.R. "]
[]
["Ítem","Sinapi","Discriminação","Unidade","Valor Unitário (R$)",null,"Valor unitário com BDI (R$)",null,"Quantidade",null,"Valor total com BDI (R$)"]
["1.8",null,"RECUPERAÇÃO DA INFRAESTRUTURA ITEM 3.1.3 DO T.R.",null,"Desonerado","Onerado","Desonerado","Onerado",null,null,"Desonerado","Onerado"]
[null,null,"MÃO-DE-OBRA"]
["1.8.1",90779,"ENGENHEIRO CIVIL RESPONSÁVEL PELA OBRA","H",137.38,158.83000000000001,{"$f":"E13*BDI!D34*100","v":4670.92},{"$f":"F13*BDI!D35*100","v":4447.2400000000007},24," (3 dias x 8 horas/dia)",{"$f":"G13*I13","v":112102.08},{"$f":"H13*I13","v":106733.76000000001}]
["1.8.2",88278,"MONTADOR DE ESTRUTURAS METÁLICAS","H",15.71,17.850000000000001,{"$f":"E14*BDI!D34*100","v":534.1400000000001},{"$f":"F14*BDI!D35*100","v":499.80000000000013},24," (3 dias x 8 horas/dia)",{"$f":"G14*I14","v":12819.360000000002},{"$f":"H14*I14","v":11995.200000000003}]
["1.8.3",88240,"AJUDANTE DE ESTRUTURAS METALICAS","H",11.6,13.1,{"$f":"E15*BDI!D34*100","v":394.4},{"$f":"F15*BDI!D35*100","v":366.8},24," (3 dias x 8 horas/dia)",9465.5999999999985,8803.2000000000007]
["1.8.4",88265,"ELETRICISTA DE MANUTENÇÃO INDUSTRIAL","H",19.09,21.59,{"$f":"E16*BDI!D34*100","v":649.06000000000006},{"$f":"F16*BDI!D35*100","v":604.52},24," (3 dias x 8 horas/dia)",15577.440000000002,14508.48]
["1.8.5",88317,"SOLDADOR","H",19.57,22.02,{"$f":"E17*BDI!D34*100","v":665.38},{"$f":"F17*BDI!D35*100","v":616.56000000000006},24," (3 dias x 8 horas/dia)",15969.119999999999,14797.440000000002]
["1.8.6",88272,"MAÇARIQUEIRO","H",19.239999999999998,21.65,{"$f":"E18*BDI!D34*100","v":654.16},{"$f":"F18*BDI!D35*100","v":606.20000000000005},24," (3 dias x 8 horas/dia)",15699.84,14548.800000000001]
["1.8.7",88279,"MONTADOR ELETROMECÂNICO","H",23.35,26.52,{"$f":"E19*BDI!D34*100","v":793.90000000000009},{"$f":"F19*BDI!D35*100","v":742.56000000000006},24," (3 dias x 8 horas/dia)",{"$f":"G19*I19","v":19053.600000000002},{"$f":"H19*I19","v":17821.440000000002}]
["1.8.8",88243,"AJUDANTE ESPECIALIZADO","H",15.02,16.89,{"$f":"E20*BDI!D34*100","v":510.67999999999995},{"$f":"F20*BDI!D35*100","v":472.92000000000007},24," (3 dias x 8 horas/dia)",12256.32,11350.080000000002]
["1.8.9",88309,"PEDREIRO","H",18.87,21.34,{"$f":"E21*BDI!D34*100","v":641.58000000000004},{"$f":"F21*BDI!D35*100","v":597.5200000000001},24," (3 dias x 8 horas/dia)",15397.920000000002,14340.480000000003]
["1.8.10",88310,"PINTOR PARA TINTA EPÓXI","H",19.940000000000001,22.4,{"$f":"E22*BDI!D34*100","v":677.96000000000015},{"$f":"F22*BDI!D35*100","v":627.20000000000005},24," (3 dias x 8 horas/dia)",{"$f":"G22*I22","v":16271.040000000005},{"$f":"H22*I22","v":15052.800000000001}]
["1.8.11",100309,"TÉCNICO SEGURANÇA DO TRABALHO","H",23.14,26.54,{"$f":"E23*BDI!D34*100","v":786.76},{"$f":"F23*BDI!D35*100","v":743.12},24," (3 dias x 8 horas/dia)",18882.239999999998,17834.88]
["1.8.12",100717,"LIXAMENTO MANUAL","M2",6.79,7.52,{"$f":"E24*BDI!D34*100","v":230.86},{"$f":"F24*BDI!D35*100","v":210.56},20,"(PERFIS + VIGAS)",{"$f":"G24*I24","v":4617.2000000000007},4211.2]
["1.8.13",100721,"PINTURA TIPO ZARCÃO","M2",20.3,21.59,{"$f":"E25*BDI!D34*100","v":690.2},{"$f":"F25*BDI!D35*100","v":604.52},20,"(PERFIS + VIGAS)",13804,12090.4]
["1.8.14",100757,"PINTURA DE ACABAMENTO","M2",39.85,42.44,{"$f":"E26*BDI!D34*100","v":1354.9},{"$f":"F26*BDI!D35*100","v":1188.32},20,"(PERFIS + VIGAS)",27098,23766.399999999998]
[null,null,"EQUIPAMENTOS"]
["1.8.15",83762,"GRUPO DE SOLDAGEM GERADOR A DIESEL","H",7.13,7.13,{"$f":"E28*BDI!I34*100","v":106.94999999999999},{"$f":"F28*BDI!I35*100","v":106.94999999999999},24," (3 dias x 8 horas/dia)",2566.7999999999997,2566.7999999999997]
[null,null,"T O T A L",{"$nulls":7},{"$f":"SUM(K13:K28)","v":311580.56000000006},{"$f":"SUM(L13:L28)","v":290421.36000000004}]
[]
["Ítem","Sinapi","Discriminação","Unidade","Valor Unitário (R$)",null,"Valor unitário com BDI (R$)",null,"Quantidade",null,"Valor total com BDI (R$)"]
["1.9",null,"SUBSTITUIÇÃO DA COMPORTA, COMISSIONAMENTO, START UP ",null,"Desonerado","Onerado","Desonerado","Onerado",null,null,"Desonerado","Onerado"]
[null,null,"MÃO-DE-OBRA"]
["1.9.1",90779,"ENGENHEIRO MECÂNICO RESPONSÁVEL PELA OBRA","H",137.38,158.83000000000001,{"$f":"E34*BDI!D34*100","v":4670.92},{"$f":"F34*BDI!D35*100","v":4447.2400000000007},40," (5 dias x 8 horas/dia)",{"$f":"G34*I34","v":186836.8},{"$f":"H34*I34","v":177889.60000000003}]
["1.9.2",88278,"MONTADOR DE ESTRUTURAS METÁLICAS","H",15.71,17.850000000000001,{"$f":"E35*BDI!D34*100","v":534.1400000000001},{"$f":"F35*BDI!D35*100","v":499.80000000000013},40," (5 dias x 8 horas/dia)",{"$f":"G35*I35","v":21365.600000000006},{"$f":"H35*I35","v":19992.000000000004}]
["1.9.3",88240,"AJUDANTE DE ESTRUTURAS METALICAS","H",11.6,13.1,{"$f":"E36*BDI!D34*100","v":394.4},{"$f":"F36*BDI!D35*100","v":366.8},40," (5 dias x 8 horas/dia)",15776,14672]
["1.9.4",88265,"ELETRICISTA DE MANUTENÇÃO INDUSTRIAL","H",19.09,21.59,{"$f":"E37*BDI!D34*100","v":649.06000000000006},{"$f":"F37*BDI!D35*100","v":604.52},40," (5 dias x 8 horas/dia)",25962.400000000001,24180.799999999999]
["1.9.5",88279,"MONTADOR ELETROMECÂNICO","H",23.35,26.52,{"$f":"E38*BDI!D34*100","v":793.90000000000009},{"$f":"F38*BDI!D35*100","v":742.56000000000006},40," (5 dias x 8 horas/dia)",31756.000000000004,29702.400000000001]
["1.9.6",88317,"SOLDADOR","H",19.57,22.02,{"$f":"E39*BDI!D34*100","v":665.38},{"$f":"F39*BDI!D35*100","v":616.56000000000006},40," (5 dias x 8 horas/dia)",26615.200000000001,24662.400000000001]
["1.9.7",88272,"MAÇARIQUEIRO","H",19.239999999999998,21.65,{"$f":"E40*BDI!D34*100","v":654.16},{"$f":"F40*BDI!D35*100","v":606.20000000000005},40," (5 dias x 8 horas/dia)",26166.399999999998,24248]
["1.9.8",88243,"AJUDANTE ESPECIALIZADO","H",15.02,16.89,{"$f":"E41*BDI!D34*100","v":510.67999999999995},{"$f":"F41*BDI!D35*100","v":472.92000000000007},40," (5 dias x 8 horas/dia)",20427.199999999997,18916.800000000003]
["1.9.9",100309,"TÉCNICO SEGURANÇA DO TRABALHO","H",23.14,26.54,{"$f":"E42*BDI!D34*100","v":786.76},{"$f":"F42*BDI!D35*100","v":743.12},40," (5 dias x 8 horas/dia)",31470.400000000001,29724.799999999999]
[null,null,"EQUIPAMENTOS"]
["1.9.10",83762,"GRUPO DE SOLDAGEM GERADOR A DIESEL","H",7.13,7.13,{"$f":"E44*BDI!I34*100","v":106.94999999999999},{"$f":"F44*BDI!I35*100","v":106.94999999999999},32," (4 dias x 8 horas/dia)",3422.3999999999996,3422.3999999999996]
["1.9.11",89272,"GUINDASTE HUDRÁULICO 30 T LANÇA TELESCOPICA","H",208.04,211.95,{"$f":"E45*BDI!I34*100","v":3120.5999999999995},{"$f":"F45*BDI!I35*100","v":3179.2499999999995},24," (3 dias x 8 horas/dia)",74894.399999999994,76301.999999999985]
[null,null,"T O T A L",{"$nulls":7},{"$f":"SUM(K34:K45)","v":464692.80000000005},{"$f":"SUM(L34:L45)","v":443713.20000000007}]
[]
["Ítem","Sinapi","Discriminação","Unidade","Valor Unitário (R$)",null,"Valor unitário com BDI (R$)",null,"Quantidade",null,"Valor total com BDI (R$)"]
["1.10",null,"MONTAGEM, COMISSIONAMENTO E STAR-UP PAINÉL DE COMANDO",null,"Desonerado","Onerado","Desonerado","Onerado",null,null,"Desonerado","Onerado"]
[null,null,"MÃO-DE-OBRA"]
["1.10.1",88266,"ELETROTÉCNICO","H",21.79,24.71,{"$f":"E51*BDI!D34*100","v":740.86},{"$f":"F51*BDI!D35*100","v":691.88000000000011},40," (5 dias x 8 horas/dia)",{"$f":"G51*I51","v":29634.400000000001},{"$f":"H51*I51","v":27675.200000000004}]
["1.10.2",88279,"MONTADOR ELETROMECÂNICO","H",23.35,26.52,{"$f":"E52*BDI!D34*100","v":793.90000000000009},{"$f":"F52*BDI!D35*100","v":742.56000000000006},40," (5 dias x 8 horas/dia)",{"$f":"G52*I52","v":31756.000000000004},{"$f":"H52*I52","v":29702.400000000001}]
["1.10.3",88243,"AJUDANTE ESPECIALIZADO","H",15.02,16.89,{"$f":"E53*BDI!D34*100","v":510.67999999999995},{"$f":"F53*BDI!D35*100","v":472.92000000000007},40," (5 dias x 8 horas/dia)",{"$f":"G53*I53","v":20427.199999999997},{"$f":"H53*I53","v":18916.800000000003}]
["1.10.4",88265,"ELETRICISTA DE MANUTENÇÃO INDUSTRIAL","H",19.09,21.59,{"$f":"E54*BDI!D34*100","v":649.06000000000006},{"$f":"F54*BDI!D35*100","v":604.52},16," (2 dias x 8 horas/dia)",{"$f":"G54*I54","v":10384.960000000001},{"$f":"H54*I54","v":9672.32}]
[null,null,"T O T A L",{"$nulls":7},{"$f":"SUM(K51:K54)","v":92202.560000000012},{"$f":"SUM(L51:L54)","v":85966.720000000001}]
[]
["Ítem","Sinapi","Discriminação","Unidade","Valor Unitário (R$)",null,"Valor unitário com BDI (R$)",null,"Quantidade",null,"Valor total com BDI (R$)"]
["1.11",null,"DESENVOLVIMENTO SOFTWARE GERENCIAMENTO",null,"Desonerado","Onerado","Desonerado","Onerado",null,null,"Desonerado","Onerado"]
[null,null,"MÃO-DE-OBRA"]
["1.11.1",88266,"ELETROTÉCNICO ESPECIALIZADO SOFTWARE","H",21.79,24.71,{"$f":"E60*BDI!D34*100","v":740.86},{"$f":"F60*BDI!D35*100","v":691.88000000000011},40," (5 dias x 8 horas/dia)",{"$f":"G60*I60","v":29634.400000000001},{"$f":"H60*I60","v":27675.200000000004}]
["1.11.2",88255,"AUXILIAR TÉCNICO DE ENGENHARIA","H",21.05,24.14,{"$f":"E61*BDI!D34*100","v":715.7},{"$f":"F61*BDI!D35*100","v":675.92000000000007},40," (5 dias x 8 horas/dia)",{"$f":"G61*I61","v":28628},{"$f":"H61*I61","v":27036.800000000003}]
["1.11.3",90775,"DESENHISTA PROJETISTA","H",16.57,18.95,{"$f":"E62*BDI!D34*100","v":563.38000000000011},{"$f":"F62*BDI!D35*100","v":530.6},40," (5 dias x 8 horas/dia)",{"$f":"G62*I62","v":22535.200000000004},{"$f":"H62*I62","v":21224}]
[null,null,"T O T A L",{"$nulls":7},{"$f":"SUM(K60:K62)","v":80797.600000000006},{"$f":"SUM(L60:L62)","v":75936}]

{"sheet":"CPU - ITEM 2","index":2,"n_rows":115,"n_cols":12,"rows_kept":115,"cut":false,"hidden":false,"merged":[[5,0,5,6],[7,0,7,6]]}
[null,null,"                                                          Ministério do Desenvolvimento Regional - MDR"]
[null,null,"                                                          Companhia do Desenvolvimento dos Vales do São Francisco e Parnaíba"]
[null,null,"                                                          Codevasf - Brasília"]
[]
[]
["MODERNIZAÇÃO DA COMPORTA DA JANSEN"]
["*SINAPI MA jul/22"]
["2 -  TELECOM"]
[]
["Ítem","Sinapi","Discriminação","Unidade","Valor Unitário (R$)",null,"Valor unitário com BDI (R$)",null,"Quantidade",null,"Valor total com BDI (R$)"]
["2.9",null,"ESTUDO DE ENLACE",null,"Desonerado","Onerado","Desonerado","Onerado",null,null,"Desonerado","Onerado"]
[null,null,"MÃO-DE-OBRA"]
["2.9.1",88266,"ELETROTÉCNICO ESPECIALIZADO SOFTWARE","H",21.79,24.71,{"$f":"E13*BDI!D34*100","v":740.86},{"$f":"F13*BDI!D35*100","v":691.88000000000011},40," (5 dias x 8 horas/dia)",{"$f":"G13*I13","v":29634.400000000001},{"$f":"H13*I13","v":27675.200000000004}]
["2.9.2",88255,"AUXILIAR TÉCNICO DE ENGENHARIA","H",21.05,24.14,{"$f":"E14*BDI!D34*100","v":715.7},{"$f":"F14*BDI!D35*100","v":675.92000000000007},40," (5 dias x 8 horas/dia)",{"$f":"G14*I14","v":28628},{"$f":"H14*I14","v":27036.800000000003}]
["2.9.3",90775,"DESENHISTA PROJETISTA","H",16.57,18.95,{"$f":"E15*BDI!D34*100","v":563.38000000000011},{"$f":"F15*BDI!D35*100","v":530.6},40," (5 dias x 8 horas/dia)",{"$f":"G15*I15","v":22535.200000000004},{"$f":"H15*I15","v":21224}]
[null,null,"T O T A L",{"$nulls":7},{"$f":"SUM(K13:K15)","v":80797.600000000006},{"$f":"SUM(L13:L15)","v":75936}]
[]
["Ítem","Sinapi","Discriminação","Unidade","Valor Unitário (R$)",null,"Valor unitário com BDI (R$)",null,"Quantidade",null,"Valor total com BDI (R$)"]
["2.10",null,"MONTAGEM DA TORRE 15m E EQUIPAMENTOS (LAGUNA JANSEN)",null,"Desonerado","Onerado","Desonerado","Onerado",null,null,"Desonerado","Onerado"]
[null,null,"MÃO-DE-OBRA"]
["2.10.1",100302,"COORDENADOR","H",128.5,148.56,{"$f":"E21*BDI!D34*100","v":4369.0000000000009},{"$f":"F21*BDI!D35*100","v":4159.68},24," (3 dias x 8 horas/dia)",{"$f":"G21*I21","v":104856.00000000003},{"$f":"H21*I21","v":99832.320000000007}]
["2.10.2",88278,"MONTADOR DE ESTRUTURAS METÁLICAS","H",15.71,17.850000000000001,{"$f":"E22*BDI!D34*100","v":534.1400000000001},{"$f":"F22*BDI!D35*100","v":499.80000000000013},16," (2 dias x 8 horas/dia)",{"$f":"G22*I22","v":8546.2400000000016},{"$f":"H22*I22","v":7996.800000000002}]
["2.10.3",88240,"AJUDANTE DE ESTRUTURAS METALICAS","H",11.6,13.1,{"$f":"E23*BDI!D34*100","v":394.4},{"$f":"F23*BDI!D35*100","v":366.8},16," (2 dias x 8 horas/dia)",6310.4,5868.8]
["2.10.4",88265,"ELETRICISTA DE MANUTENÇÃO INDUSTRIAL","H",19.09,21.59,{"$f":"E24*BDI!D34*100","v":649.06000000000006},{"$f":"F24*BDI!D35*100","v":604.52},8," (1 dias x 8 horas/dia)",5192.4800000000005,4836.16]
["2.10.5",88279,"MONTADOR ELETROMECÂNICO","H",23.35,26.52,{"$f":"E25*BDI!D34*100","v":793.90000000000009},{"$f":"F25*BDI!D35*100","v":742.56000000000006},8," (1 dias x 8 horas/dia)",6351.2000000000007,5940.4800000000005]
["2.10.6",88243,"AJUDANTE ESPECIALIZADO","H",15.02,16.89,{"$f":"E26*BDI!D34*100","v":510.67999999999995},{"$f":"F26*BDI!D35*100","v":472.92000000000007},16," (2 dias x 8 horas/dia)",8170.8799999999992,7566.7200000000012]
["2.10.7",88309,"PEDREIRO","H",18.87,21.34,{"$f":"E27*BDI!D34*100","v":641.58000000000004},{"$f":"F27*BDI!D35*100","v":597.5200000000001},8," (1 dias x 8 horas/dia)",5132.6400000000003,4780.1600000000008]
["2.10.8",88310,"PINTOR PARA TINTA EPÓXI","H",19.940000000000001,22.4,{"$f":"E28*BDI!D34*100","v":677.96000000000015},{"$f":"F28*BDI!D35*100","v":627.20000000000005},8," (1 dias x 8 horas/dia)",{"$f":"G28*I28","v":5423.6800000000012},{"$f":"H28*I28","v":5017.6000000000004}]
["2.10.9",100309,"TÉCNICO SEGURANÇA DO TRABALHO","H",23.14,26.54,{"$f":"E29*BDI!D34*100","v":786.76},{"$f":"F29*BDI!D35*100","v":743.12},12," ( 3 dias x 4 horas/dia)",9441.119999999999,8917.44]
["2.10.10",100717,"LIXAMENTO MANUAL","M2",6.79,7.52,{"$f":"E30*BDI!D34*100","v":230.86},{"$f":"F30*BDI!D35*100","v":210.56},8,"(PERFIS + VIGAS)",1846.88,1684.48]
["2.10.11",100721,"PINTURA TIPO ZARCÃO","M2",20.3,21.59,{"$f":"E31*BDI!D34*100","v":690.2},{"$f":"F31*BDI!D35*100","v":604.52},10,"(PERFIS + VIGAS)",6902,6045.2]
["2.10.12",100757,"PINTURA DE ACABAMENTO","M2",39.85,42.44,{"$f":"E32*BDI!D34*100","v":1354.9},{"$f":"F32*BDI!D35*100","v":1188.32},10,"(PERFIS + VIGAS)",13549,11883.199999999999]
[null,null,"T O T A L",{"$nulls":7},{"$f":"SUM(K21:K32)","v":181722.52000000005},{"$f":"SUM(L21:L32)","v":170369.36000000007}]
[]
["Ítem","Sinapi","Discriminação","Unidade","Valor Unitário (R$)",null,"Valor unitário com BDI (R$)",null,"Quantidade",null,"Valor total com BDI (R$)"]
["2.11",null,"MONTAGEM DA TORRE 15m E EQUIPAMENTOS (PRÉDIO SINFRA)",null,"Desonerado","Onerado","Desonerado","Onerado",null,null,"Desonerado","Onerado"]
[null,null,"MÃO-DE-OBRA"]
["2.11.1",100302,"COORDENADOR","H",128.5,148.56,{"$f":"E38*BDI!D34*100","v":4369.0000000000009},{"$f":"F38*BDI!D35*100","v":4159.68},32," (4 dias x 8 horas/dia)",{"$f":"G38*I38","v":139808.00000000003},{"$f":"H38*I38","v":133109.76000000001}]
["2.11.2",88278,"MONTADOR DE ESTRUTURAS METÁLICAS","H",15.71,17.850000000000001,{"$f":"E39*BDI!D34*100","v":534.1400000000001},{"$f":"F39*BDI!D35*100","v":499.80000000000013},24," (3 dias x 8 horas/dia)",{"$f":"G39*I39","v":12819.360000000002},{"$f":"H39*I39","v":11995.200000000003}]
["2.11.3",88240,"AJUDANTE DE ESTRUTURAS METALICAS","H",11.6,13.1,{"$f":"E40*BDI!D34*100","v":394.4},{"$f":"F40*BDI!D35*100","v":366.8},24," (3 dias x 8 horas/dia)",9465.5999999999985,8803.2000000000007]
["2.11.4",88265,"ELETRICISTA DE MANUTENÇÃO INDUSTRIAL","H",19.09,21.59,{"$f":"E41*BDI!D34*100","v":649.06000000000006},{"$f":"F41*BDI!D35*100","v":604.52},16," (2 dias x 8 horas/dia)",10384.960000000001,9672.32]
["2.11.5",88279,"MONTADOR ELETROMECÂNICO","H",23.35,26.52,{"$f":"E42*BDI!D34*100","v":793.90000000000009},{"$f":"F42*BDI!D35*100","v":742.56000000000006},16," (2 dias x 8 horas/dia)",12702.400000000001,11880.960000000001]
["2.11.6",88243,"AJUDANTE ESPECIALIZADO","H",15.02,16.89,{"$f":"E43*BDI!D34*100","v":510.67999999999995},{"$f":"F43*BDI!D35*100","v":472.92000000000007},24," (3 dias x 8 horas/dia)",12256.32,11350.080000000002]
["2.11.7",88310,"PINTOR PARA TINTA EPÓXI","H",19.940000000000001,22.4,{"$f":"E44*BDI!D34*100","v":677.96000000000015},{"$f":"F44*BDI!D35*100","v":627.20000000000005},8," (1 dias x 8 horas/dia)",5423.6800000000012,5017.6000000000004]
["2.11.8",100309,"TÉCNICO SEGURANÇA DO TRABALHO","H",23.14,26.54,{"$f":"E45*BDI!D34*100","v":786.76},{"$f":"F45*BDI!D35*100","v":743.12},16," (4 dias x 4 horas/dia)",12588.16,11889.92]
["2.11.9",100717,"LIXAMENTO MANUAL","M2",6.79,7.52,{"$f":"E46*BDI!D34*100","v":230.86},{"$f":"F46*BDI!D35*100","v":210.56},8,"(PERFIS + VIGAS)",1846.88,1684.48]
["2.11.10",100721,"PINTURA TIPO ZARCÃO","M2",20.3,21.59,{"$f":"E47*BDI!D34*100","v":690.2},{"$f":"F47*BDI!D35*100","v":604.52},10,"(PERFIS + VIGAS)",6902,6045.2]
["2.11.11",100757,"PINTURA DE ACABAMENTO","M2",39.85,42.44,{"$f":"E48*BDI!D34*100","v":1354.9},{"$f":"F48*BDI!D35*100","v":1188.32},10,"(PERFIS + VIGAS)",13549,11883.199999999999]
[null,null,"T O T A L",{"$nulls":7},{"$f":"SUM(K38:K48)","v":237746.36000000004},{"$f":"SUM(L38:L48)","v":223331.92000000007}]
[]
["Ítem","Sinapi","Discriminação","Unidade","Valor Unitário (R$)",null,"Valor unitário com BDI (R$)",null,"Quantidade",null,"Valor total com BDI (R$)"]
["2.12",null,"INTERLIGAÇÃO TORRE/PAINÉL LAGUNA JANSEN",null,"Desonerado","Onerado","Desonerado","Onerado",null,null,"Desonerado","Onerado"]
[null,null,"MÃO-DE-OBRA"]
["2.12.1",100302,"COORDENADOR","H",128.5,148.56,{"$f":"E54*BDI!D34*100","v":4369.0000000000009},{"$f":"F54*BDI!D35*100","v":4159.68},24," (3 dias x 8 horas/dia)",{"$f":"G54*I54","v":104856.00000000003},{"$f":"H54*I54","v":99832.320000000007}]
["2.12.2",88279,"MONTADOR ELETROMECÂNICO","H",23.35,26.52,{"$f":"E55*BDI!D34*100","v":793.90000000000009},{"$f":"F55*BDI!D35*100","v":742.56000000000006},24," (3 dias x 8 horas/dia)",{"$f":"G55*I55","v":19053.600000000002},{"$f":"H55*I55","v":17821.440000000002}]
["2.12.3",88243,"AJUDANTE ESPECIALIZADO","H",15.02,16.89,{"$f":"E56*BDI!D34*100","v":510.67999999999995},{"$f":"F56*BDI!D35*100","v":472.92000000000007},24," (3 dias x 8 horas/dia)",12256.32,11350.080000000002]
["2.12.5",88266,"ELETROTÉCNICO ESPECIALIZADO SOFTWARE","H",21.79,24.71,{"$f":"E57*BDI!D34*100","v":740.86},{"$f":"F57*BDI!D35*100","v":691.88000000000011},24," (3 dias x 8 horas/dia)",{"$f":"G57*I57","v":17780.64},{"$f":"H57*I57","v":16605.120000000003}]
["2.12.6",88255,"AUXILIAR TÉCNICO DE ENGENHARIA","H",21.05,24.14,{"$f":"E58*BDI!D34*100","v":715.7},{"$f":"F58*BDI!D35*100","v":675.92000000000007},24," (3 dias x 8 horas/dia)",{"$f":"G58*I58","v":17176.800000000003},{"$f":"H58*I58","v":16222.080000000002}]
[null,null,"T O T A L",{"$nulls":7},{"$f":"SUM(K54:K58)","v":171123.36000000004},{"$f":"SUM(L54:L58)","v":161831.04000000004}]
[]
["Ítem","Sinapi","Discriminação","Unidade","Valor Unitário (R$)",null,"Valor unitário com BDI (R$)",null,"Quantidade",null,"Valor total com BDI (R$)"]
["2.13",null,"INTERLIGAÇÃO TORRE SINFRA COM SERVIDOR",null,"Desonerado","Onerado","Desonerado","Onerado",null,null,"Desonerado","Onerado"]
[null,null,"MÃO-DE-OBRA"]
["2.13.1",100302,"COORDENADOR","H",128.5,148.56,{"$f":"E64*BDI!D34*100","v":4369.0000000000009},{"$f":"F64*BDI!D35*100","v":4159.68},24," (3 dias x 8 horas/dia)",{"$f":"G64*I64","v":104856.00000000003},{"$f":"H64*I64","v":99832.320000000007}]
["2.13.2",88279,"MONTADOR ELETROMECÂNICO","H",23.35,26.52,{"$f":"E65*BDI!D34*100","v":793.90000000000009},{"$f":"F65*BDI!D35*100","v":742.56000000000006},24," (3 dias x 8 horas/dia)",{"$f":"G65*I65","v":19053.600000000002},{"$f":"H65*I65","v":17821.440000000002}]
["2.13.3",88243,"AJUDANTE ESPECIALIZADO","H",15.02,16.89,{"$f":"E66*BDI!D34*100","v":510.67999999999995},{"$f":"F66*BDI!D35*100","v":472.92000000000007},24," (3 dias x 8 horas/dia)",12256.32,11350.080000000002]
["2.13.5",88266,"ELETROTÉCNICO ESPECIALIZADO SOFTWARE","H",21.79,24.71,{"$f":"E67*BDI!D34*100","v":740.86},{"$f":"F67*BDI!D35*100","v":691.88000000000011},24," (3 dias x 8 horas/dia)",{"$f":"G67*I67","v":17780.64},{"$f":"H67*I67","v":16605.120000000003}]
["2.13.6",88255,"AUXILIAR TÉCNICO DE ENGENHARIA","H",21.05,24.14,{"$f":"E68*BDI!D34*100","v":715.7},{"$f":"F68*BDI!D35*100","v":675.92000000000007},24," (3 dias x 8 horas/dia)",{"$f":"G68*I68","v":17176.800000000003},{"$f":"H68*I68","v":16222.080000000002}]
[null,null,"T O T A L",{"$nulls":7},{"$f":"SUM(K64:K68)","v":171123.36000000004},{"$f":"SUM(L64:L68)","v":161831.04000000004}]
[]
["Ítem","Sinapi","Discriminação","Unidade","Valor Unitário (R$)",null,"Valor unitário com BDI (R$)",null,"Quantidade",null,"Valor total com BDI (R$)"]
["2.14",null,"MONTAGEM DE POSTE 4 X 4 ANTIVANDALISMO COM EQUIPAMENTOS",null,"Desonerado","Onerado","Desonerado","Onerado",null,null,"Desonerado","Onerado"]
[null,null,"MÃO-DE-OBRA"]
["2.14.1",100302,"COORDENADOR","H",128.5,148.56,{"$f":"E74*BDI!D34*100","v":4369.0000000000009},{"$f":"F74*BDI!D35*100","v":4159.68},8," (1 dias x 8 horas/dia)",{"$f":"G74*I74","v":34952.000000000007},{"$f":"H74*I74","v":33277.440000000002}]
["2.14.2",88278,"MONTADOR DE ESTRUTURAS METÁLICAS","H",15.71,17.850000000000001,{"$f":"E75*BDI!D34*100","v":534.1400000000001},{"$f":"F75*BDI!D35*100","v":499.80000000000013},8," (1 dias x 8 horas/dia)",{"$f":"G75*I75","v":4273.1200000000008},{"$f":"H75*I75","v":3998.400000000001}]
["2.14.3",88240,"AJUDANTE DE ESTRUTURAS METALICAS","H",11.6,13.1,{"$f":"E76*BDI!D34*100","v":394.4},{"$f":"F76*BDI!D35*100","v":366.8},8," (1 dias x 8 horas/dia)",3155.2,2934.4]
["2.14.4",88243,"AJUDANTE ESPECIALIZADO","H",14.68,16.510000000000002,{"$f":"E77*BDI!D72*100","v":0},{"$f":"F77*BDI!D73*100","v":0},24," (1 dias x 8 horas/dia)",0,0]
["2.14.5",88266,"ELETROTÉCNICO ESPECIALIZADO SOFTWARE","H",21.79,24.71,{"$f":"E78*BDI!D34*100","v":740.86},{"$f":"F78*BDI!D35*100","v":691.88000000000011},8," (1 dias x 8 horas/dia)",{"$f":"G78*I78","v":5926.88},{"$f":"H78*I78","v":5535.0400000000009}]
["2.14.4",88243,"AJUDANTE ESPECIALIZADO","H",15.02,16.89,{"$f":"E79*BDI!D34*100","v":510.67999999999995},{"$f":"F79*BDI!D35*100","v":472.92000000000007},8," (1 dias x 8 horas/dia)",{"$f":"G79*I79","v":4085.4399999999996},{"$f":"H79*I79","v":3783.3600000000006}]
["2.10.7",88309,"PEDREIRO","H",18.87,21.34,{"$f":"E80*BDI!D34*100","v":641.58000000000004},{"$f":"F80*BDI!D35*100","v":597.5200000000001},8," (1 dias x 8 horas/dia)",{"$f":"G80*I80","v":5132.6400000000003},{"$f":"H80*I80","v":4780.1600000000008}]
[null,null,"T O T A L",{"$nulls":7},{"$f":"SUM(K74:K80)","v":57525.280000000006},{"$f":"SUM(L74:L80)","v":54308.80000000001}]
[]
["Ítem","Sinapi","Discriminação","Unidade","Valor Unitário (R$)",null,"Valor unitário com BDI (R$)",null,"Quantidade",null,"Valor total com BDI (R$)"]
["2.15",null,"INTERLIGAÇÃO SENSOR NÍVEL MAR AO PAINÉL",null,"Desonerado","Onerado","Desonerado","Onerado",null,null,"Desonerado","Onerado"]
[null,null,"MÃO-DE-OBRA"]
["2.15.1",100302,"COORDENADOR","H",128.5,148.56,{"$f":"E86*BDI!D34*100","v":4369.0000000000009},{"$f":"F86*BDI!D35*100","v":4159.68},4," (1 dias x 4 horas/dia)",{"$f":"G86*I86","v":17476.000000000004},{"$f":"H86*I86","v":16638.72}]
["2.15.2",88243,"AJUDANTE ESPECIALIZADO","H",15.02,16.89,{"$f":"E87*BDI!D34*100","v":510.67999999999995},{"$f":"F87*BDI!D35*100","v":472.92000000000007},4," (1 dias x 4 horas/dia)",{"$f":"G87*I87","v":2042.7199999999998},{"$f":"H87*I87","v":1891.6800000000003}]
["2.15.3",88266,"ELETROTÉCNICO ESPECIALIZADO SOFTWARE","H",21.79,24.71,{"$f":"E88*BDI!D34*100","v":740.86},{"$f":"F88*BDI!D35*100","v":691.88000000000011},4," (1 dias x 4 horas/dia)",{"$f":"G88*I88","v":2963.44},{"$f":"H88*I88","v":2767.5200000000004}]
["2.15.4",88255,"AUXILIAR TÉCNICO DE ENGENHARIA","H",21.05,24.14,{"$f":"E89*BDI!D34*100","v":715.7},{"$f":"F89*BDI!D35*100","v":675.92000000000007},4," (1 dias x 4 horas/dia)",{"$f":"G89*I89","v":2862.8},{"$f":"H89*I89","v":2703.6800000000003}]
[null,null,"T O T A L",{"$nulls":7},{"$f":"SUM(K86:K89)","v":25344.960000000003},{"$f":"SUM(L86:L89)","v":24001.600000000002}]
[]
["Ítem","Sinapi","Discriminação","Unidade","Valor Unitário (R$)",null,"Valor unitário com BDI (R$)",null,"Quantidade",null,"Valor total com BDI (R$)"]
["2.16",null,"INTERLIGAÇÃO SENSOR NÍVEL LAGUNA JANSENAO PAINÉL",null,"Desonerado","Onerado","Desonerado","Onerado",null,null,"Desonerado","Onerado"]
[null,null,"MÃO-DE-OBRA"]
["2.16.1",100302,"COORDENADOR","H",128.5,148.56,{"$f":"E95*BDI!D34*100","v":4369.0000000000009},{"$f":"F95*BDI!D35*100","v":4159.68},8," (1 dias x 8 horas/dia)",{"$f":"G95*I95","v":34952.000000000007},{"$f":"H95*I95","v":33277.440000000002}]
["2.16.2",88279,"MONTADOR ELETROMECÂNICO","H",23.35,26.52,{"$f":"E96*BDI!D34*100","v":793.90000000000009},{"$f":"F96*BDI!D35*100","v":742.56000000000006},8," (1 dias x 8 horas/dia)",{"$f":"G96*I96","v":6351.2000000000007},{"$f":"H96*I96","v":5940.4800000000005}]
["2.16.3",88243,"AJUDANTE ESPECIALIZADO","H",15.02,16.89,{"$f":"E97*BDI!D34*100","v":510.67999999999995},{"$f":"F97*BDI!D35*100","v":472.92000000000007},8," (1 dias x 8 horas/dia)",{"$f":"G97*I97","v":4085.4399999999996},{"$f":"H97*I97","v":3783.3600000000006}]
["2.16.4",88309,"PEDREIRO","H",18.87,21.34,{"$f":"E98*BDI!D34*100","v":641.58000000000004},{"$f":"F98*BDI!D35*100","v":597.5200000000001},8," (1 dias x 8 horas/dia)",5132.6400000000003,4780.1600000000008]
["2.16.5",88266,"ELETROTÉCNICO ESPECIALIZADO SOFTWARE","H",21.79,24.71,{"$f":"E99*BDI!D34*100","v":740.86},{"$f":"F99*BDI!D35*100","v":691.88000000000011},8," (1 dias x 8 horas/dia)",{"$f":"G99*I99","v":5926.88},{"$f":"H99*I99","v":5535.0400000000009}]
["2.16.6",88255,"AUXILIAR TÉCNICO DE ENGENHARIA","H",21.05,24.14,{"$f":"E100*BDI!D34*100","v":715.7},{"$f":"F100*BDI!D35*100","v":675.92000000000007},8," (1 dias x 8 horas/dia)",{"$f":"G100*I100","v":5725.6},{"$f":"H100*I100","v":5407.3600000000006}]
[null,null,"T O T A L",{"$nulls":7},{"$f":"SUM(K95:K100)","v":62173.760000000009},{"$f":"SUM(L95:L100)","v":58723.840000000011}]
[]
["Ítem","Sinapi","Discriminação","Unidade","Valor Unitário (R$)",null,"Valor unitário com BDI (R$)",null,"Quantidade",null,"Valor total com BDI (R$)"]
["2.17",null,"START UP TELECOM",null,"Desonerado","Onerado","Desonerado","Onerado",null,null,"Desonerado","Onerado"]
[null,null,"MÃO-DE-OBRA"]
["2.17.1",90779,"ENGENHEIRO CIVIL RESPONSÁVEL PELA OBRA","H",137.38,158.83000000000001,{"$f":"E106*BDI!D34*100","v":4670.92},{"$f":"F106*BDI!D35*100","v":4447.2400000000007},16," (2 dias x 8 horas/dia)",{"$f":"G106*I106","v":74734.720000000001},{"$f":"H106*I106","v":71155.840000000011}]
["2.17.2",88278,"MONTADOR DE ESTRUTURAS METÁLICAS","H",15.71,17.850000000000001,{"$f":"E107*BDI!D34*100","v":534.1400000000001},{"$f":"F107*BDI!D35*100","v":499.80000000000013},16," (2 dias x 8 horas/dia)",{"$f":"G107*I107","v":8546.2400000000016},{"$f":"H107*I107","v":7996.800000000002}]
["2.17.3",88240,"AJUDANTE DE ESTRUTURAS METALICAS","H",11.6,13.1,{"$f":"E108*BDI!D34*100","v":394.4},{"$f":"F108*BDI!D35*100","v":366.8},12," (2 dias x 8 horas/dia)",4732.7999999999993,4401.6000000000004]
["2.17.4",88265,"ELETRICISTA DE MANUTENÇÃO INDUSTRIAL","H",19.09,21.59,{"$f":"E109*BDI!D34*100","v":649.06000000000006},{"$f":"F109*BDI!D35*100","v":604.52},16," (2 dias x 8 horas/dia)",10384.960000000001,9672.32]
["2.17.5",100302,"COORDENADOR","H",128.5,148.56,{"$f":"E110*BDI!D34*100","v":4369.0000000000009},{"$f":"F110*BDI!D35*100","v":4159.68},16," (2 dias x 8 horas/dia)",{"$f":"G110*I110","v":69904.000000000015},{"$f":"H110*I110","v":66554.880000000005}]
["2.17.6",88279,"MONTADOR ELETROMECÂNICO","H",23.35,26.52,{"$f":"E111*BDI!D34*100","v":793.90000000000009},{"$f":"F111*BDI!D35*100","v":742.56000000000006},16," (2 dias x 8 horas/dia)",{"$f":"G111*I111","v":12702.400000000001},{"$f":"H111*I111","v":11880.960000000001}]
["2.17.7",88243,"AJUDANTE ESPECIALIZADO","H",15.02,16.89,{"$f":"E112*BDI!D34*100","v":510.67999999999995},{"$f":"F112*BDI!D35*100","v":472.92000000000007},16," (2 dias x 8 horas/dia)",8170.8799999999992,7566.7200000000012]
["2.17.8",88266,"ELETROTÉCNICO ESPECIALIZADO SOFTWARE","H",21.79,24.71,{"$f":"E113*BDI!D34*100","v":740.86},{"$f":"F113*BDI!D35*100","v":691.88000000000011},16," (2 dias x 8 horas/dia)",{"$f":"G113*I113","v":11853.76},{"$f":"H113*I113","v":11070.080000000002}]
["2.17.9",88255,"AUXILIAR TÉCNICO DE ENGENHARIA","H",21.05,24.14,{"$f":"E114*BDI!D34*100","v":715.7},{"$f":"F114*BDI!D35*100","v":675.92000000000007},16," (2 dias x 8 horas/dia)",{"$f":"G114*I114","v":11451.2},{"$f":"H114*I114","v":10814.720000000001}]
[null,null,"T O T A L",{"$nulls":7},{"$f":"SUM(K109:K114)","v":124467.20000000001},{"$f":"SUM(L106:L114)","v":201113.92}]

{"sheet":"COTAÇÕES","index":3,"n_rows":41,"n_cols":17,"rows_kept":41,"cut":false,"hidden":false,"merged":[[6,0,6,9]]}
[null,null,null,"                                                     Ministério do Desenvolvimento Regional - MDR"]
[null,null,null,"                                                     Companhia do Desenvolvimento dos Vales do São Francisco e Parnaíba"]
[null,null,null,"                                                     Codevasf - Brasília"]
[]
[]
[]
["Cotações - Equipamentos e materiais /Laguna da Jansen"]
[]
["Item ","Descrição","                                  Cotação 1",null,"Cotação 2",null,"Cotação 3",null,"Valor Mediana","Valor Médio","Menor valor (mediana/média) c/ BDI DESONERADO","Menor valor (mediana/média) c/ BDI ONERADO",null,"D, Padrão","CV"]
[null,null,"VALOR","EMPRESA","VALOR","EMPRESA","VALOR","EMPRESA","R$","R$","R$","R$",{"$nulls":4},{"$f":"SUM(L11:L39)","v":2061298.0419999999}]
["1.2","Comporta deslizante em aço inoxidável 4 x 3 m, ítem 3.2.2 do T.R.",902000,"All Energy Engenharia",910000,"EBSE ENGENHARIA E SOLUÇÕES",850000,"HYDROSTEC",{"$f":"MEDIAN(C11,E11,G11)","v":902000},{"$f":"(C11+E11+G11)/3","v":887333.33333333337},{"$f":"MINA(I11,J11)*(1+BDI!I34)","v":1020433.3333333333},{"$f":"MINA(I11,J11)*(1+BDI!I35)","v":1020433.3333333333},null,{"$f":"_xlfn.STDEV.P(E11,G11,I11)","v":26599.916457680007},{"$f":"N11/J11","v":2.9977366406100683E-2},null,{"$f":"L11/$Q$10","v":0.49504405114713312}]
[]
["1.3","Cilindro Hidráulico para acionamento da comporta, ítem 3.2.3.2 do T.R.",115000,"All Energy Engenharia",85000,"EBSE ENGENHARIA E SOLUÇÕES",98000,"HYDROSTEC",{"$f":"MEDIAN(C13,E13,G13)","v":98000},{"$f":"(C13+E13+G13)/3","v":99333.333333333328},{"$f":"MINA(I13,J13)*(1+BDI!I34)","v":112699.99999999999},{"$f":"MINA(I13,J13)*(1+BDI!I35)","v":112699.99999999999},null,{"$f":"_xlfn.STDEV.P(E13,G13,I13)","v":6128.2587702834116},{"$f":"N13/J13","v":6.169388023775247E-2},null,{"$f":"L13/$Q$10","v":5.4674286640592457E-2}]
[]
["1.4","Unidade Oleodinâmica para acionar o cilindro hidraúlico ítem 3.2.3.1 do T.R.",340000,"All Energy Engenharia",325700,"EBSE ENGENHARIA E SOLUÇÕES",300000,"HYDROSTEC",{"$f":"MEDIAN(C15,E15,G15)","v":325700},{"$f":"(C15+E15+G15)/3","v":321900},{"$f":"MINA(I15,J15)*(1+BDI!I34)","v":370185},{"$f":"MINA(I15,J15)*(1+BDI!I35)","v":370185},null,12115.096184329514,3.7636210575736295E-2,null,0.1795882945878236]
[]
["1.5","Quadro de Comando Local ítem 3.2.4 do T.R.",80000,"All Energy Engenharia",97000,"EBSE ENGENHARIA E SOLUÇÕES",102000,"HYDROSTEC",{"$f":"MEDIAN(C17,E17,G17)","v":97000},{"$f":"(C17+E17+G17)/3","v":93000},{"$f":"MINA(I17,J17)*(1+BDI!I34)","v":106949.99999999999},{"$f":"MINA(I17,J17)*(1+BDI!I35)","v":106949.99999999999},null,2357.0226039551585,2.5344329074786651E-2,null,5.1884782220154066E-2]
[]
["1.6","Sensor de Nível Ultrassônico, alcance 20 metros",19000,"All Energy Engenharia",12000,"EBSE ENGENHARIA E SOLUÇÕES",15000,"HYDROSTEC",{"$f":"MEDIAN(C19,E19,G19)","v":15000},{"$f":"(C19+E19+G19)/3","v":15333.333333333334},{"$f":"MINA(I19,J19)*(1+BDI!I34)","v":17250},{"$f":"MINA(I19,J19)*(1+BDI!I35)","v":17250},null,1414.2135623730951,9.2231319285201854E-2,null,8.3685132613151737E-3]
[]
["1.7","Licensa software Elipse     *dominio exclusivo de uma empresa",126000,"Norte Telecomunicações",136000,"SEG",146423.48000000001,"VECTOR",{"$f":"MEDIAN(C21,E21,G21)","v":136000},{"$f":"(C21+E21+G21)/3","v":136141.16},{"$f":"MINA(I21,J21)*(1+BDI!I34)","v":156400},{"$f":"MINA(I21,J21)*(1+BDI!I35)","v":156400},null,4913.6755943749076,3.6092505707861662E-2,null,7.5874520235924239E-2]
[]
["2.1","Torre de comunicação completa de 15 metros conforme item 3.3.1.2 do T.R.",{"$f":"(463910-166400-128000)/2","v":84755},"ALTALE",{"$f":"4000+32050+3800+2670+1600+19900","v":64020},"TORRE NORTE",{"$f":"4000+43400+5200+3800+2200+37500","v":96100},"NS AUTOMAÇÃO",{"$f":"MEDIAN(C23,E23,G23)","v":84755},{"$f":"(C23+E23+G23)/3","v":81625},{"$f":"MINA(I23,J23)*(1+BDI!I34)","v":93868.75},{"$f":"MINA(I23,J23)*(1+BDI!I35)","v":93868.75},null,13282.300879993145,0.16272344110251938,null,4.5538659663656736E-2]
[]
["2.2","Poste 4 x 4 m antivandalismo para suporte sensor de nível",{"$f":"4000+14184+16000","v":34184},"ALTALE",{"$f":"4000+9456+1000+19900","v":34356},"TORRE NORTE",{"$f":"4000+11820+29600","v":45420},"NS AUTOMAÇÃO",{"$f":"MEDIAN(C25,E25,G25)","v":34356},{"$f":"(C25+E25+G25)/3","v":37986.666666666664},{"$f":"MINA(I25,J25)*(1+BDI!I34)","v":39509.399999999994},{"$f":"MINA(I25,J25)*(1+BDI!I35)","v":39509.399999999994},null,5215.6196180319748,0.1373013237460155,null,1.9167242773716269E-2]
[]
["2.3","Painél tipo Rack Telecon, ventilação, IP 66,  IP 67, resistência marinha",4900,"Norte Telecomunicações",10800,"SEG",12402.97,"VECTOR",{"$f":"MEDIAN(C27,E27,G27)","v":10800},{"$f":"(C27+E27+G27)/3","v":9367.6566666666677},{"$f":"MINA(I27,J27)*(1+BDI!I34)","v":10772.805166666667},{"$f":"MINA(I27,J27)*(1+BDI!I35)","v":10772.805166666667},null,755.64730469239976,8.0665563606878529E-2,null,5.2262239361631664E-3]
[]
["2.4","Rádio PTP de 5Ghz",17700,"Norte Telecomunicações",37460,"SEG",60858.58,"VECTOR",{"$f":"MEDIAN(C29,E29,G29)","v":37460},{"$f":"(C29+E29+G29)/3","v":38672.86},{"$f":"MINA(I29,J29)*(1+BDI!I34)","v":43079},{"$f":"MINA(I29,J29)*(1+BDI!I35)","v":43079},null,11030.196392090573,0.2852180157374079,null,2.0898967117924425E-2]
[]
["2.5","Câmera espeed Dome PTZ, zoom ótico 32x, CMOS de 1/1.8\", infravermelho 200m",9000,"Norte Telecomunicações",18000,"SEG",27643.63,"VECTOR",{"$f":"MEDIAN(C31,E31,G31)","v":18000},{"$f":"(C31+E31+G31)/3","v":18214.543333333335},{"$f":"MINA(I31,J31)*(1+BDI!I34)","v":20700},{"$f":"MINA(I31,J31)*(1+BDI!I35)","v":20700},null,4546.050778836011,0.24958357152531835,null,1.0042215913578208E-2]
[]
["2.6","Workstation para servidor elipse e cameras, windows 10, sata de 4 TB, etc",35000,"Norte Telecomunicações",{"$f":"C33","v":35000},"SEG",47125,"VECTOR",{"$f":"MEDIAN(C33,E33,G33)","v":35000},{"$f":"(C33+E33+G33)/3","v":39041.666666666664},{"$f":"MINA(I33,J33)*(1+BDI!I34)","v":40250},{"$f":"MINA(I33,J33)*(1+BDI!I35)","v":40250},null,5715.7798145912593,0.14640204434385298,null,1.9526530943068738E-2]
[]
["2.7","No Break tipo torre 220V/ 2.200VA, dysplay informativo, comunicação ethernet",2875,"Norte Telecomunicações",12500,"SEG",13548.27,"VECTOR",{"$f":"MEDIAN(C35,E35,G35)","v":12500},{"$f":"(C35+E35+G35)/3","v":9641.09},{"$f":"MINA(I35,J35)*(1+BDI!I34)","v":11087.253499999999},{"$f":"MINA(I35,J35)*(1+BDI!I35)","v":11087.253499999999},null,494.15921700961496,5.1255534074426748E-2,null,5.3787726345688727E-3]
[]
["2.8","CX de Cabo LAN CAT 6 F/UTP 4p x 23AWG – 305 metros – ANSI/TIA-568.2-D",3000,"Norte Telecomunicações",3500,"SEG",null,null,{"$f":"MEDIAN(C37,E37)","v":3250},{"$f":"(C37+E37+G37)/2","v":3250},{"$f":"MINA(I37,J37)*(1+BDI!I34)","v":3737.4999999999995},{"$f":"MINA(I37,J37)*(1+BDI!I35)","v":3737.4999999999995},null,125,3.8461538461538464E-2,null,1.8131778732849539E-3]
[]
["2.9","Bobina 500m Cabo maritimo blindado,não halogêno,antichama,condutor dreno flexivel",12000,"Norte Telecomunicações",13000,"SEG",null,null,{"$f":"MEDIAN(C39,E39)","v":12500},{"$f":"(C39+E39+G39)/2","v":12500},{"$f":"MINA(I39,J39)*(1+BDI!I34)","v":14374.999999999998},{"$f":"MINA(I39,J39)*(1+BDI!I35)","v":14374.999999999998},null,250,0.02,null,6.9737610510959766E-3]
[]
[null,"Observação. Fornecimento de torre e poste, incluso: Projeto, a torre/poste, aterramento, balizamento, esteira e transporte)"]

{"sheet":"BDI","index":4,"n_rows":40,"n_cols":9,"rows_kept":40,"cut":false,"hidden":false,"merged":[[8,0,8,3],[9,0,9,3],[10,0,10,3],[6,0,6,3],[6,5,6,8],[8,5,8,8],[9,5,9,8],[10,5,10,8]]}
[null,"                                                              Ministério do Desenvolvimento Regional - MDR"]
[null,"                                                              Companhia do Desenvolvimento dos Vales do São Francisco e Parnaíba"]
[null,"                                                              Codevasf - Brasília"]
[]
[]
[]
["BDI Serviços",{"$nulls":4},"BDI FORNECIMENTO"]
[]
["DETALHAMENTO DO BDI",{"$nulls":4},"DETALHAMENTO DO BDI"]
["Serviços desonerados e onerados",{"$nulls":4},"FORMECIMENTO sendo os serviços desonerados ou com desoneração"]
[]
[]
["Item","Descrição dos serviços","Valores de Referência (%)","Preço de Venda (%)",null,"Item","Descrição dos serviços","Valores de Referência (%)","Adotado (%)"]
[]
[1,"Administração Central (Ac)","3,43% - 4,93% - 6,71%",4.9299999999999997E-2,null,1,"Administração Central  (Ac )","1,50% - 3,45% - 4,49%",3.4500000000000003E-2]
["1.1","ESCRITÓRIO CENTRAL",null,null,null,"1.1","ESCRITÓRIO CENTRAL"]
["1.2","VIAGENS",null,null,null,"1.2","VIAGENS"]
["1.3","OUTROS",null,null,null,"1.3","OUTROS"]
[]
[2,"Impostos e Taxas (I)",null,{"$f":"SUM(D21:D24)","v":0.13150000000000001},null,2,"Impostos e Taxas ( I )",null,{"$f":"SUM(I21:I24)","v":3.6499999999999998E-2}]
["2.1","ISS",0.05,0.05,null,"2.1","ISS","-",0]
["2.2","PIS","de 0,65% a 0,65%",6.4999999999999997E-3,null,"2.2","PIS",6.4999999999999997E-3,6.4999999999999997E-3]
["2.3","Cofins","de 3,00% a 3,00%",0.03,null,"2.3","Cofins",0.03,0.03]
["2.4","CPRB",0,4.4999999999999998E-2,null,"2.4","CPRB"]
[]
["3","Garantia e Seguros ( Gs )","0,28% - 0,49% - 0,75%",4.8999999999999998E-3,null,"3","Garantia e Seguros ( Gs )","0,30% - 0,48% - 0,82%",4.7999999999999996E-3]
[]
[4,"Risco ( R )","1,0% - 1,39% - 6,71%",1.3899999999999999E-2,null,4,"Risco ( R )","0,56 - 0,85% - 0,89%",8.5000000000000006E-3]
[]
[4,"Despesas Financeiras (DF)","0,94% - 0,99% - 1,17%",9.9000000000000008E-3,null,5,"Despesas Financeiras ( Df )","de 0,85% - 0,85% -  1,11%",8.5000000000000006E-3]
[]
[5,"Lucro (L)","6,74% - 8,04% - 9,40%",8.0399999999999999E-2,null,6,"Lucro (  L )","de 3,50% - 5,11% - 6,22%",5.11E-2]
[]
[null,"BDI (%) desonerado",null,{"$f":"ROUND(((((1+D15+D26+D28)*(1+D30)*(1+D32))/(1-D20))-1),2)","v":0.34},null,null,"BDI (%) desonerado",null,{"$f":"ROUND((((1+I15+I28+I26)*(1+I30)*(1+I32))/(1-I20))-1,2)","v":0.15}]
[null,"BDI (%) não desonerado",null,{"$f":"ROUND(((((1+D15+D26+D28)*(1+D30)*(1+D32))/(1-(D21+D22+D23)))-1),2)","v":0.28000000000000003},null,null,"BDI (%) não desonerado",null,{"$f":"ROUND(((((1+I15+I26+I28)*(1+I30)*(1+I32))/(1-(I21+I22+I23)))-1),2)","v":0.15}]
[]
[null,"OBS1: ADOTADO VALOR MÉDIO QUARTIL",{"$nulls":4},"OBS1: ADOTADO VALOR 3º QUARTIL"]
[null,"OBS2: Conforme LEI 13.161 /2015:  Em orçamento onde optar-se pelos erviços com desoneração/desonerado, deverá ser incluído no CPRB  o percentual de 4,5% referente a contribuíção previdenciaária.",{"$nulls":4},"OBS2: Conforme LEI 13.161 /2015:  Em orçamento onde optar-se pelos erviços com desoneração/desonerado, deverá ser incluído no CPRB  o percentual de 4,5% referente a contribuíção previdenciaária."]
[null,"OBS3:Adotado Construção de redes de abastecimento de água, coleta de esgoto, e construção correlatas",{"$nulls":4},"OBS3:Adotado Construção de redes de abastecimento de água, coleta de esgoto, e construção correlatas"]
[null,"OBS4: ISS DE 5% REFERÊNCIADO SÃO LUÍS/MA"]

{"sheet":"Det.Encargos Sociais","index":5,"n_rows":44,"n_cols":14,"rows_kept":44,"cut":false,"hidden":false,"merged":[[5,0,6,1],[1,0,1,5],[2,0,2,2],[2,3,2,5],[4,2,4,3],[4,4,4,5],[17,0,17,1],[29,0,29,1],[36,0,36,1],[40,0,40,1],[41,0,41,1]]}
[]
["Detalhamento dos Encargos Sociais – Horista e Mensalista – Com desoneração e Sem Desoneração "]
["MARANHÃO",null,null,"VIGÊNCIA A PARTIR DE 10/2021"]
[]
[null,null,"COM DESONERAÇÃO",null,"SEM DESONERAÇÃO"]
["DISCRIMINAÇÃO",null,"HORISTA","MENSALISTA","HORISTA","MENSALISTA"]
[null,null,"%","%","%","%"]
["A","ENCARGOS SOCIAIS BÁSICOS"]
["A1","INSS",0,0,0.2,0.2]
["A2","SESI",1.4999999999999999E-2,1.4999999999999999E-2,1.4999999999999999E-2,1.4999999999999999E-2]
["A3","SENAI",0.01,0.01,0.01,0.01]
["A4","INCRA",2E-3,2E-3,2E-3,2E-3]
["A5","SEBRAE",6.0000000000000001E-3,6.0000000000000001E-3,6.0000000000000001E-3,6.0000000000000001E-3]
["A6","Salário Educação",2.5000000000000001E-2,2.5000000000000001E-2,2.5000000000000001E-2,2.5000000000000001E-2]
["A7","Seguro Contra Acidente de Trabalho",0.03,0.03,0.03,0.03]
["A8","FGTS",0.08,0.08,0.08,0.08]
["A9","SECONCI",0.01,0.01,0.01,0.01]
["SUBTOTAL DE “A”:",null,0.17799999999999999,0.17799999999999999,0.37800000000000006,0.37800000000000006,{"$nulls":7}," "]
["B","ENCARGOS SOCIAIS QUE RECEBEM INCIDÊNCIA DE “A”"]
["B1","Repouso Semanal Remunerado",0.1787,"Não incide",0.1787,"Não incide"]
["B2","Feriados",3.95E-2,"Não incide",3.95E-2,"Não incide"]
["B3","Auxílio-Enfermidade",8.5000000000000006E-3,6.6E-3,8.5000000000000006E-3,6.6E-3]
["B4","13º Salário",0.1084,8.3299999999999999E-2,0.1084,8.3299999999999999E-2]
["B5","Licença Paternidade",6.9999999999999999E-4,5.9999999999999995E-4,6.9999999999999999E-4,5.9999999999999995E-4]
["B6","Faltas Justificadas",7.1999999999999998E-3,5.5999999999999999E-3,7.1999999999999998E-3,5.5999999999999999E-3]
["B7","Dias de Chuva",1.4800000000000001E-2,"Não incide",1.4800000000000001E-2,"Não incide"]
["B8","Auxílio Acidente de Trabalho",1E-3,8.0000000000000004E-4,1E-3,8.0000000000000004E-4]
["B9","Férias Gozadas",9.1300000000000006E-2,7.0199999999999999E-2,9.1300000000000006E-2,7.0199999999999999E-2]
["B10","Salário Maternidade",2.9999999999999997E-4,2.0000000000000001E-4,2.9999999999999997E-4,2.0000000000000001E-4]
["SUBTOTAL DE “B”:",null,0.45039999999999997,0.16729999999999998,0.45039999999999997,0.16729999999999998]
["C","ENCARGOS SOCIAIS QUE NÃO RECEBEM INCIDÊNCIA DE “A”"]
["C1","Aviso Prévio Indenizado",4.4900000000000002E-2,3.4599999999999999E-2,4.4900000000000002E-2,3.4599999999999999E-2]
["C2","Aviso Prévio Trabalhado",1.1000000000000001E-3,8.0000000000000004E-4,1.1000000000000001E-3,8.0000000000000004E-4]
["C3","Férias Indenizadas",4.5400000000000003E-2,3.49E-2,4.5400000000000003E-2,3.49E-2]
["C4","Depósito Rescisão Sem Justa Causa",3.1099999999999999E-2,2.3900000000000001E-2,3.1099999999999999E-2,2.3900000000000001E-2]
["C5","Indenização Adicional",3.8E-3,2.8999999999999998E-3,3.8E-3,2.8999999999999998E-3]
["SUBTOTAL DE “C”:",null,0.12630000000000002,9.7100000000000006E-2,0.12630000000000002,9.7100000000000006E-2]
["D","REINCIDÊNCIAS DE UM GRUPO SOBRE O OUTRO"]
["D1","Reincidência de “A” sobre “B”",8.0199999999999994E-2,2.98E-2,0.17030000000000001,6.3200000000000006E-2]
["D2","Reincidência de Grupo A sobre Aviso Prévio Trabalhado e Reincidência do FGTS sobre Aviso Prévio Indenizado",3.8E-3,2.8999999999999998E-3,4.0000000000000001E-3,3.0999999999999999E-3]
["SUBTOTAL DE “D”:",null,8.3999999999999991E-2,3.27E-2,0.17430000000000001,6.6300000000000012E-2]
["TOTAIS DE ENCARGOS SOCIAIS:",null,0.8387,0.47509999999999997,1.129,0.70870000000000011]
[]
[null,"Fonte: Informação dias de chuva: INMET"]

{"sheet":"Cronograma","index":6,"n_rows":35,"n_cols":33,"rows_kept":35,"cut":false,"hidden":false,"merged":[[13,0,13,11],[4,0,4,31],[6,0,7,4],[6,5,7,5],[6,6,7,6],[6,7,6,30],[6,31,7,31],[8,1,8,4],[9,1,9,4],[10,1,10,4],[11,1,11,4],[12,0,12,11],[21,0,21,4],[23,0,23,4],[25,0,25,4],[14,0,14,11],[16,0,16,4],[17,0,17,1],[17,2,17,4],[19,0,19,1],[19,2,19,4]]}
[]
[]
[]
[]
["CRONOGRAMA FÍSICO-FINANCEIRO"]
[]
["Item",{"$nulls":4},"DURAÇÃO (DIAS)","DURAÇÃO (MESES)","MÊS",{"$nulls":23},"Custo R$"]
[{"$nulls":7},1,2,3,4,5,6,7,8,9,10,11,12,13,14,15,16,17,18,19,20,21,22,23,36]
[1,"FORNECIMENTO DAS COMPORTAS",null,null,null,{"$f":"MAX(#REF!)","v":{"$error":"#REF!"}},{"$f":"ROUNDUP((F9/30),0)","v":{"$error":"#REF!"}},{"$f":"1801168.33/2","v":900584.16500000004},{"$f":"1801168.33/2","v":900584.16500000004},{"$nulls":22},{"$f":"H9+I9+J9+K9+L9","v":1801168.33},{"$f":"SUM(H9:L9)-AF9","v":0}]
[2,"INSTALAÇÃO DAS COMPORTAS",{"$nulls":7},{"$f":"1014956.64/3","v":338318.88},{"$f":"1014956.64/3","v":338318.88},{"$f":"1014956.64/3","v":338318.88},{"$nulls":19},{"$f":"H10+I10+J10+K10+L10","v":1014956.64},{"$f":"SUM(H10:L10)-AF10","v":0}]
[3,"FORNECIMENTO DOS EQUIPAMENTOS DE TELECOM",null,null,null,{"$f":"MAX(#REF!)","v":{"$error":"#REF!"}},{"$f":"ROUNDUP((F11/30),0)","v":{"$error":"#REF!"}},{"$f":"543008.92/2","v":271504.46000000002},{"$f":"543008.92/2","v":271504.46000000002},{"$nulls":22},543008.92000000004,{"$f":"SUM(H11:L11)-AF11","v":0}]
[4,"INSTALAÇÃO DOS EQUIPAMENTOS DE TELECOM",null,null,null,{"$f":"MAX(#REF!)","v":{"$error":"#REF!"}},{"$error":"#REF!"},null,null,{"$f":"1185756.32/3","v":395252.10666666669},{"$f":"1185756.32/3","v":395252.10666666669},{"$f":"1185756.32/3","v":395252.10666666669},{"$nulls":19},1185756.32,{"$f":"SUM(H12:L12)-AF12","v":0}]
["VALOR ORÇAMENTO:",{"$nulls":30},{"$f":"SUM(AF9:AF12)","v":4544890.21}]
[]
["VALOR TOTAL:",{"$nulls":30},{"$f":"SUM(AF13:AF14)","v":4544890.21}]
[]
["Mês",{"$nulls":6},1,2,3,4,5,6,7,8,9,10,11,12,13,14,15,16,17,18,19,20,21,22,23,24]
["TOTAL ACUMULADO (R$)=",null,{"$f":"SUM(H18:AE18)","v":4544890.21},{"$nulls":4},{"$f":"SUM(H9:H10,H11:H12)","v":1172088.625},1172088.625,733570.98666666669,733570.98666666669,733570.98666666669,0,0,0,0,0,0,0,0,0,0,0,0,0,0,0,0,0,0,0]
[]
["DESEMBOLSO DO PERÍODO (R$)=",null,{"$f":"SUM(H20:AE20)","v":4544890.21},null,null,{"$f":"F18","v":0},{"$f":"G18","v":0},{"$f":"H18","v":1172088.625},{"$f":"I18","v":1172088.625},733570.98666666669,733570.98666666669,733570.98666666669,0,0,0,0,0,0,0,0,0,0,0,0,0,0,0,0,0,0,0]
[]
["DESEMBOLSO DO PERÍODO ACUMULADO (R$)=",{"$nulls":4},{"$f":"F20","v":0},{"$f":"G20","v":0},{"$f":"H20","v":1172088.625},{"$f":"H22+I20","v":2344177.25},{"$f":"I22+J20","v":3077748.2366666668},3811319.2233333336,4544890.21,4544890.21,4544890.21,4544890.21,4544890.21,4544890.21,4544890.21,4544890.21,4544890.21,4544890.21,4544890.21,4544890.21,4544890.21,4544890.21,4544890.21,4544890.21,4544890.21,4544890.21,4544890.21,{"$f":"AD22+AE20","v":4544890.21}]
[]
["PERCENTUAL DO PERÍODO (%)=",{"$nulls":4},{"$f":"F22","v":0},{"$f":"G22","v":0},{"$f":"H20/$C$20","v":0.25789151571166335},{"$f":"I20/$C$20","v":0.25789151571166335},0.16140565619222444,0.16140565619222444,0.16140565619222444,0,0,0,0,0,0,0,0,0,0,0,0,0,0,0,0,0,0,0]
[]
["PERCENTUAL ACUMLADO (%)=",{"$nulls":4},{"$f":"F24","v":0},{"$f":"G24","v":0},{"$f":"H22/$C$20","v":0.25789151571166335},0.51578303142332671,0.67718868761555118,0.83859434380777564,1,1,1,1,1,1,1,1,1,1,1,1,1,1,1,1,1,1,1,1]
[]
[]
[]
["X","Y"]
[1,{"$f":"H18","v":1172088.625}]
[2,{"$f":"I18","v":1172088.625}]
[3,{"$f":"J18","v":733570.98666666669}]
[4,{"$f":"K18","v":733570.98666666669}]
[5,{"$f":"L18","v":733570.98666666669}]