{"text_format":"2","workbook":"xlsx","n_sheets":17,"sheets":["Resumo","Encarregado","ASG","Copeira","Recepcionista","Eletricista","AMP","Almoxarife","Apoio Téc. ADM II","Complemento Serviço Limpeza","Calc. das áreas","Produtividade","Quadro Resumo","EPI ","Equipamentos","Material","Uniformes"],"not_rendered":{"charts":0,"images":107,"macros":0,"external_links":0,"defined_names":1,"comments":0,"pivot_tables":0},"unopened":[],"bounds":{"document_bytes":16777216,"sheet_cells":100000,"run_cost":"one","rows_first":2000,"rows_last":500,"rows_between":2000,"halvings":0,"cell_chars":16384,"cell_head_chars":4096},"cells_cut":0,"cells_raw":0,"read":"whole","date_system":"1900"}

{"sheet":"Resumo","index":0,"n_rows":20,"n_cols":13,"rows_kept":20,"cut":false,"hidden":false,"merged":[[6,0,6,13],[7,0,7,13],[8,0,8,13],[9,2,9,4],[9,7,9,8],[9,9,9,10],[9,12,9,13],[10,2,10,4],[10,7,10,8],[10,9,10,10],[10,12,10,13],[11,2,11,4],[11,7,11,8],[11,9,11,10],[11,12,11,13],[12,2,12,4],[12,7,12,8],[12,9,12,10],[12,12,12,13],[13,2,13,3],[13,7,13,8],[13,9,13,10],[13,12,13,13],[14,2,14,4],[14,7,14,8],[14,9,14,10],[14,12,14,13],[15,2,15,3],[15,7,15,8],[15,9,15,10],[15,12,15,13],[16,2,16,3],[16,7,16,8],[16,9,16,10],[16,12,16,13],[17,2,17,3],[17,7,17,8],[17,9,17,10],[17,12,17,13],[18,2,18,3],[18,7,18,8],[18,9,18,10],[18,12,18,13],[19,0,19,13],[10,0,17,0],[10,1,17,1],[0,0,5,13]]}
["Ministério do Desenvolvimento Regional-MDR\n         Companhia  de  Desenvolvimento  dos  Vales  do  São  Francisco e do Parnaíba\n3ª Superintendência Regional da CODEVASF- 3ªSR\nGerência Regional de Administração e Suporte Logístico-3ªGRA\nPlanilha de custos- Resumo\n              Discriminação dos Serviços"]
[]
[]
[]
[]
[]
["Serviços de Limpeza, Conservação, Copa, Eletricista, Manutenção Predial, Supervisão e Recepção para SEDE 3ª Superintendência Regional da Codevasf e suas Unidades Descentralizadas."]
["Os salarios estão baseados na Convenção Coletiva de Trabalho 2022/2022 do SEAC-PE (Sindicato das Empresas de Asseio e Conservação). Conforme Anexo III (Tabela de Salários) da CCT 2022/2022."]
["VALOR MENSAL E GLOBAL DOS SERVIÇOS-3ªSR"]
["ITEM","CÓDIGO CATSER","POSTO DE SERVIÇO",null,null,"DESCRIÇÃO SUMÁRIA","QTDE DE POSTOS","VALOR UNITÁRIO POSTO (R$)",null,"VALOR TOTAL MENSAL (R$)",null,"Nº DE MESES","VALOR ANUAL (R$)"]
[1,25194,"ASG",null,null,"Conservam a limpeza de logradouros públicos por meio de coleta de lixo, varreções, lavagens, pintura de guias, aparo de gramas etc. Lavam vidros de janelas e fachadas de edifícios e limpam recintos e acessórios dos mesmos. Executam instalações, reparos de manutenção e serviços de manutenção em dependências de edificações. Atendem transeuntes, visitantes e moradores, prestando-lhes informações. Zelam pela segurança do patrimônio e das pessoas, solicitando meios e tomando providências para a realização dos serviços",14,{"$f":"ASG!J120","v":4308.72},null,{"$f":"G11*H11","v":60322.08},null,12,{"$f":"J11*L11","v":723864.96}]
[null,null,"Copeira",null,null,"Atendem os clientes, recepcionando-os e servindo refeições e bebidas em restaurantes, bares, clubes, cantinas, hotéis, eventos e hospitais; montam e desmontam praças, carrinhos, mesas, balcões e bares; organizam, conferem e controlam materiais de trabalho, bebidas e alimentos, listas de espera, a limpeza e higiene e a segurança do local de trabalho; preparam alimentos e bebidas.",1,{"$f":"Copeira!J120","v":5238.43},null,{"$f":"(G12*H12)","v":5238.43},null,12,{"$f":"J12*L12","v":62861.16}]
[null,null,"Recepcionista",null,null,"Recepcionam e prestam  serviços de apoio a clientes, pacientes, hóspedes, visitantes e passageiros; prestam  atendimento telefônico e fornecem informações em  escritórios, consultórios, hoteis, hospitais, bancos, aeroportos e outros estabelecimentos; marcam entrevistas ou consultas e recebem clientes ou visitantes; averiguam suas necessidades e dirigem ao lugar ou a pessoa procurados; agendam serviços, reservam (hotéis e passagens) e indicam acomodações em hotéis e estabelecimentos similares; observam normas internas de segurança, conferindo documentos e idoneidade dos clientes e notificando seguranças sobre presenças estranhas; fecham contas e estadas de clientes. Organizam informações e planejam o trabalho do cotidiano.",3,{"$f":"Recepcionista!J120","v":3884.97},null,{"$f":"(G13*H13)","v":11654.91},null,12,139858.92]
[null,null,"Eletricista",null,null,"Montam, ajustam, instalam, e repararam aparelhos e equipamentos elétricos , tais como motores, dínamos, instrumentos, aparelhos transmissores e receptores de sinais, aparelhos eletro-doméstico, computadores, equipamentos auxiliares, aparelhos de controle e regulagem de corrente. Fazem  instalações elétricas, telefônicas e telegráficas e seu equipamento auxiliar. Executam outras tarefas de mesma natureza e nível de complexidade associadas ao ambiente organizacional.",1,{"$f":"Eletricista!J120","v":6245.59},null,{"$f":"(G14*H14)","v":6245.59},null,12,74947.08]
[null,null,"Ajudante de Manutenção",null,null,"Executam manutenções elétrica e hidráulica, substituindo, trocando, limpando, reparando e instalando peças, componentes e equipamentos. Realizam manutenção de carpintaria e marcenaria, consertando móveis, substituindo e ajustando portas e janelas, trocando peças e reparando pisos e assoalhos. Conservam alvenaria e fachadas e recuperam pinturas, impermeabilizam superfícies, lavando, preparando e aplicando produtos. Montam equipamentos de trabalho e segurança, inspecionando local e instalando peças e componentes em equipamentos. Executam serviços gerais em residências. Requisitos exigidos: Formação de nível médio ou quivalente; Experiência minima de 1 ano e Habilitação profissional.",2,{"$f":"AMP!J120","v":4218.12},null,{"$f":"(G15*H15)","v":8436.24},null,12,101234.88]
[null,null,"Almoxarife",null,null,"Coordenam  a entrada e saída de mercadoria, fazem  registro e inventário de materiais permanentes ou de consumo, para controle interno de forma a indentificar itens defeituosos e enviá-los para reparo. Conferem se os produtos recebidos estão de acordo com o que foi solicitado, em quantidade e integridade. Manipulam  softwares e planilhas para facililar a execução dos seus serviços. Também  são responsáveis por classificar os produtos de acordo com  seu tipo e alocá-los no espaço adequado dando a devida atenção a materiais perecíveis ou de alta periculosidade (produtos químicos ou explosivos, por exemplo). Tomam as  providências caso identifique alguma irregularidade observando se a sua equipe está utilizando os equipamentos de segurança exigidos para cada tipo de manuseio de forma a garantir o cumprimento das normas e regulamentos do almoxarifado.",1,{"$f":"Almoxarife!J120","v":4039.04},null,{"$f":"G16*H16","v":4039.04},null,12,48468.48]
[null,null,"Apoio Técnico Administrativo II",null,null,"Apoiam atividades administrativas setoriais, atendem a fornecedores e clientes, coletando informações para auxiliar a tomada de decisão dos gestores. Manuseiam documentos técnicos diversos de forma a dar a devido tratamento e destinação.  Auxiliam na operacionalização  de relatórios, planilhas e demais rotinas administrativas compatíveis com o cargo.",1,{"$f":"'Apoio Téc. ADM II'!J120","v":6677.98},null,{"$f":"G17*H17","v":6677.98},null,12,80135.76]
[null,null,"Encarregado",null,null,"Garantem  a qualidade dos serviços de limpeza e conservação executados, virificando o atendimento das áreas e o cumprimento dos serviços dentro da frequência exigida neste termo de referência, acompanham, orientam  e controlam o uso dos materiais e equipamentos de forma a garantir a preservação e economicidade dos mesmos, monitorando a conduta dos funcionários, orientando-os quanto ao armazenamento e acondionamento dos materiais, de forma a garantir o melhor aproveitamento dos recursos, acompanhando o desempenho dos funcionários e executam outras tarefas compatíveis com as exigências para o exercício da função.",1,{"$f":"Encarregado!J120","v":4322.54},null,{"$f":"H18*G18","v":4322.54},null,12,51870.48]
["TOTAL  3ªSR",{"$nulls":5},{"$f":"SUM(G11:G18)","v":24},null,null,{"$f":"SUM(J11:K18)","v":106936.81},null,null,{"$f":"SUM(M11:N18)","v":1283241.72}]
["Petrolina, Novembro/ 2022."]

{"sheet":"Encarregado","index":1,"n_rows":132,"n_cols":14,"rows_kept":132,"cut":false,"hidden":false,"merged":[[5,0,5,9],[6,0,6,9],[7,1,7,7],[7,8,7,9],[8,1,8,7],[8,8,8,9],[9,1,9,7],[9,8,9,9],[10,1,10,7],[10,8,10,9],[11,1,11,7],[11,8,11,9],[12,1,12,7],[12,8,12,9],[13,1,13,9],[14,0,14,9],[15,1,15,7],[15,8,15,9],[16,1,16,7],[16,8,16,9],[17,1,17,7],[17,8,17,9],[18,1,18,7],[18,8,18,9],[19,1,19,7],[19,8,19,9],[20,1,20,9],[21,0,21,9],[22,1,22,7],[22,8,22,9],[23,1,23,7],[23,8,23,9],[24,1,24,7],[24,8,24,9],[25,1,25,7],[25,8,25,9],[26,1,26,7],[26,8,26,9],[27,1,27,7],[27,8,27,9],[28,1,28,7],[28,8,28,9],[29,1,29,7],[29,8,29,9],[30,0,30,7],[30,8,30,9],[31,0,31,9],[32,0,32,9],[33,0,33,9],[34,1,34,7],[35,1,35,7],[36,1,36,7],[37,0,37,7],[38,0,38,9],[39,0,39,9],[40,1,40,7],[41,1,41,7],[42,1,42,7],[43,1,43,7],[44,1,44,7],[45,1,45,7],[46,1,46,7],[47,1,47,7],[48,1,48,7],[49,0,49,7],[50,1,50,9],[51,0,51,9],[52,1,52,7],[53,1,53,7],[54,1,54,7],[55,1,55,7],[56,1,56,7],[57,0,57,7],[58,0,58,9],[59,0,59,9],[60,1,60,7],[61,1,61,7],[62,1,62,7],[63,1,63,7],[64,0,64,7],[65,0,65,9],[66,0,66,9],[67,1,67,7],[68,1,68,7],[69,1,69,7],[70,1,70,7],[71,1,71,7],[72,1,72,7],[73,0,73,7],[74,0,74,9],[75,0,75,9],[76,0,76,9],[77,1,77,7],[78,1,78,7],[79,1,79,7],[80,1,80,7],[81,1,81,7],[82,1,82,7],[83,1,83,7],[84,1,84,7],[85,1,85,7],[86,1,86,7],[87,1,87,7],[88,1,88,7],[89,1,89,7],[90,0,90,7],[91,0,91,9],[92,0,92,9],[93,1,93,7],[94,1,94,7],[95,1,95,7],[96,1,96,7],[97,1,97,7],[98,0,98,7],[99,0,99,9],[100,0,100,9],[101,1,101,7],[102,1,102,7],[103,1,103,7],[104,1,104,7],[105,1,105,7],[106,1,106,7],[107,1,107,7],[108,0,108,7],[109,0,109,9],[110,0,110,9],[111,0,111,8],[112,1,112,8],[113,1,113,8],[114,1,114,8],[115,1,115,8],[116,1,116,8],[117,0,117,8],[118,1,118,8],[119,0,119,8],[121,3,121,8],[122,3,122,7],[123,3,123,7],[124,3,124,7],[125,3,125,7],[126,3,126,7],[127,3,127,7],[129,0,129,7],[130,0,130,7],[131,0,131,7],[0,0,4,9]]}
["Companhia  de  Desenvolvimento  dos  Vales  do  São  Francisco e do Parnaíba\n3ª Superintendência Regional da CODEVASF-3ªSR\nGerência Regional de Administração e Suporte Logístico-3ªGRA\nPlanilha de Custos e Formação de Preços"]
[]
[]
[]
[]
[]
["DISCRIMINAÇÃO DOS SERVIÇOS"]
[1,"Data de Apresentação da Proposta",{"$nulls":6},"2022-11-18"]
[2,"Município/UF",{"$nulls":6},"PETROLINA/PE"]
[3,"Ano - Acordo, Convenção Coletiva ou Sentença Normativa em Dissídio",{"$nulls":6},"SIEMACO/SEAC - PERNAMBUCO- 2022"]
[4,"Convenção/Acordo Coletivo de Trabalho - Nº do processo e Registro no MTE",{"$nulls":6},"PE000091/2022 13623.100419/2022-07"]
[5,"Vigência da Convenção",{"$nulls":6},"01 de janeiro/2022 a 31 de dezembro/2022"]
[6,"Nº de Meses de Execução Contratual",{"$nulls":6},12]
[]
["IDENTIFICAÇÃO DOS SERVIÇOS"]
[1,"Tipo de Serviço",{"$nulls":6},"LIMPEZA E CONSERVAÇÃO"]
[2,"Unidade de Medida",{"$nulls":6},"POSTO"]
[3,"Quantidade a Contratar em Função da Unidade de Medida",{"$nulls":6},1]
[4,"Categoria profissional",{"$nulls":6},"ENCARREGADO - ITEM 90"]
[5,"Salário Normativo da Categoria Profissional",{"$nulls":6},1537.76]
[]
["MÓDULO 1 - COMPOSIÇÃO DA REMUNERAÇÃO"]
["A","Salário Base",{"$nulls":6},{"$f":"I20","v":1537.76}]
["B","Adicional de Periculosidade",{"$nulls":6},0]
["C","Adicional de insalubridade",{"$nulls":6},0]
["D","Adicional Noturno",{"$nulls":6},0]
["E","Hora Noturna Adicional",{"$nulls":6},0]
["F","Adicional de Hora Extra",{"$nulls":6},0]
["G","Intervalo Intrajornada",{"$nulls":6},0]
["H","Outros",{"$nulls":6},0]
["Remuneração Total",{"$nulls":7},{"$f":"SUM(I23:I30)","v":1537.76}]
[]
["MÓDULO 2 - ENCARGOS E BENEFÍCIOS ANUAIS, MENSAIS E DIÁRIOS"]
["SUBMÓDULO 2.1 - 13º (Décimo terceiro) Salário, Férias e Adicional de Férias"]
["2.1","13º (Décimo terceiro) Salário e Adicional de Férias",{"$nulls":6},"%","VALOR"]
["A","13º (décimo terceiro) Salário",{"$nulls":6},0.0833,{"$f":"I31*I36","v":128.1}]
["B","Férias e Adicional de Férias",{"$nulls":6},0.1111,{"$f":"I31*I37","v":170.85}]
["Total",{"$nulls":8},{"$f":"SUM(J36:J37)","v":298.95}]
[]
["SUBMÓDULO 2.2 - Encargos Previdenciários (GPS), Fundo de Garantia por Tempo de Serviço (FGTS) e outras contribuições."]
["2.2","GPS, FGTS e outras contribuições",{"$nulls":6},"%","VALOR"]
["A","INSS",{"$nulls":6},0.2,{"$f":"($I$31+$J$38)*I42","v":367.34}]
["B","Salário Educação",{"$nulls":6},0.025,45.92]
["C","Seguro Acidente do Trabalho/SAT/INSS",{"$nulls":6},0.03,55.1]
["D","SESI/SESC",{"$nulls":6},0.015,27.55]
["E","SENAI/SENAC",{"$nulls":6},0.01,18.37]
["F","INCRA",{"$nulls":6},0.002,3.67]
["G","FGTS",{"$nulls":6},0.08,146.94]
["H","SEBRAE",{"$nulls":6},0.006,11.02]
["Total",{"$nulls":7},{"$f":"SUM(I42:I49)","v":0.368},{"$f":"SUM(J42:J49)","v":675.91}]
[]
["SUBMÓDULO 2.3 - Benefícios Mensais e Diários."]
["2.3","Benefícios Mensais e Diários",{"$nulls":6},"%","VALOR"]
["A","Auxílio Alimentação - Cláusula 9º e 11º da CCT (R$ 8,42 * 22 dias)",{"$nulls":7},{"$f":"(22*8.42)","v":185.24}]
["B","Vale Transporte - Cláusula 12ª da CCT (4,10 - valor da passagem  x 2 = 8,20 x 26 - Dias trabalhados)",{"$nulls":7},{"$f":"(8.2*26)","v":213.2}]
["C","Desconto Legal sobre Vale Transporte - Cláusula 12ª da CCT, (6% - seis por cento).",{"$nulls":7},{"$f":"(-6%*I20)","v":-92.27}]
["D","Auxílio Saúde/Assistência Médica - Cláusula 13ª da CCT",{"$nulls":7},66.15]
["Total",{"$nulls":8},{"$f":"SUM(J54:J57)","v":372.32}]
[]
["Quadro-Resumo do Módulo 2 - Encargos e Benefícios anuais, mensais e diários"]
[2,"Encargos e Benefícios Anuais, Mensais e Diários",{"$nulls":7},"VALOR"]
["2.1","13º (décimo terceiro) Salário, Férias e Adicional de Férias",{"$nulls":7},{"$f":"J38","v":298.95}]
["2.2","GPS, FGTS e outras contribuições",{"$nulls":7},{"$f":"J50","v":675.91}]
["2.3","Benefícios Mensais e Diários",{"$nulls":7},{"$f":"J58","v":372.32}]
["Total",{"$nulls":8},{"$f":"SUM(J62:J64)","v":1347.18}]
[]
["Módulo 3 - Provisão para Rescisão",{"$nulls":10},"GPS"]
[3,"Provisão para Rescisão",{"$nulls":7},"VALOR"]
["A","Aviso prévio indenizado",{"$nulls":7},{"$f":"M69","v":80.61},{"$f":"I31+J65-L69","v":2355.97},{"$f":"(I31+J38)*0.288","v":528.97},{"$f":"K69/12*0.4106","v":80.61}]
["B","Multa do FGTS e contribuição social sobre o Aviso Prévio Indenizado",{"$nulls":7},{"$f":"L70","v":30.17},{"$f":"J48","v":146.94},{"$f":"(K70*0.4+K70*0.1)*0.4106","v":30.17},{"$f":"K70*0.5*0.4106","v":30.17}]
["C","Aviso Prévio Trabalhado",{"$nulls":7},98.71,{"$f":"I31+J65","v":2884.94},{"$f":"K71/12*0.4106","v":98.71}]
["D","Multa do FGTS e contribuição social sobre o Aviso Prévio Trabalhado",{"$nulls":7},30.17,{"$f":"J48","v":146.94},{"$f":"(K72*0.4+K72*0.1)*0.4106","v":30.17},{"$f":"K72*0.5*0.4106","v":30.17}]
["E","Demissão com Justa Causa",{"$nulls":7},{"$f":"N73","v":-3.74},{"$f":"J36","v":128.1},{"$f":"J37","v":170.85},{"$f":"K73+L73","v":298.95},{"$f":"-M73*0.0125","v":-3.74}]
["Total",{"$nulls":8},{"$f":"SUM(J69:J73)","v":235.92}]
[]
[]
["Módulo 4 - Custo de Reposição do Profissional Ausente"]
["4.1","Ausências Legais",{"$nulls":6},"Dias/Ano","VALOR"]
["A","Férias ",{"$nulls":6},20.9589,{"$f":"$L$79*I79/12-0.01","v":181.69},{"$f":"I31+J65+J74","v":3120.86},{"$f":"K79/30","v":104.03},{"$f":"L79*I91","v":3066.16},{"$f":"M79/12","v":255.51}]
["B","Ausência justificada",{"$nulls":6},1,{"$f":"$L$79*I80/12","v":8.67}]
["C","Acidente de trabalho",{"$nulls":6},0.9659,8.37]
["D","Afastamento por doença",{"$nulls":6},3.4932,{"$f":"$L$79*I82/12-0.01","v":30.27}]
["E","Consulta médica filho",{"$nulls":6},0.2688,{"$f":"$L$79*I83/12","v":2.33}]
["F","Óbitos na família",{"$nulls":6},0.0427,{"$f":"$L$79*I84/12","v":0.37}]
["G","Casamento",{"$nulls":6},0.0355,0.31]
["H","Doação de Sangue",{"$nulls":6},0.02,0.17]
["I","Testemunho",{"$nulls":6},0.004,0.03]
["J","Paternidade",{"$nulls":6},0.1997,1.73]
["K","Maternidade",{"$nulls":6},2.4753,21.46]
["L","Consulta pré-natal",{"$nulls":6},0.0098,0.08]
["Total",{"$nulls":7},{"$f":"SUM(I79:I90)","v":29.4738},{"$f":"SUM(J79:J90)","v":255.48}]
[]
["Módulo 5 - Insumos Diversos"]
[5,"Insumos Diversos",{"$nulls":6},"%","VALOR"]
["A","Material",{"$nulls":7},0]
["B","Equipamento de Proteção Individual - EPI (Norma Regulamentadora nº 06) - Cláusula 35ª da CCT",{"$nulls":7},{"$f":"'EPI '!J80","v":55.12}]
["C","Uniforme",{"$nulls":7},{"$f":"Uniformes!J258","v":38.96}]
["D","Depreciação e Manutenção de Equipamentos",{"$nulls":7},0]
["Total",{"$nulls":8},{"$f":"SUM(J95:J98)","v":94.08}]
[]
["Módulo 6 - Custos Indiretos, Tributos e Lucro"]
[6,"Custos Indiretos, Tributos e Lucro",{"$nulls":6},"%","VALOR"]
["A","Despesas Administrativas/Operacionais",{"$nulls":6},0.025,{"$f":"(I$31+J$65+J$74+J$91+J$99)*I103","v":86.76},"( De acordo com o caderno técnico - Limpeza - Pernambuco)"]
["B","Lucro",{"$nulls":6},0.042,{"$f":"(I$31+J$65+J$74+J$91+J$99+J$103)*I104","v":149.4},"( De acordo com o caderno técnico - Limpeza - Pernambuco)"]
["C","Tributos"]
[null,"01 - ISSQN e ISS",{"$nulls":6},0.05,{"$f":"I128","v":216.13}]
[null,"02 - PIS",{"$nulls":6},0.0165,{"$f":"I126","v":71.32}]
[null,"03 - COFINS",{"$nulls":6},0.076,{"$f":"I127","v":328.51}]
["Total",{"$nulls":7},{"$f":"SUM(I103:I108)","v":0.2095},{"$f":"SUM(J103:J108)","v":852.12}]
[]
["2. QUADRO-RESUMO DO CUSTO POR EMPREGADO"]
["MÃO DE OBRA VINCULADA A EXECUÇÃO CONTRATUAL (VALOR POR EMPREGADO)",{"$nulls":8},"VALOR"]
["A","Módulo 1 - Composição da Remuneração",{"$nulls":7},{"$f":"I31","v":1537.76}]
["B","Módulo 2 - Encargos e Benefícios Anuais, Mensais e Diários",{"$nulls":7},{"$f":"J65","v":1347.18}]
["C","Módulo 3 - Provisão para Rescisão",{"$nulls":7},{"$f":"J74","v":235.92}]
["D","Módulo 4 - Custo de Reposição do Profissional Ausente",{"$nulls":7},{"$f":"J91","v":255.48}]
["E","Módulo 5 - Insumos Diversos",{"$nulls":7},{"$f":"J99","v":94.08}]
["SUBTOTAL (A+B+C+D+E)",{"$nulls":8},{"$f":"SUM(J113:J117)","v":3470.42}]
["F","Módulo 6 – Custos Indiretos, Tributos e Lucro",{"$nulls":7},{"$f":"J109","v":852.12}]
["VALOR TOTAL POR POSTO",{"$nulls":8},{"$f":"SUM(J118:J119)","v":4322.54}]
[]
[null,null,null,"(*) Cálculo do valor dos tributos"]
[null,null,null,"P0 = Mod. 1 + Mod. 2 + Mod. 3 + Mod.4 + Mod.5 + Mod. 6",{"$nulls":4},{"$f":"(I$31+J$65+J$74+J$91+J$99+J$103+J104)","v":3706.58}]
[null,null,null,"P1 = P0/(1-0,1425)",{"$nulls":4},{"$f":"I123/(1-(SUM(I106:I108)))","v":4322.54}]
[null,null,null,"T = P1 - P0",{"$nulls":4},{"$f":"I124-I123","v":615.96}]
[null,null,null,"PIS = (1,65/14,25) x T",{"$nulls":4},{"$f":"I107/(SUM(I106:I108))*I125","v":71.32}]
[null,null,null,"COFINS = (7,60/14,25) x T",{"$nulls":4},{"$f":"I108/(SUM(I106:I108))*I125","v":328.51}]
[null,null,null,"ISS = (5,00/14,25) x T",{"$nulls":4},{"$f":"I106/(SUM(I106:I108))*I125","v":216.13}]
[]
["VALOR TOTAL DA CONTRATAÇÃO",{"$nulls":7},"MENSAL","ANUAL"]
["VALOR TOTAL - 01 POSTO (ENCARREGADO)",{"$nulls":7},{"$f":"J120","v":4322.54},{"$f":"I131*12","v":51870.48}]
["VALOR TOTAL - 01POSTOS (ENCARREGADO)",{"$nulls":7},{"$f":"I131*1","v":4322.54},{"$f":"I132*12","v":51870.48}]

{"sheet":"ASG","index":2,"n_rows":132,"n_cols":14,"rows_kept":132,"cut":false,"hidden":false,"merged":[[5,0,5,9],[6,0,6,9],[7,1,7,7],[7,8,7,9],[8,1,8,7],[8,8,8,9],[9,1,9,7],[9,8,9,9],[10,1,10,7],[10,8,10,9],[11,1,11,7],[11,8,11,9],[12,1,12,7],[12,8,12,9],[13,1,13,9],[14,0,14,9],[15,1,15,7],[15,8,15,9],[16,1,16,7],[16,8,16,9],[17,1,17,7],[17,8,17,9],[18,1,18,7],[18,8,18,9],[19,1,19,7],[19,8,19,9],[20,1,20,9],[21,0,21,9],[22,1,22,7],[22,8,22,9],[23,1,23,7],[23,8,23,9],[24,1,24,7],[24,8,24,9],[25,1,25,7],[25,8,25,9],[26,1,26,7],[26,8,26,9],[27,1,27,7],[27,8,27,9],[28,1,28,7],[28,8,28,9],[29,1,29,7],[29,8,29,9],[30,0,30,7],[30,8,30,9],[31,0,31,9],[32,0,32,9],[33,0,33,9],[34,1,34,7],[35,1,35,7],[36,1,36,7],[37,0,37,7],[38,0,38,9],[39,0,39,9],[40,1,40,7],[41,1,41,7],[42,1,42,7],[43,1,43,7],[44,1,44,7],[45,1,45,7],[46,1,46,7],[47,1,47,7],[48,1,48,7],[49,0,49,7],[50,1,50,9],[51,0,51,9],[52,1,52,7],[53,1,53,7],[54,1,54,7],[55,1,55,7],[56,1,56,7],[57,0,57,7],[58,0,58,9],[59,0,59,9],[60,1,60,7],[61,1,61,7],[62,1,62,7],[63,1,63,7],[64,0,64,7],[65,0,65,9],[66,0,66,9],[67,1,67,7],[68,1,68,7],[69,1,69,7],[70,1,70,7],[71,1,71,7],[72,1,72,7],[73,0,73,7],[74,0,74,9],[75,0,75,9],[76,0,76,9],[77,1,77,7],[78,1,78,7],[79,1,79,7],[80,1,80,7],[81,1,81,7],[82,1,82,7],[83,1,83,7],[84,1,84,7],[85,1,85,7],[86,1,86,7],[87,1,87,7],[88,1,88,7],[89,1,89,7],[90,0,90,7],[91,0,91,9],[92,0,92,9],[93,1,93,7],[94,1,94,7],[95,1,95,7],[96,1,96,7],[97,1,97,7],[98,0,98,7],[99,0,99,9],[100,0,100,9],[101,1,101,7],[102,1,102,7],[103,1,103,7],[104,1,104,7],[105,1,105,7],[106,1,106,7],[107,1,107,7],[108,0,108,7],[109,0,109,9],[110,0,110,9],[111,0,111,8],[112,1,112,8],[113,1,113,8],[114,1,114,8],[115,1,115,8],[116,1,116,8],[117,0,117,8],[118,1,118,8],[119,0,119,8],[121,3,121,8],[122,3,122,7],[123,3,123,7],[124,3,124,7],[125,3,125,7],[126,3,126,7],[127,3,127,7],[129,0,129,7],[130,0,130,7],[131,0,131,7],[0,0,4,9]]}
["Companhia  de  Desenvolvimento  dos  Vales  do  São  Francisco e do Parnaíba\n3ª Superintendência Regional da CODEVASF-3ªSR\nGerência Regional de Administração e Suporte Logístico-3ªGRA\nPlanilha de Custos e Formação de Preços"]
[]
[]
[]
[]
[]
["DISCRIMINAÇÃO DOS SERVIÇOS"]
[1,"Data de Apresentação da Proposta",{"$nulls":6},"2022-11-18"]
[2,"Município/UF",{"$nulls":6},"PETROLINA/PE"]
[3,"Ano - Acordo, Convenção Coletiva ou Sentença Normativa em Dissídio",{"$nulls":6},"SIEMACO/SEAC - PERNAMBUCO- 2022"]
[4,"Convenção/Acordo Coletivo de Trabalho - Nº do processo e Registro no MTE",{"$nulls":6},"PE000091/2022 13623.100419/2022-07"]
[5,"Vigência da Convenção",{"$nulls":6},"01 de janeiro/2022 a 31 de dezembro/2022"]
[6,"Nº de Meses de Execução Contratual",{"$nulls":6},12]
[]
["IDENTIFICAÇÃO DOS SERVIÇOS"]
[1,"Tipo de Serviço",{"$nulls":6},"LIMPEZA E CONSERVAÇÃO"]
[2,"Unidade de Medida",{"$nulls":6},"POSTO"]
[3,"Quantidade a Contratar em Função da Unidade de Medida",{"$nulls":6},14]
[4,"Categoria profissional",{"$nulls":6},"AUXILIAR DE SERVIÇOS GERAIS - ITEM 23"]
[5,"Salário Normativo da Categoria Profissional",{"$nulls":6},1236.43]
[]
["MÓDULO 1 - COMPOSIÇÃO DA REMUNERAÇÃO"]
["A","Salário Base",{"$nulls":6},{"$f":"I20","v":1236.43}]
["B","Adicional de Periculosidade",{"$nulls":6},0]
["C","Adicional de insalubridade",{"$nulls":6},0]
["D","Adicional Noturno",{"$nulls":6},0]
["E","Hora Noturna Adicional",{"$nulls":6},0]
["F","Adicional de Hora Extra",{"$nulls":6},0]
["G","Intervalo Intrajornada",{"$nulls":6},0]
["H","Outros",{"$nulls":6},0]
["Remuneração Total",{"$nulls":7},{"$f":"SUM(I23:I30)","v":1236.43}]
[]
["MÓDULO 2 - ENCARGOS E BENEFÍCIOS ANUAIS, MENSAIS E DIÁRIOS"]
["SUBMÓDULO 2.1 - 13º (Décimo terceiro) Salário, Férias e Adicional de Férias"]
["2.1","13º (Décimo terceiro) Salário e Adicional de Férias",{"$nulls":6},"%","VALOR"]
["A","13º (décimo terceiro) Salário",{"$nulls":6},0.0833,{"$f":"I31*I36","v":102.99}]
["B","Férias e Adicional de Férias",{"$nulls":6},0.1111,{"$f":"I31*I37","v":137.37}]
["Total",{"$nulls":8},{"$f":"SUM(J36:J37)","v":240.36}]
[]
["SUBMÓDULO 2.2 - Encargos Previdenciários (GPS), Fundo de Garantia por Tempo de Serviço (FGTS) e outras contribuições."]
["2.2","GPS, FGTS e outras contribuições",{"$nulls":6},"%","VALOR"]
["A","INSS",{"$nulls":6},0.2,{"$f":"($I$31+$J$38)*I42","v":295.36}]
["B","Salário Educação",{"$nulls":6},0.025,36.92]
["C","Seguro Acidente do Trabalho/SAT/INSS",{"$nulls":6},0.03,44.3]
["D","SESI/SESC",{"$nulls":6},0.015,22.15]
["E","SENAI/SENAC",{"$nulls":6},0.01,14.77]
["F","INCRA",{"$nulls":6},0.002,2.95]
["G","FGTS",{"$nulls":6},0.08,118.14]
["H","SEBRAE",{"$nulls":6},0.006,8.86]
["Total",{"$nulls":7},{"$f":"SUM(I42:I49)","v":0.368},{"$f":"SUM(J42:J49)","v":543.45}]
[]
["SUBMÓDULO 2.3 - Benefícios Mensais e Diários."]
["2.3","Benefícios Mensais e Diários",{"$nulls":6},"%","VALOR"]
["A","Auxílio Alimentação - Cláusula 9º e 11º da CCT (R$ 8,42 * 22 dias + Cesta básica R$ 114,39)",{"$nulls":7},{"$f":"(22*8.42+114.39)","v":299.63}]
["B","Vale Transporte - Cláusula 12ª da CCT (4,10 - valor da passagem  x 2 = 8,20 x 26 - Dias trabalhados - 11 profissionais; 7,00 - valor da passagem  x 2 = 14,00 x 26 - Dias trabalhados - 03 profissionais)",{"$nulls":7},{"$f":"((8.2*26*11)+(14*26*3))/14","v":245.51}]
["C","Desconto Legal sobre Vale Transporte - Cláusula 12ª da CCT, (6% - seis por cento).",{"$nulls":7},{"$f":"(-6%*I20)","v":-74.19}]
["D","Auxílio Saúde/Assistência Médica - Cláusula 13ª da CCT",{"$nulls":7},66.15]
["Total",{"$nulls":8},{"$f":"SUM(J54:J57)","v":537.1}]
[]
["Quadro-Resumo do Módulo 2 - Encargos e Benefícios anuais, mensais e diários"]
[2,"Encargos e Benefícios Anuais, Mensais e Diários",{"$nulls":7},"VALOR"]
["2.1","13º (décimo terceiro) Salário, Férias e Adicional de Férias",{"$nulls":7},{"$f":"J38","v":240.36}]
["2.2","GPS, FGTS e outras contribuições",{"$nulls":7},{"$f":"J50","v":543.45}]
["2.3","Benefícios Mensais e Diários",{"$nulls":7},{"$f":"J58","v":537.1}]
["Total",{"$nulls":8},{"$f":"SUM(J62:J64)","v":1320.91}]
[]
["Módulo 3 - Provisão para Rescisão",{"$nulls":10},"GPS"]
[3,"Provisão para Rescisão",{"$nulls":7},"VALOR"]
["A","Aviso prévio indenizado",{"$nulls":7},{"$f":"M69","v":72.95},{"$f":"I31+J65-L69","v":2132.02},{"$f":"(I31+J38)*0.288","v":425.32},{"$f":"K69/12*0.4106","v":72.95}]
["B","Multa do FGTS e contribuição social sobre o Aviso Prévio Indenizado",{"$nulls":7},{"$f":"L70","v":24.25},{"$f":"J48","v":118.14},{"$f":"(K70*0.4+K70*0.1)*0.4106","v":24.25},{"$f":"K70*0.5*0.4106","v":24.25}]
["C","Aviso Prévio Trabalhado",{"$nulls":7},87.5,{"$f":"I31+J65","v":2557.34},{"$f":"K71/12*0.4106","v":87.5}]
["D","Multa do FGTS e contribuição social sobre o Aviso Prévio Trabalhado",{"$nulls":7},24.25,{"$f":"J48","v":118.14},{"$f":"(K72*0.4+K72*0.1)*0.4106","v":24.25},{"$f":"K72*0.5*0.4106","v":24.25}]
["E","Demissão com Justa Causa",{"$nulls":7},{"$f":"N73","v":-3},{"$f":"J36","v":102.99},{"$f":"J37","v":137.37},{"$f":"K73+L73","v":240.36},{"$f":"-M73*0.0125","v":-3}]
["Total",{"$nulls":8},{"$f":"SUM(J69:J73)","v":205.95}]
[]
[]
["Módulo 4 - Custo de Reposição do Profissional Ausente"]
["4.1","Ausências Legais",{"$nulls":6},"Dias/Ano","VALOR"]
["A","Férias ",{"$nulls":6},20.9589,{"$f":"$L$79*I79/12+0.01","v":160.89},{"$f":"I31+J65+J74","v":2763.29},{"$f":"K79/30","v":92.11},{"$f":"L79*I91","v":2714.83},{"$f":"M79/12","v":226.24}]
["B","Ausência justificada",{"$nulls":6},1,{"$f":"$L$79*I80/12","v":7.68}]
["C","Acidente de trabalho",{"$nulls":6},0.9659,7.41]
["D","Afastamento por doença",{"$nulls":6},3.4932,26.81]
["E","Consulta médica filho",{"$nulls":6},0.2688,2.06]
["F","Óbitos na família",{"$nulls":6},0.0427,0.33]
["G","Casamento",{"$nulls":6},0.0355,0.27]
["H","Doação de Sangue",{"$nulls":6},0.02,0.15]
["I","Testemunho",{"$nulls":6},0.004,0.03]
["J","Paternidade",{"$nulls":6},0.1997,1.53]
["K","Maternidade",{"$nulls":6},2.4753,19]
["L","Consulta pré-natal",{"$nulls":6},0.0098,0.08]
["Total",{"$nulls":7},{"$f":"SUM(I79:I90)","v":29.4738},{"$f":"SUM(J79:J90)","v":226.24}]
[]
["Módulo 5 - Insumos Diversos"]
[5,"Insumos Diversos",{"$nulls":6},"%","VALOR"]
["A","Material",{"$nulls":7},{"$f":"Material!J58","v":357.39}]
["B","Equipamento de Proteção Individual - EPI (Norma Regulamentadora nº 06) - Cláusula 35ª da CCT",{"$nulls":7},{"$f":"'EPI '!J13","v":29.92}]
["C","Uniforme",{"$nulls":7},{"$f":"Uniformes!J14","v":82.49}]
["D","Depreciação e Manutenção de Equipamentos",{"$nulls":7},0]
["Total",{"$nulls":8},{"$f":"SUM(J95:J98)","v":469.8}]
[]
["Módulo 6 - Custos Indiretos, Tributos e Lucro"]
[6,"Custos Indiretos, Tributos e Lucro",{"$nulls":6},"%","VALOR"]
["A","Despesas Administrativas/Operacionais",{"$nulls":6},{"$f":"Encarregado!I103","v":0.025},{"$f":"(I$31+J$65+J$74+J$91+J$99)*I103","v":86.48},"( De acordo com o caderno técnico - Limpeza - Pernambuco)"]
["B","Lucro",{"$nulls":6},{"$f":"Encarregado!I104","v":0.042},{"$f":"(I$31+J$65+J$74+J$91+J$99+J$103)*I104","v":148.92},"( De acordo com o caderno técnico - Limpeza - Pernambuco)"]
["C","Tributos"]
[null,"01 - ISSQN e ISS",{"$nulls":6},0.05,{"$f":"I128","v":215.44}]
[null,"02 - PIS",{"$nulls":6},0.0165,{"$f":"I126","v":71.09}]
[null,"03 - COFINS",{"$nulls":6},0.076,{"$f":"I127","v":327.46}]
["Total",{"$nulls":7},{"$f":"SUM(I103:I108)","v":0.2095},{"$f":"SUM(J103:J108)","v":849.39}]
[]
["2. QUADRO-RESUMO DO CUSTO POR EMPREGADO"]
["MÃO DE OBRA VINCULADA A EXECUÇÃO CONTRATUAL (VALOR POR EMPREGADO)",{"$nulls":8},"VALOR"]
["A","Módulo 1 - Composição da Remuneração",{"$nulls":7},{"$f":"I31","v":1236.43}]
["B","Módulo 2 - Encargos e Benefícios Anuais, Mensais e Diários",{"$nulls":7},{"$f":"J65","v":1320.91}]
["C","Módulo 3 - Provisão para Rescisão",{"$nulls":7},{"$f":"J74","v":205.95}]
["D","Módulo 4 - Custo de Reposição do Profissional Ausente",{"$nulls":7},{"$f":"J91","v":226.24}]
["E","Módulo 5 - Insumos Diversos",{"$nulls":7},{"$f":"J99","v":469.8}]
["SUBTOTAL (A+B+C+D+E)",{"$nulls":8},{"$f":"SUM(J113:J117)","v":3459.33}]
["F","Módulo 6 – Custos Indiretos, Tributos e Lucro",{"$nulls":7},{"$f":"J109","v":849.39}]
["VALOR TOTAL POR POSTO",{"$nulls":8},{"$f":"SUM(J118:J119)","v":4308.72}]
[]
[null,null,null,"(*) Cálculo do valor dos tributos"]
[null,null,null,"P0 = Mod. 1 + Mod. 2 + Mod. 3 + Mod.4 + Mod.5 + Mod. 6",{"$nulls":4},{"$f":"(I$31+J$65+J$74+J$91+J$99+J$103+J104)","v":3694.73}]
[null,null,null,"P1 = P0/(1-0,1425)",{"$nulls":4},{"$f":"I123/(1-(SUM(I106:I108)))","v":4308.72}]
[null,null,null,"T = P1 - P0",{"$nulls":4},{"$f":"I124-I123","v":613.99}]
[null,null,null,"PIS = (1,65/14,25) x T",{"$nulls":4},{"$f":"I107/(SUM(I106:I108))*I125","v":71.09}]
[null,null,null,"COFINS = (7,60/14,25) x T",{"$nulls":4},{"$f":"I108/(SUM(I106:I108))*I125","v":327.46}]
[null,null,null,"ISS = (5,00/14,25) x T",{"$nulls":4},{"$f":"I106/(SUM(I106:I108))*I125","v":215.44}]
[]
["VALOR TOTAL DA CONTRATAÇÃO",{"$nulls":7},"MENSAL","ANUAL"]
["VALOR TOTAL - 01 POSTO (ASG)",{"$nulls":7},{"$f":"J120","v":4308.72},{"$f":"I131*12","v":51704.64}]
["VALOR TOTAL - 14 POSTOS (ASG)",{"$nulls":7},{"$f":"I131*14","v":60322.08},{"$f":"I132*12","v":723864.96}]

{"sheet":"Copeira","index":3,"n_rows":132,"n_cols":14,"rows_kept":132,"cut":false,"hidden":false,"merged":[[5,0,5,9],[6,0,6,9],[7,1,7,7],[7,8,7,9],[8,1,8,7],[8,8,8,9],[9,1,9,7],[9,8,9,9],[10,1,10,7],[10,8,10,9],[11,1,11,7],[11,8,11,9],[12,1,12,7],[12,8,12,9],[13,1,13,9],[14,0,14,9],[15,1,15,7],[15,8,15,9],[16,1,16,7],[16,8,16,9],[17,1,17,7],[17,8,17,9],[18,1,18,7],[18,8,18,9],[19,1,19,7],[19,8,19,9],[20,1,20,9],[21,0,21,9],[22,1,22,7],[22,8,22,9],[23,1,23,7],[23,8,23,9],[24,1,24,7],[24,8,24,9],[25,1,25,7],[25,8,25,9],[26,1,26,7],[26,8,26,9],[27,1,27,7],[27,8,27,9],[28,1,28,7],[28,8,28,9],[29,1,29,7],[29,8,29,9],[30,0,30,7],[30,8,30,9],[31,0,31,9],[32,0,32,9],[33,0,33,9],[34,1,34,7],[35,1,35,7],[36,1,36,7],[37,0,37,7],[38,0,38,9],[39,0,39,9],[40,1,40,7],[41,1,41,7],[42,1,42,7],[43,1,43,7],[44,1,44,7],[45,1,45,7],[46,1,46,7],[47,1,47,7],[48,1,48,7],[49,0,49,7],[50,1,50,9],[51,0,51,9],[52,1,52,7],[53,1,53,7],[54,1,54,7],[55,1,55,7],[56,1,56,7],[57,0,57,7],[58,0,58,9],[59,0,59,9],[60,1,60,7],[61,1,61,7],[62,1,62,7],[63,1,63,7],[64,0,64,7],[65,0,65,9],[66,0,66,9],[67,1,67,7],[68,1,68,7],[69,1,69,7],[70,1,70,7],[71,1,71,7],[72,1,72,7],[73,0,73,7],[74,0,74,9],[75,0,75,9],[76,0,76,9],[77,1,77,7],[78,1,78,7],[79,1,79,7],[80,1,80,7],[81,1,81,7],[82,1,82,7],[83,1,83,7],[84,1,84,7],[85,1,85,7],[86,1,86,7],[87,1,87,7],[88,1,88,7],[89,1,89,7],[90,0,90,7],[91,0,91,9],[92,0,92,9],[93,1,93,7],[94,1,94,7],[95,1,95,7],[96,1,96,7],[97,1,97,7],[98,0,98,7],[99,0,99,9],[100,0,100,9],[101,1,101,7],[102,1,102,7],[103,1,103,7],[104,1,104,7],[105,1,105,7],[106,1,106,7],[107,1,107,7],[108,0,108,7],[109,0,109,9],[110,0,110,9],[111,0,111,8],[112,1,112,8],[113,1,113,8],[114,1,114,8],[115,1,115,8],[116,1,116,8],[117,0,117,8],[118,1,118,8],[119,0,119,8],[121,3,121,8],[122,3,122,7],[123,3,123,7],[124,3,124,7],[125,3,125,7],[126,3,126,7],[127,3,127,7],[129,0,129,7],[130,0,130,7],[131,0,131,7],[0,0,4,9]]}
["Companhia  de  Desenvolvimento  dos  Vales  do  São  Francisco e do Parnaíba\n3ª Superintendência Regional da CODEVASF-3ªSR\nGerência Regional de Administração e Suporte Logístico-3ªGRA\nPlanilha de Custos e Formação de Preços"]
[]
[]
[]
[]
[]
["DISCRIMINAÇÃO DOS SERVIÇOS"]
[1,"Data de Apresentação da Proposta",{"$nulls":6},"2022-11-18"]
[2,"Município/UF",{"$nulls":6},"PETROLINA/PE"]
[3,"Ano - Acordo, Convenção Coletiva ou Sentença Normativa em Dissídio",{"$nulls":6},"SIEMACO/SEAC - PERNAMBUCO- 2022"]
[4,"Convenção/Acordo Coletivo de Trabalho - Nº do processo e Registro no MTE",{"$nulls":6},"PE000091/2022 13623.100419/2022-07"]
[5,"Vigência da Convenção",{"$nulls":6},"01 de janeiro/2022 a 31 de dezembro/2022"]
[6,"Nº de Meses de Execução Contratual",{"$nulls":6},12]
[]
["IDENTIFICAÇÃO DOS SERVIÇOS"]
[1,"Tipo de Serviço",{"$nulls":6},"LIMPEZA E CONSERVAÇÃO"]
[2,"Unidade de Medida",{"$nulls":6},"POSTO"]
[3,"Quantidade a Contratar em Função da Unidade de Medida",{"$nulls":6},1]
[4,"Categoria profissional",{"$nulls":6},"COPEIRA - ITEM 27"]
[5,"Salário Normativo da Categoria Profissional",{"$nulls":6},1236.43]
[]
["MÓDULO 1 - COMPOSIÇÃO DA REMUNERAÇÃO"]
["A","Salário Base",{"$nulls":6},{"$f":"I20","v":1236.43}]
["B","Adicional de Periculosidade",{"$nulls":6},0]
["C","Adicional de insalubridade",{"$nulls":6},0]
["D","Adicional Noturno",{"$nulls":6},0]
["E","Hora Noturna Adicional",{"$nulls":6},0]
["F","Adicional de Hora Extra",{"$nulls":6},0]
["G","Intervalo Intrajornada",{"$nulls":6},0]
["H","Outros",{"$nulls":6},0]
["Remuneração Total",{"$nulls":7},{"$f":"SUM(I23:I30)","v":1236.43}]
[]
["MÓDULO 2 - ENCARGOS E BENEFÍCIOS ANUAIS, MENSAIS E DIÁRIOS"]
["SUBMÓDULO 2.1 - 13º (Décimo terceiro) Salário, Férias e Adicional de Férias"]
["2.1","13º (Décimo terceiro) Salário e Adicional de Férias",{"$nulls":6},"%","VALOR"]
["A","13º (décimo terceiro) Salário",{"$nulls":6},0.0833,{"$f":"I31*I36","v":102.99}]
["B","Férias e Adicional de Férias",{"$nulls":6},0.1111,{"$f":"I31*I37","v":137.37}]
["Total",{"$nulls":8},{"$f":"SUM(J36:J37)","v":240.36}]
[]
["SUBMÓDULO 2.2 - Encargos Previdenciários (GPS), Fundo de Garantia por Tempo de Serviço (FGTS) e outras contribuições."]
["2.2","GPS, FGTS e outras contribuições",{"$nulls":6},"%","VALOR"]
["A","INSS",{"$nulls":6},0.2,{"$f":"($I$31+$J$38)*I42","v":295.36}]
["B","Salário Educação",{"$nulls":6},0.025,36.92]
["C","Seguro Acidente do Trabalho/SAT/INSS",{"$nulls":6},0.03,44.3]
["D","SESI/SESC",{"$nulls":6},0.015,22.15]
["E","SENAI/SENAC",{"$nulls":6},0.01,14.77]
["F","INCRA",{"$nulls":6},0.002,2.95]
["G","FGTS",{"$nulls":6},0.08,118.14]
["H","SEBRAE",{"$nulls":6},0.006,8.86]
["Total",{"$nulls":7},{"$f":"SUM(I42:I49)","v":0.368},{"$f":"SUM(J42:J49)","v":543.45}]
[]
["SUBMÓDULO 2.3 - Benefícios Mensais e Diários."]
["2.3","Benefícios Mensais e Diários",{"$nulls":6},"%","VALOR"]
["A","Auxílio Alimentação - Cláusula 9º e 11º da CCT (R$ 8,42 * 22 dias + Cesta básica R$ 114,39)",{"$nulls":7},{"$f":"(22*8.42+114.39)","v":299.63}]
["B","Vale Transporte - Cláusula 12ª da CCT (4,10 - valor da passagem  x 2 = 8,20 x 22 - Dias trabalhados)",{"$nulls":7},{"$f":"(8.2*22)","v":180.4}]
["C","Desconto Legal sobre Vale Transporte - Cláusula 12ª da CCT, (6% - seis por cento).",{"$nulls":7},{"$f":"(-6%*I20)","v":-74.19}]
["D","Auxílio Saúde/Assistência Médica - Cláusula 13ª da CCT",{"$nulls":7},66.15]
["Total",{"$nulls":8},{"$f":"SUM(J54:J57)","v":471.99}]
[]
["Quadro-Resumo do Módulo 2 - Encargos e Benefícios anuais, mensais e diários"]
[2,"Encargos e Benefícios Anuais, Mensais e Diários",{"$nulls":7},"VALOR"]
["2.1","13º (décimo terceiro) Salário, Férias e Adicional de Férias",{"$nulls":7},{"$f":"J38","v":240.36}]
["2.2","GPS, FGTS e outras contribuições",{"$nulls":7},{"$f":"J50","v":543.45}]
["2.3","Benefícios Mensais e Diários",{"$nulls":7},{"$f":"J58","v":471.99}]
["Total",{"$nulls":8},{"$f":"SUM(J62:J64)","v":1255.8}]
[]
["Módulo 3 - Provisão para Rescisão",{"$nulls":10},"GPS"]
[3,"Provisão para Rescisão",{"$nulls":7},"VALOR"]
["A","Aviso prévio indenizado",{"$nulls":7},{"$f":"M69","v":70.72},{"$f":"I31+J65-L69","v":2066.91},{"$f":"(I31+J38)*0.288","v":425.32},{"$f":"K69/12*0.4106","v":70.72}]
["B","Multa do FGTS e contribuição social sobre o Aviso Prévio Indenizado",{"$nulls":7},{"$f":"L70","v":24.25},{"$f":"J48","v":118.14},{"$f":"(K70*0.4+K70*0.1)*0.4106","v":24.25},{"$f":"K70*0.5*0.4106","v":24.25}]
["C","Aviso Prévio Trabalhado",{"$nulls":7},85.28,{"$f":"I31+J65","v":2492.23},{"$f":"K71/12*0.4106","v":85.28}]
["D","Multa do FGTS e contribuição social sobre o Aviso Prévio Trabalhado",{"$nulls":7},24.25,{"$f":"J48","v":118.14},{"$f":"(K72*0.4+K72*0.1)*0.4106","v":24.25},{"$f":"K72*0.5*0.4106","v":24.25}]
["E","Demissão com Justa Causa",{"$nulls":7},{"$f":"N73","v":-3},{"$f":"J36","v":102.99},{"$f":"J37","v":137.37},{"$f":"K73+L73","v":240.36},{"$f":"-M73*0.0125","v":-3}]
["Total",{"$nulls":8},{"$f":"SUM(J69:J73)","v":201.5}]
[]
[]
["Módulo 4 - Custo de Reposição do Profissional Ausente"]
["4.1","Ausências Legais",{"$nulls":6},"Dias/Ano","VALOR"]
["A","Férias ",{"$nulls":6},20.9589,{"$f":"$L$79*I79/12+0.01","v":156.83},{"$f":"I31+J65+J74","v":2693.73},{"$f":"K79/30","v":89.79},{"$f":"L79*I91","v":2646.45},{"$f":"M79/12","v":220.54}]
["B","Ausência justificada",{"$nulls":6},1,{"$f":"$L$79*I80/12","v":7.48}]
["C","Acidente de trabalho",{"$nulls":6},0.9659,7.23]
["D","Afastamento por doença",{"$nulls":6},3.4932,26.14]
["E","Consulta médica filho",{"$nulls":6},0.2688,{"$f":"$L$79*I83/12","v":2.01}]
["F","Óbitos na família",{"$nulls":6},0.0427,0.32]
["G","Casamento",{"$nulls":6},0.0355,0.27]
["H","Doação de Sangue",{"$nulls":6},0.02,0.15]
["I","Testemunho",{"$nulls":6},0.004,0.03]
["J","Paternidade",{"$nulls":6},0.1997,1.49]
["K","Maternidade",{"$nulls":6},2.4753,18.52]
["L","Consulta pré-natal",{"$nulls":6},0.0098,0.07]
["Total",{"$nulls":7},{"$f":"SUM(I79:I90)","v":29.4738},{"$f":"SUM(J79:J90)","v":220.54}]
[]
["Módulo 5 - Insumos Diversos"]
[5,"Insumos Diversos",{"$nulls":6},"%","VALOR"]
["A","Material",{"$nulls":7},{"$f":"Material!J110","v":1179.63}]
["B","Equipamento de Proteção Individual - EPI (Norma Regulamentadora nº 06) - Cláusula 35ª da CCT",{"$nulls":7},{"$f":"'EPI '!J24","v":29.36}]
["C","Uniforme",{"$nulls":7},{"$f":"Uniformes!J41","v":82.5}]
["D","Depreciação e Manutenção de Equipamentos",{"$nulls":7},0]
["Total",{"$nulls":8},{"$f":"SUM(J95:J98)","v":1291.49}]
[]
["Módulo 6 - Custos Indiretos, Tributos e Lucro"]
[6,"Custos Indiretos, Tributos e Lucro",{"$nulls":6},"%","VALOR"]
["A","Despesas Administrativas/Operacionais",{"$nulls":6},{"$f":"Encarregado!I103","v":0.025},{"$f":"(I$31+J$65+J$74+J$91+J$99)*I103","v":105.14},"( De acordo com o caderno técnico - Limpeza - Pernambuco)"]
["B","Lucro",{"$nulls":6},{"$f":"Encarregado!I104","v":0.042},{"$f":"(I$31+J$65+J$74+J$91+J$99+J$103)*I104","v":181.06},"( De acordo com o caderno técnico - Limpeza - Pernambuco)"]
["C","Tributos"]
[null,"01 - ISSQN e ISS",{"$nulls":6},0.05,{"$f":"I128","v":261.92}]
[null,"02 - PIS",{"$nulls":6},0.0165,{"$f":"I126","v":86.43}]
[null,"03 - COFINS",{"$nulls":6},0.076,{"$f":"I127","v":398.12}]
["Total",{"$nulls":7},{"$f":"SUM(I103:I108)","v":0.2095},{"$f":"SUM(J103:J108)","v":1032.67}]
[]
["2. QUADRO-RESUMO DO CUSTO POR EMPREGADO"]
["MÃO DE OBRA VINCULADA A EXECUÇÃO CONTRATUAL (VALOR POR EMPREGADO)",{"$nulls":8},"VALOR"]
["A","Módulo 1 - Composição da Remuneração",{"$nulls":7},{"$f":"I31","v":1236.43}]
["B","Módulo 2 - Encargos e Benefícios Anuais, Mensais e Diários",{"$nulls":7},{"$f":"J65","v":1255.8}]
["C","Módulo 3 - Provisão para Rescisão",{"$nulls":7},{"$f":"J74","v":201.5}]
["D","Módulo 4 - Custo de Reposição do Profissional Ausente",{"$nulls":7},{"$f":"J91","v":220.54}]
["E","Módulo 5 - Insumos Diversos",{"$nulls":7},{"$f":"J99","v":1291.49}]
["SUBTOTAL (A+B+C+D+E)",{"$nulls":8},{"$f":"SUM(J113:J117)","v":4205.76}]
["F","Módulo 6 – Custos Indiretos, Tributos e Lucro",{"$nulls":7},{"$f":"J109","v":1032.67}]
["VALOR TOTAL POR POSTO",{"$nulls":8},{"$f":"SUM(J118:J119)","v":5238.43}]
[]
[null,null,null,"(*) Cálculo do valor dos tributos"]
[null,null,null,"P0 = Mod. 1 + Mod. 2 + Mod. 3 + Mod.4 + Mod.5 + Mod. 6",{"$nulls":4},{"$f":"(I$31+J$65+J$74+J$91+J$99+J$103+J104)","v":4491.96}]
[null,null,null,"P1 = P0/(1-0,1425)",{"$nulls":4},{"$f":"I123/(1-(SUM(I106:I108)))","v":5238.44}]
[null,null,null,"T = P1 - P0",{"$nulls":4},{"$f":"I124-I123","v":746.48}]
[null,null,null,"PIS = (1,65/14,25) x T",{"$nulls":4},{"$f":"I107/(SUM(I106:I108))*I125","v":86.43}]
[null,null,null,"COFINS = (7,60/14,25) x T",{"$nulls":4},{"$f":"I108/(SUM(I106:I108))*I125","v":398.12}]
[null,null,null,"ISS = (5,00/14,25) x T",{"$nulls":4},{"$f":"I106/(SUM(I106:I108))*I125","v":261.92}]
[]
["VALOR TOTAL DA CONTRATAÇÃO",{"$nulls":7},"MENSAL","ANUAL"]
["VALOR TOTAL - 01 POSTO (COPEIRA)",{"$nulls":7},{"$f":"J120","v":5238.43},{"$f":"I131*12","v":62861.16}]
["VALOR TOTAL - 01 POSTOS (COPEIRA)",{"$nulls":7},{"$f":"I131*1","v":5238.43},{"$f":"I132*12","v":62861.16}]

{"sheet":"Recepcionista","index":4,"n_rows":132,"n_cols":14,"rows_kept":132,"cut":false,"hidden":false,"merged":[[5,0,5,9],[6,0,6,9],[7,1,7,7],[7,8,7,9],[8,1,8,7],[8,8,8,9],[9,1,9,7],[9,8,9,9],[10,1,10,7],[10,8,10,9],[11,1,11,7],[11,8,11,9],[12,1,12,7],[12,8,12,9],[13,1,13,9],[14,0,14,9],[15,1,15,7],[15,8,15,9],[16,1,16,7],[16,8,16,9],[17,1,17,7],[17,8,17,9],[18,1,18,7],[18,8,18,9],[19,1,19,7],[19,8,19,9],[20,1,20,9],[21,0,21,9],[22,1,22,7],[22,8,22,9],[23,1,23,7],[23,8,23,9],[24,1,24,7],[24,8,24,9],[25,1,25,7],[25,8,25,9],[26,1,26,7],[26,8,26,9],[27,1,27,7],[27,8,27,9],[28,1,28,7],[28,8,28,9],[29,1,29,7],[29,8,29,9],[30,0,30,7],[30,8,30,9],[31,0,31,9],[32,0,32,9],[33,0,33,9],[34,1,34,7],[35,1,35,7],[36,1,36,7],[37,0,37,7],[38,0,38,9],[39,0,39,9],[40,1,40,7],[41,1,41,7],[42,1,42,7],[43,1,43,7],[44,1,44,7],[45,1,45,7],[46,1,46,7],[47,1,47,7],[48,1,48,7],[49,0,49,7],[50,1,50,9],[51,0,51,9],[52,1,52,7],[53,1,53,7],[54,1,54,7],[55,1,55,7],[56,1,56,7],[57,0,57,7],[58,0,58,9],[59,0,59,9],[60,1,60,7],[61,1,61,7],[62,1,62,7],[63,1,63,7],[64,0,64,7],[65,0,65,9],[66,0,66,9],[67,1,67,7],[68,1,68,7],[69,1,69,7],[70,1,70,7],[71,1,71,7],[72,1,72,7],[73,0,73,7],[74,0,74,9],[75,0,75,9],[76,0,76,9],[77,1,77,7],[78,1,78,7],[79,1,79,7],[80,1,80,7],[81,1,81,7],[82,1,82,7],[83,1,83,7],[84,1,84,7],[85,1,85,7],[86,1,86,7],[87,1,87,7],[88,1,88,7],[89,1,89,7],[90,0,90,7],[91,0,91,9],[92,0,92,9],[93,1,93,7],[94,1,94,7],[95,1,95,7],[96,1,96,7],[97,1,97,7],[98,0,98,7],[99,0,99,9],[100,0,100,9],[101,1,101,7],[102,1,102,7],[103,1,103,7],[104,1,104,7],[105,1,105,7],[106,1,106,7],[107,1,107,7],[108,0,108,7],[109,0,109,9],[110,0,110,9],[111,0,111,8],[112,1,112,8],[113,1,113,8],[114,1,114,8],[115,1,115,8],[116,1,116,8],[117,0,117,8],[118,1,118,8],[119,0,119,8],[121,3,121,8],[122,3,122,7],[123,3,123,7],[124,3,124,7],[125,3,125,7],[126,3,126,7],[127,3,127,7],[129,0,129,7],[130,0,130,7],[131,0,131,7],[0,0,4,9]]}
["Companhia  de  Desenvolvimento  dos  Vales  do  São  Francisco e do Parnaíba\n3ª Superintendência Regional da CODEVASF-3ªSR\nGerência Regional de Administração e Suporte Logístico-3ªGRA\nPlanilha de Custos e Formação de Preços"]
[]
[]
[]
[]
[]
["DISCRIMINAÇÃO DOS SERVIÇOS"]
[1,"Data de Apresentação da Proposta",{"$nulls":6},"2022-11-18"]
[2,"Município/UF",{"$nulls":6},"PETROLINA/PE"]
[3,"Ano - Acordo, Convenção Coletiva ou Sentença Normativa em Dissídio",{"$nulls":6},"SIEMACO/SEAC - PERNAMBUCO- 2022"]
[4,"Convenção/Acordo Coletivo de Trabalho - Nº do processo e Registro no MTE",{"$nulls":6},"PE000091/2022 13623.100419/2022-07"]
[5,"Vigência da Convenção",{"$nulls":6},"01 de janeiro/2022 a 31 de dezembro/2022"]
[6,"Nº de Meses de Execução Contratual",{"$nulls":6},12]
[]
["IDENTIFICAÇÃO DOS SERVIÇOS"]
[1,"Tipo de Serviço",{"$nulls":6},"LIMPEZA E CONSERVAÇÃO"]
[2,"Unidade de Medida",{"$nulls":6},"POSTO"]
[3,"Quantidade a Contratar em Função da Unidade de Medida",{"$nulls":6},3]
[4,"Categoria profissional",{"$nulls":6},"RECEPCIONISTA - ITEM 54"]
[5,"Salário Normativo da Categoria Profissional",{"$nulls":6},1326.25]
[]
["MÓDULO 1 - COMPOSIÇÃO DA REMUNERAÇÃO"]
["A","Salário Base",{"$nulls":6},{"$f":"I20","v":1326.25}]
["B","Adicional de Periculosidade",{"$nulls":6},0]
["C","Adicional de insalubridade",{"$nulls":6},0]
["D","Adicional Noturno",{"$nulls":6},0]
["E","Hora Noturna Adicional",{"$nulls":6},0]
["F","Adicional de Hora Extra",{"$nulls":6},0]
["G","Intervalo Intrajornada",{"$nulls":6},0]
["H","Outros",{"$nulls":6},0]
["Remuneração Total",{"$nulls":7},{"$f":"SUM(I23:I30)","v":1326.25}]
[]
["MÓDULO 2 - ENCARGOS E BENEFÍCIOS ANUAIS, MENSAIS E DIÁRIOS"]
["SUBMÓDULO 2.1 - 13º (Décimo terceiro) Salário, Férias e Adicional de Férias"]
["2.1","13º (Décimo terceiro) Salário e Adicional de Férias",{"$nulls":6},"%","VALOR"]
["A","13º (décimo terceiro) Salário",{"$nulls":6},0.0833,{"$f":"I31*I36","v":110.48}]
["B","Férias e Adicional de Férias",{"$nulls":6},0.1111,{"$f":"I31*I37","v":147.35}]
["Total",{"$nulls":8},{"$f":"SUM(J36:J37)","v":257.83}]
[]
["SUBMÓDULO 2.2 - Encargos Previdenciários (GPS), Fundo de Garantia por Tempo de Serviço (FGTS) e outras contribuições."]
["2.2","GPS, FGTS e outras contribuições",{"$nulls":6},"%","VALOR"]
["A","INSS",{"$nulls":6},0.2,{"$f":"($I$31+$J$38)*I42","v":316.82}]
["B","Salário Educação",{"$nulls":6},0.025,39.6]
["C","Seguro Acidente do Trabalho/SAT/INSS",{"$nulls":6},0.03,47.52]
["D","SESI/SESC",{"$nulls":6},0.015,23.76]
["E","SENAI/SENAC",{"$nulls":6},0.01,15.84]
["F","INCRA",{"$nulls":6},0.002,3.17]
["G","FGTS",{"$nulls":6},0.08,126.73]
["H","SEBRAE",{"$nulls":6},0.006,9.5]
["Total",{"$nulls":7},{"$f":"SUM(I42:I49)","v":0.368},{"$f":"SUM(J42:J49)","v":582.94}]
[]
["SUBMÓDULO 2.3 - Benefícios Mensais e Diários."]
["2.3","Benefícios Mensais e Diários",{"$nulls":6},"%","VALOR"]
["A","Auxílio Alimentação - Cláusula 9º e 11º da CCT (R$ 8,42 * 22 dias + Cesta básica R$ 114,39)",{"$nulls":7},{"$f":"(22*8.42+114.39)","v":299.63}]
["B","Vale Transporte - Cláusula 12ª da CCT (4,10 - valor da passagem  x 2 = 8,20 x 22 - Dias trabalhados)",{"$nulls":7},{"$f":"(8.2*22)","v":180.4}]
["C","Desconto Legal sobre Vale Transporte - Cláusula 12ª da CCT, (6% - seis por cento).",{"$nulls":7},{"$f":"(-6%*I20)","v":-79.58}]
["D","Auxílio Saúde/Assistência Médica - Cláusula 13ª da CCT",{"$nulls":7},66.15]
["Total",{"$nulls":8},{"$f":"SUM(J54:J57)","v":466.6}]
[]
["Quadro-Resumo do Módulo 2 - Encargos e Benefícios anuais, mensais e diários"]
[2,"Encargos e Benefícios Anuais, Mensais e Diários",{"$nulls":7},"VALOR"]
["2.1","13º (décimo terceiro) Salário, Férias e Adicional de Férias",{"$nulls":7},{"$f":"J38","v":257.83}]
["2.2","GPS, FGTS e outras contribuições",{"$nulls":7},{"$f":"J50","v":582.94}]
["2.3","Benefícios Mensais e Diários",{"$nulls":7},{"$f":"J58","v":466.6}]
["Total",{"$nulls":8},{"$f":"SUM(J62:J64)","v":1307.37}]
[]
["Módulo 3 - Provisão para Rescisão",{"$nulls":10},"GPS"]
[3,"Provisão para Rescisão",{"$nulls":7},"VALOR"]
["A","Aviso prévio indenizado",{"$nulls":7},{"$f":"M69","v":74.5},{"$f":"I31+J65-L69","v":2177.4},{"$f":"(I31+J38)*0.288","v":456.22},{"$f":"K69/12*0.4106","v":74.5}]
["B","Multa do FGTS e contribuição social sobre o Aviso Prévio Indenizado",{"$nulls":7},{"$f":"L70","v":26.02},{"$f":"J48","v":126.73},{"$f":"(K70*0.4+K70*0.1)*0.4106","v":26.02},{"$f":"K70*0.5*0.4106","v":26.02}]
["C","Aviso Prévio Trabalhado",{"$nulls":7},{"$f":"L71","v":90.11},{"$f":"I31+J65","v":2633.62},{"$f":"K71/12*0.4106","v":90.11}]
["D","Multa do FGTS e contribuição social sobre o Aviso Prévio Trabalhado",{"$nulls":7},{"$f":"L72","v":26.02},{"$f":"J48","v":126.73},{"$f":"(K72*0.4+K72*0.1)*0.4106","v":26.02},{"$f":"K72*0.5*0.4106","v":26.02}]
["E","Demissão com Justa Causa",{"$nulls":7},{"$f":"N73","v":-3.22},{"$f":"J36","v":110.48},{"$f":"J37","v":147.35},{"$f":"K73+L73","v":257.83},{"$f":"-M73*0.0125","v":-3.22}]
["Total",{"$nulls":8},{"$f":"SUM(J69:J73)","v":213.43}]
[]
[]
["Módulo 4 - Custo de Reposição do Profissional Ausente"]
["4.1","Ausências Legais",{"$nulls":6},"Dias/Ano","VALOR"]
["A","Férias ",{"$nulls":6},20.9589,{"$f":"$L$79*I79/12","v":165.75},{"$f":"I31+J65+J74","v":2847.05},{"$f":"K79/30","v":94.9},{"$f":"L79*I91","v":2797.06},{"$f":"M79/12","v":233.09}]
["B","Ausência justificada",{"$nulls":6},1,{"$f":"$L$79*I80/12","v":7.91}]
["C","Acidente de trabalho",{"$nulls":6},0.9659,{"$f":"$L$79*I81/12","v":7.64}]
["D","Afastamento por doença",{"$nulls":6},3.4932,{"$f":"$L$79*I82/12-0.001","v":27.62}]
["E","Consulta médica filho",{"$nulls":6},0.2688,2.13]
["F","Óbitos na família",{"$nulls":6},0.0427,0.34]
["G","Casamento",{"$nulls":6},0.0355,0.28]
["H","Doação de Sangue",{"$nulls":6},0.02,0.16]
["I","Testemunho",{"$nulls":6},0.004,0.03]
["J","Paternidade",{"$nulls":6},0.1997,1.58]
["K","Maternidade",{"$nulls":6},2.4753,{"$f":"$L$79*I89/12-0.001","v":19.57}]
["L","Consulta pré-natal",{"$nulls":6},0.0098,0.08]
["Total",{"$nulls":7},{"$f":"SUM(I79:I90)","v":29.4738},{"$f":"SUM(J79:J90)","v":233.09}]
[]
["Módulo 5 - Insumos Diversos"]
[5,"Insumos Diversos",{"$nulls":6},"%","VALOR"]
["A","Material",{"$nulls":7},0]
["B","Equipamento de Proteção Individual - EPI (Norma Regulamentadora nº 06) - Cláusula 35ª da CCT",{"$nulls":7},0]
["C","Uniforme",{"$nulls":7},{"$f":"Uniformes!J137","v":38.96}]
["D","Depreciação e Manutenção de Equipamentos",{"$nulls":7},0]
["Total",{"$nulls":8},{"$f":"SUM(J95:J98)","v":38.96}]
[]
["Módulo 6 - Custos Indiretos, Tributos e Lucro"]
[6,"Custos Indiretos, Tributos e Lucro",{"$nulls":6},"%","VALOR"]
["A","Despesas Administrativas/Operacionais",{"$nulls":6},{"$f":"Encarregado!I103","v":0.025},{"$f":"(I$31+J$65+J$74+J$91+J$99)*I103","v":77.98},"( De acordo com o caderno técnico - Limpeza - Pernambuco)"]
["B","Lucro",{"$nulls":6},{"$f":"Encarregado!I104","v":0.042},{"$f":"(I$31+J$65+J$74+J$91+J$99+J$103)*I104","v":134.28},"( De acordo com o caderno técnico - Limpeza - Pernambuco)"]
["C","Tributos"]
[null,"01 - ISSQN e ISS",{"$nulls":6},0.05,{"$f":"I128","v":194.25}]
[null,"02 - PIS",{"$nulls":6},0.0165,{"$f":"I126","v":64.1}]
[null,"03 - COFINS",{"$nulls":6},0.076,{"$f":"I127","v":295.26}]
["Total",{"$nulls":7},{"$f":"SUM(I103:I108)","v":0.2095},{"$f":"SUM(J103:J108)","v":765.87}]
[]
["2. QUADRO-RESUMO DO CUSTO POR EMPREGADO"]
["MÃO DE OBRA VINCULADA A EXECUÇÃO CONTRATUAL (VALOR POR EMPREGADO)",{"$nulls":8},"VALOR"]
["A","Módulo 1 - Composição da Remuneração",{"$nulls":7},{"$f":"I31","v":1326.25}]
["B","Módulo 2 - Encargos e Benefícios Anuais, Mensais e Diários",{"$nulls":7},{"$f":"J65","v":1307.37}]
["C","Módulo 3 - Provisão para Rescisão",{"$nulls":7},{"$f":"J74","v":213.43}]
["D","Módulo 4 - Custo de Reposição do Profissional Ausente",{"$nulls":7},{"$f":"J91","v":233.09}]
["E","Módulo 5 - Insumos Diversos",{"$nulls":7},{"$f":"J99","v":38.96}]
["SUBTOTAL (A+B+C+D+E)",{"$nulls":8},{"$f":"SUM(J113:J117)","v":3119.1}]
["F","Módulo 6 – Custos Indiretos, Tributos e Lucro",{"$nulls":7},{"$f":"J109","v":765.87}]
["VALOR TOTAL POR POSTO",{"$nulls":8},{"$f":"SUM(J118:J119)","v":3884.97}]
[]
[null,null,null,"(*) Cálculo do valor dos tributos"]
[null,null,null,"P0 = Mod. 1 + Mod. 2 + Mod. 3 + Mod.4 + Mod.5 + Mod. 6",{"$nulls":4},{"$f":"(I$31+J$65+J$74+J$91+J$99+J$103+J104)","v":3331.36}]
[null,null,null,"P1 = P0/(1-0,1425)",{"$nulls":4},{"$f":"I123/(1-(SUM(I106:I108)))","v":3884.97}]
[null,null,null,"T = P1 - P0",{"$nulls":4},{"$f":"I124-I123","v":553.61}]
[null,null,null,"PIS = (1,65/14,25) x T",{"$nulls":4},{"$f":"I107/(SUM(I106:I108))*I125","v":64.1}]
[null,null,null,"COFINS = (7,60/14,25) x T",{"$nulls":4},{"$f":"I108/(SUM(I106:I108))*I125","v":295.26}]
[null,null,null,"ISS = (5,00/14,25) x T",{"$nulls":4},{"$f":"I106/(SUM(I106:I108))*I125","v":194.25}]
[]
["VALOR TOTAL DA CONTRATAÇÃO",{"$nulls":7},"MENSAL","ANUAL"]
["VALOR TOTAL - 01 POSTO (RECEPCIONISTA)",{"$nulls":7},{"$f":"J120","v":3884.97},{"$f":"I131*12","v":46619.64}]
["VALOR TOTAL - 03 POSTOS (RECEPCIONISTA)",{"$nulls":7},{"$f":"I131*3","v":11654.91},{"$f":"I132*12","v":139858.92}]

{"sheet":"Eletricista","index":5,"n_rows":132,"n_cols":14,"rows_kept":132,"cut":false,"hidden":false,"merged":[[5,0,5,9],[6,0,6,9],[7,1,7,7],[7,8,7,9],[8,1,8,7],[8,8,8,9],[9,1,9,7],[9,8,9,9],[10,1,10,7],[10,8,10,9],[11,1,11,7],[11,8,11,9],[12,1,12,7],[12,8,12,9],[13,1,13,9],[14,0,14,9],[15,1,15,7],[15,8,15,9],[16,1,16,7],[16,8,16,9],[17,1,17,7],[17,8,17,9],[18,1,18,7],[18,8,18,9],[19,1,19,7],[19,8,19,9],[20,1,20,9],[21,0,21,9],[22,1,22,7],[22,8,22,9],[23,1,23,7],[23,8,23,9],[24,1,24,7],[24,8,24,9],[25,1,25,7],[25,8,25,9],[26,1,26,7],[26,8,26,9],[27,1,27,7],[27,8,27,9],[28,1,28,7],[28,8,28,9],[29,1,29,7],[29,8,29,9],[30,0,30,7],[30,8,30,9],[31,0,31,9],[32,0,32,9],[33,0,33,9],[34,1,34,7],[35,1,35,7],[36,1,36,7],[37,0,37,7],[38,0,38,9],[39,0,39,9],[40,1,40,7],[41,1,41,7],[42,1,42,7],[43,1,43,7],[44,1,44,7],[45,1,45,7],[46,1,46,7],[47,1,47,7],[48,1,48,7],[49,0,49,7],[50,1,50,9],[51,0,51,9],[52,1,52,7],[53,1,53,7],[54,1,54,7],[55,1,55,7],[56,1,56,7],[57,0,57,7],[58,0,58,9],[59,0,59,9],[60,1,60,7],[61,1,61,7],[62,1,62,7],[63,1,63,7],[64,0,64,7],[65,0,65,9],[66,0,66,9],[67,1,67,7],[68,1,68,7],[69,1,69,7],[70,1,70,7],[71,1,71,7],[72,1,72,7],[73,0,73,7],[74,0,74,9],[75,0,75,9],[76,0,76,9],[77,1,77,7],[78,1,78,7],[79,1,79,7],[80,1,80,7],[81,1,81,7],[82,1,82,7],[83,1,83,7],[84,1,84,7],[85,1,85,7],[86,1,86,7],[87,1,87,7],[88,1,88,7],[89,1,89,7],[90,0,90,7],[91,0,91,9],[92,0,92,9],[93,1,93,7],[94,1,94,7],[95,1,95,7],[96,1,96,7],[97,1,97,7],[98,0,98,7],[99,0,99,9],[100,0,100,9],[101,1,101,7],[102,1,102,7],[103,1,103,7],[104,1,104,7],[105,1,105,7],[106,1,106,7],[107,1,107,7],[108,0,108,7],[109,0,109,9],[110,0,110,9],[111,0,111,8],[112,1,112,8],[113,1,113,8],[114,1,114,8],[115,1,115,8],[116,1,116,8],[117,0,117,8],[118,1,118,8],[119,0,119,8],[121,3,121,8],[122,3,122,7],[123,3,123,7],[124,3,124,7],[125,3,125,7],[126,3,126,7],[127,3,127,7],[129,0,129,7],[130,0,130,7],[131,0,131,7],[0,0,4,9]]}
["Companhia  de  Desenvolvimento  dos  Vales  do  São  Francisco e do Parnaíba\n3ª Superintendência Regional da CODEVASF-3ªSR\nGerência Regional de Administração e Suporte Logístico-3ªGRA\nPlanilha de Custos e Formação de Preços"]
[]
[]
[]
[]
[]
["DISCRIMINAÇÃO DOS SERVIÇOS"]
[1,"Data de Apresentação da Proposta",{"$nulls":6},"2022-11-18"]
[2,"Município/UF",{"$nulls":6},"PETROLINA/PE"]
[3,"Ano - Acordo, Convenção Coletiva ou Sentença Normativa em Dissídio",{"$nulls":6},"SIEMACO/SEAC - PERNAMBUCO- 2022"]
[4,"Convenção/Acordo Coletivo de Trabalho - Nº do processo e Registro no MTE",{"$nulls":6},"PE000091/2022 13623.100419/2022-07"]
[5,"Vigência da Convenção",{"$nulls":6},"01 de janeiro/2022 a 31 de dezembro/2022"]
[6,"Nº de Meses de Execução Contratual",{"$nulls":6},12]
[]
["IDENTIFICAÇÃO DOS SERVIÇOS"]
[1,"Tipo de Serviço",{"$nulls":6},"LIMPEZA E CONSERVAÇÃO"]
[2,"Unidade de Medida",{"$nulls":6},"POSTO"]
[3,"Quantidade a Contratar em Função da Unidade de Medida",{"$nulls":6},1]
[4,"Categoria profissional",{"$nulls":6},"ELETRICISTA - ITEM 88"]
[5,"Salário Normativo da Categoria Profissional",{"$nulls":6},1784.4]
[]
["MÓDULO 1 - COMPOSIÇÃO DA REMUNERAÇÃO"]
["A","Salário Base",{"$nulls":6},{"$f":"I20","v":1784.4}]
["B","Adicional de Periculosidade",{"$nulls":6},{"$f":"I23*0.3","v":535.32}]
["C","Adicional de insalubridade",{"$nulls":6},0]
["D","Adicional Noturno",{"$nulls":6},0]
["E","Hora Noturna Adicional",{"$nulls":6},0]
["F","Adicional de Hora Extra",{"$nulls":6},0]
["G","Intervalo Intrajornada",{"$nulls":6},0]
["H","Outros",{"$nulls":6},0]
["Remuneração Total",{"$nulls":7},{"$f":"SUM(I23:I30)","v":2319.72}]
[]
["MÓDULO 2 - ENCARGOS E BENEFÍCIOS ANUAIS, MENSAIS E DIÁRIOS"]
["SUBMÓDULO 2.1 - 13º (Décimo terceiro) Salário, Férias e Adicional de Férias"]
["2.1","13º (Décimo terceiro) Salário e Adicional de Férias",{"$nulls":6},"%","VALOR"]
["A","13º (décimo terceiro) Salário",{"$nulls":6},0.0833,{"$f":"I31*I36","v":193.23}]
["B","Férias e Adicional de Férias",{"$nulls":6},0.1111,{"$f":"I31*I37","v":257.72}]
["Total",{"$nulls":8},{"$f":"SUM(J36:J37)","v":450.95}]
[]
["SUBMÓDULO 2.2 - Encargos Previdenciários (GPS), Fundo de Garantia por Tempo de Serviço (FGTS) e outras contribuições."]
["2.2","GPS, FGTS e outras contribuições",{"$nulls":6},"%","VALOR"]
["A","INSS",{"$nulls":6},0.2,{"$f":"($I$31+$J$38)*I42","v":554.13}]
["B","Salário Educação",{"$nulls":6},0.025,69.27]
["C","Seguro Acidente do Trabalho/SAT/INSS",{"$nulls":6},0.03,83.12]
["D","SESI/SESC",{"$nulls":6},0.015,41.56]
["E","SENAI/SENAC",{"$nulls":6},0.01,27.71]
["F","INCRA",{"$nulls":6},0.002,5.54]
["G","FGTS",{"$nulls":6},0.08,221.65]
["H","SEBRAE",{"$nulls":6},0.006,16.62]
["Total",{"$nulls":7},{"$f":"SUM(I42:I49)","v":0.368},{"$f":"SUM(J42:J49)","v":1019.6}]
[]
["SUBMÓDULO 2.3 - Benefícios Mensais e Diários."]
["2.3","Benefícios Mensais e Diários",{"$nulls":6},"%","VALOR"]
["A","Auxílio Alimentação - Cláusula 9º e 11º da CCT (R$ 8,42 * 22 dias)",{"$nulls":7},{"$f":"(22*8.42)","v":185.24}]
["B","Vale Transporte - Cláusula 12ª da CCT (4,10 - valor da passagem  x 2 = 8,20 x 26 - Dias trabalhados)",{"$nulls":7},{"$f":"(8.2*26)","v":213.2}]
["C","Desconto Legal sobre Vale Transporte - Cláusula 12ª da CCT, (6% - seis por cento).",{"$nulls":7},{"$f":"(-6%*I20)","v":-107.06}]
["D","Auxílio Saúde/Assistência Médica - Cláusula 13ª da CCT",{"$nulls":7},66.15]
["Total",{"$nulls":8},{"$f":"SUM(J54:J57)","v":357.53}]
[]
["Quadro-Resumo do Módulo 2 - Encargos e Benefícios anuais, mensais e diários"]
[2,"Encargos e Benefícios Anuais, Mensais e Diários",{"$nulls":7},"VALOR"]
["2.1","13º (décimo terceiro) Salário, Férias e Adicional de Férias",{"$nulls":7},{"$f":"J38","v":450.95}]
["2.2","GPS, FGTS e outras contribuições",{"$nulls":7},{"$f":"J50","v":1019.6}]
["2.3","Benefícios Mensais e Diários",{"$nulls":7},{"$f":"J58","v":357.53}]
["Total",{"$nulls":8},{"$f":"SUM(J62:J64)","v":1828.08}]
[]
["Módulo 3 - Provisão para Rescisão",{"$nulls":10},"GPS"]
[3,"Provisão para Rescisão",{"$nulls":7},"VALOR"]
["A","Aviso prévio indenizado",{"$nulls":7},{"$f":"M69","v":114.62},{"$f":"I31+J65-L69","v":3349.85},{"$f":"(I31+J38)*0.288","v":797.95},{"$f":"K69/12*0.4106","v":114.62}]
["B","Multa do FGTS e contribuição social sobre o Aviso Prévio Indenizado",{"$nulls":7},{"$f":"L70","v":45.5},{"$f":"J48","v":221.65},{"$f":"(K70*0.4+K70*0.1)*0.4106","v":45.5},{"$f":"K70*0.5*0.4106","v":45.5}]
["C","Aviso Prévio Trabalhado",{"$nulls":7},141.92,{"$f":"I31+J65","v":4147.8},{"$f":"K71/12*0.4106","v":141.92}]
["D","Multa do FGTS e contribuição social sobre o Aviso Prévio Trabalhado",{"$nulls":7},45.5,{"$f":"J48","v":221.65},{"$f":"(K72*0.4+K72*0.1)*0.4106","v":45.5},{"$f":"K72*0.5*0.4106","v":45.5}]
["E","Demissão com Justa Causa",{"$nulls":7},{"$f":"N73","v":-5.64},{"$f":"J36","v":193.23},{"$f":"J37","v":257.72},{"$f":"K73+L73","v":450.95},{"$f":"-M73*0.0125","v":-5.64}]
["Total",{"$nulls":8},{"$f":"SUM(J69:J73)","v":341.9}]
[]
[]
["Módulo 4 - Custo de Reposição do Profissional Ausente"]
["4.1","Ausências Legais",{"$nulls":6},"Dias/Ano","VALOR"]
["A","Férias ",{"$nulls":6},20.9589,{"$f":"$L$79*I79/12+0.01","v":261.4},{"$f":"I31+J65+J74","v":4489.7},{"$f":"K79/30","v":149.66},{"$f":"L79*I91","v":4411.05},{"$f":"M79/12","v":367.59}]
["B","Ausência justificada",{"$nulls":6},1,{"$f":"$L$79*I80/12","v":12.47}]
["C","Acidente de trabalho",{"$nulls":6},0.9659,12.05]
["D","Afastamento por doença",{"$nulls":6},3.4932,43.57]
["E","Consulta médica filho",{"$nulls":6},0.2688,{"$f":"$L$79*I83/12","v":3.35}]
["F","Óbitos na família",{"$nulls":6},0.0427,0.53]
["G","Casamento",{"$nulls":6},0.0355,0.44]
["H","Doação de Sangue",{"$nulls":6},0.02,0.25]
["I","Testemunho",{"$nulls":6},0.004,0.05]
["J","Paternidade",{"$nulls":6},0.1997,2.49]
["K","Maternidade",{"$nulls":6},2.4753,30.87]
["L","Consulta pré-natal",{"$nulls":6},0.0098,0.12]
["Total",{"$nulls":7},{"$f":"SUM(I79:I90)","v":29.4738},{"$f":"SUM(J79:J90)","v":367.59}]
[]
["Módulo 5 - Insumos Diversos"]
[5,"Insumos Diversos",{"$nulls":6},"%","VALOR"]
["A","Material",{"$nulls":7},0]
["B","Equipamento de Proteção Individual - EPI (Norma Regulamentadora nº 06) - Cláusula 35ª da CCT",{"$nulls":7},{"$f":"'EPI '!J60","v":77.53}]
["C","Uniforme",{"$nulls":7},{"$f":"Uniformes!J105","v":61.2}]
["D","Depreciação e Manutenção de Equipamentos",{"$nulls":7},{"$f":"Equipamentos!I66","v":18.34}]
["Total",{"$nulls":8},{"$f":"SUM(J95:J98)","v":157.07}]
[]
["Módulo 6 - Custos Indiretos, Tributos e Lucro"]
[6,"Custos Indiretos, Tributos e Lucro",{"$nulls":6},"%","VALOR"]
["A","Despesas Administrativas/Operacionais",{"$nulls":6},{"$f":"Encarregado!I103","v":0.025},{"$f":"(I$31+J$65+J$74+J$91+J$99)*I103","v":125.36},"( De acordo com o caderno técnico - Limpeza - Pernambuco)"]
["B","Lucro",{"$nulls":6},{"$f":"Encarregado!I104","v":0.042},{"$f":"(I$31+J$65+J$74+J$91+J$99+J$103)*I104","v":215.87},"( De acordo com o caderno técnico - Limpeza - Pernambuco)"]
["C","Tributos"]
[null,"01 - ISSQN e ISS",{"$nulls":6},0.05,{"$f":"I128","v":312.28}]
[null,"02 - PIS",{"$nulls":6},0.0165,{"$f":"I126","v":103.05}]
[null,"03 - COFINS",{"$nulls":6},0.076,{"$f":"I127","v":474.67}]
["Total",{"$nulls":7},{"$f":"SUM(I103:I108)","v":0.2095},{"$f":"SUM(J103:J108)","v":1231.23}]
[]
["2. QUADRO-RESUMO DO CUSTO POR EMPREGADO"]
["MÃO DE OBRA VINCULADA A EXECUÇÃO CONTRATUAL (VALOR POR EMPREGADO)",{"$nulls":8},"VALOR"]
["A","Módulo 1 - Composição da Remuneração",{"$nulls":7},{"$f":"I31","v":2319.72}]
["B","Módulo 2 - Encargos e Benefícios Anuais, Mensais e Diários",{"$nulls":7},{"$f":"J65","v":1828.08}]
["C","Módulo 3 - Provisão para Rescisão",{"$nulls":7},{"$f":"J74","v":341.9}]
["D","Módulo 4 - Custo de Reposição do Profissional Ausente",{"$nulls":7},{"$f":"J91","v":367.59}]
["E","Módulo 5 - Insumos Diversos",{"$nulls":7},{"$f":"J99","v":157.07}]
["SUBTOTAL (A+B+C+D+E)",{"$nulls":8},{"$f":"SUM(J113:J117)","v":5014.36}]
["F","Módulo 6 – Custos Indiretos, Tributos e Lucro",{"$nulls":7},{"$f":"J109","v":1231.23}]
["VALOR TOTAL POR POSTO",{"$nulls":8},{"$f":"SUM(J118:J119)","v":6245.59}]
[]
[null,null,null,"(*) Cálculo do valor dos tributos"]
[null,null,null,"P0 = Mod. 1 + Mod. 2 + Mod. 3 + Mod.4 + Mod.5 + Mod. 6",{"$nulls":4},{"$f":"(I$31+J$65+J$74+J$91+J$99+J$103+J104)","v":5355.59}]
[null,null,null,"P1 = P0/(1-0,1425)",{"$nulls":4},{"$f":"I123/(1-(SUM(I106:I108)))","v":6245.59}]
[null,null,null,"T = P1 - P0",{"$nulls":4},{"$f":"I124-I123","v":890}]
[null,null,null,"PIS = (1,65/14,25) x T",{"$nulls":4},{"$f":"I107/(SUM(I106:I108))*I125","v":103.05}]
[null,null,null,"COFINS = (7,60/14,25) x T",{"$nulls":4},{"$f":"I108/(SUM(I106:I108))*I125","v":474.67}]
[null,null,null,"ISS = (5,00/14,25) x T",{"$nulls":4},{"$f":"I106/(SUM(I106:I108))*I125","v":312.28}]
[]
["VALOR TOTAL DA CONTRATAÇÃO",{"$nulls":7},"MENSAL","ANUAL"]
["VALOR TOTAL - 01 POSTO (ELETRICISTA)",{"$nulls":7},{"$f":"J120","v":6245.59},{"$f":"I131*12","v":74947.08}]
["VALOR TOTAL - 01 POSTOS (ELETRICISTA)",{"$nulls":7},{"$f":"I131*1","v":6245.59},{"$f":"I132*12","v":74947.08}]

{"sheet":"AMP","index":6,"n_rows":132,"n_cols":14,"rows_kept":132,"cut":false,"hidden":false,"merged":[[5,0,5,9],[6,0,6,9],[7,1,7,7],[7,8,7,9],[8,1,8,7],[8,8,8,9],[9,1,9,7],[9,8,9,9],[10,1,10,7],[10,8,10,9],[11,1,11,7],[11,8,11,9],[12,1,12,7],[12,8,12,9],[13,1,13,9],[14,0,14,9],[15,1,15,7],[15,8,15,9],[16,1,16,7],[16,8,16,9],[17,1,17,7],[17,8,17,9],[18,1,18,7],[18,8,18,9],[19,1,19,7],[19,8,19,9],[20,1,20,9],[21,0,21,9],[22,1,22,7],[22,8,22,9],[23,1,23,7],[23,8,23,9],[24,1,24,7],[24,8,24,9],[25,1,25,7],[25,8,25,9],[26,1,26,7],[26,8,26,9],[27,1,27,7],[27,8,27,9],[28,1,28,7],[28,8,28,9],[29,1,29,7],[29,8,29,9],[30,0,30,7],[30,8,30,9],[31,0,31,9],[32,0,32,9],[33,0,33,9],[34,1,34,7],[35,1,35,7],[36,1,36,7],[37,0,37,7],[38,0,38,9],[39,0,39,9],[40,1,40,7],[41,1,41,7],[42,1,42,7],[43,1,43,7],[44,1,44,7],[45,1,45,7],[46,1,46,7],[47,1,47,7],[48,1,48,7],[49,0,49,7],[50,1,50,9],[51,0,51,9],[52,1,52,7],[53,1,53,7],[54,1,54,7],[55,1,55,7],[56,1,56,7],[57,0,57,7],[58,0,58,9],[59,0,59,9],[60,1,60,7],[61,1,61,7],[62,1,62,7],[63,1,63,7],[64,0,64,7],[65,0,65,9],[66,0,66,9],[67,1,67,7],[68,1,68,7],[69,1,69,7],[70,1,70,7],[71,1,71,7],[72,1,72,7],[73,0,73,7],[74,0,74,9],[75,0,75,9],[76,0,76,9],[77,1,77,7],[78,1,78,7],[79,1,79,7],[80,1,80,7],[81,1,81,7],[82,1,82,7],[83,1,83,7],[84,1,84,7],[85,1,85,7],[86,1,86,7],[87,1,87,7],[88,1,88,7],[89,1,89,7],[90,0,90,7],[91,0,91,9],[92,0,92,9],[93,1,93,7],[94,1,94,7],[95,1,95,7],[96,1,96,7],[97,1,97,7],[98,0,98,7],[99,0,99,9],[100,0,100,9],[101,1,101,7],[102,1,102,7],[103,1,103,7],[104,1,104,7],[105,1,105,7],[106,1,106,7],[107,1,107,7],[108,0,108,7],[109,0,109,9],[110,0,110,9],[111,0,111,8],[112,1,112,8],[113,1,113,8],[114,1,114,8],[115,1,115,8],[116,1,116,8],[117,0,117,8],[118,1,118,8],[119,0,119,8],[121,3,121,8],[122,3,122,7],[123,3,123,7],[124,3,124,7],[125,3,125,7],[126,3,126,7],[127,3,127,7],[129,0,129,7],[130,0,130,7],[131,0,131,7],[0,0,4,9]]}
["Companhia  de  Desenvolvimento  dos  Vales  do  São  Francisco e do Parnaíba\n3ª Superintendência Regional da CODEVASF-3ªSR\nGerência Regional de Administração e Suporte Logístico-3ªGRA\nPlanilha de Custos e Formação de Preços"]
[]
[]
[]
[]
[]
["DISCRIMINAÇÃO DOS SERVIÇOS"]
[1,"Data de Apresentação da Proposta",{"$nulls":6},"2022-11-18"]
[2,"Município/UF",{"$nulls":6},"PETROLINA/PE"]
[3,"Ano - Acordo, Convenção Coletiva ou Sentença Normativa em Dissídio",{"$nulls":6},"SIEMACO/SEAC - PERNAMBUCO- 2022"]
[4,"Convenção/Acordo Coletivo de Trabalho - Nº do processo e Registro no MTE",{"$nulls":6},"PE000091/2022 13623.100419/2022-07"]
[5,"Vigência da Convenção",{"$nulls":6},"01 de janeiro/2022 a 31 de dezembro/2022"]
[6,"Nº de Meses de Execução Contratual",{"$nulls":6},12]
[]
["IDENTIFICAÇÃO DOS SERVIÇOS"]
[1,"Tipo de Serviço",{"$nulls":6},"LIMPEZA E CONSERVAÇÃO"]
[2,"Unidade de Medida",{"$nulls":6},"POSTO"]
[3,"Quantidade a Contratar em Função da Unidade de Medida",{"$nulls":6},2]
[4,"Categoria profissional",{"$nulls":6},"AJUDANTE DE MANUTENÇÃO - ITEM 03"]
[5,"Salário Normativo da Categoria Profissional",{"$nulls":6},1341.72]
[]
["MÓDULO 1 - COMPOSIÇÃO DA REMUNERAÇÃO"]
["A","Salário Base",{"$nulls":6},{"$f":"I20","v":1341.72}]
["B","Adicional de Periculosidade",{"$nulls":6},0]
["C","Adicional de insalubridade",{"$nulls":6},0]
["D","Adicional Noturno",{"$nulls":6},0]
["E","Hora Noturna Adicional",{"$nulls":6},0]
["F","Adicional de Hora Extra",{"$nulls":6},0]
["G","Intervalo Intrajornada",{"$nulls":6},0]
["H","Outros",{"$nulls":6},0]
["Remuneração Total",{"$nulls":7},{"$f":"SUM(I23:I30)","v":1341.72}]
[]
["MÓDULO 2 - ENCARGOS E BENEFÍCIOS ANUAIS, MENSAIS E DIÁRIOS"]
["SUBMÓDULO 2.1 - 13º (Décimo terceiro) Salário, Férias e Adicional de Férias"]
["2.1","13º (Décimo terceiro) Salário e Adicional de Férias",{"$nulls":6},"%","VALOR"]
["A","13º (décimo terceiro) Salário",{"$nulls":6},0.0833,{"$f":"I31*I36","v":111.77}]
["B","Férias e Adicional de Férias",{"$nulls":6},0.1111,{"$f":"I31*I37","v":149.07}]
["Total",{"$nulls":8},{"$f":"SUM(J36:J37)","v":260.84}]
[]
["SUBMÓDULO 2.2 - Encargos Previdenciários (GPS), Fundo de Garantia por Tempo de Serviço (FGTS) e outras contribuições."]
["2.2","GPS, FGTS e outras contribuições",{"$nulls":6},"%","VALOR"]
["A","INSS",{"$nulls":6},0.2,{"$f":"($I$31+$J$38)*I42","v":320.51}]
["B","Salário Educação",{"$nulls":6},0.025,40.06]
["C","Seguro Acidente do Trabalho/SAT/INSS",{"$nulls":6},0.03,48.08]
["D","SESI/SESC",{"$nulls":6},0.015,24.04]
["E","SENAI/SENAC",{"$nulls":6},0.01,16.03]
["F","INCRA",{"$nulls":6},0.002,3.21]
["G","FGTS",{"$nulls":6},0.08,128.2]
["H","SEBRAE",{"$nulls":6},0.006,9.62]
["Total",{"$nulls":7},{"$f":"SUM(I42:I49)","v":0.368},{"$f":"SUM(J42:J49)","v":589.75}]
[]
["SUBMÓDULO 2.3 - Benefícios Mensais e Diários."]
["2.3","Benefícios Mensais e Diários",{"$nulls":6},"%","VALOR"]
["A","Auxílio Alimentação - Cláusula 9º e 11º da CCT (R$ 8,42 * 22 dias + Cesta básica R$ 114,39)",{"$nulls":7},{"$f":"(22*8.42+114.39)","v":299.63}]
["B","Vale Transporte - Cláusula 12ª da CCT (4,10 - valor da passagem  x 2 = 8,20 x 26 - Dias trabalhados)",{"$nulls":7},{"$f":"(8.2*26)","v":213.2}]
["C","Desconto Legal sobre Vale Transporte - Cláusula 12ª da CCT, (6% - seis por cento).",{"$nulls":7},{"$f":"(-6%*I20)","v":-80.5}]
["D","Auxílio Saúde/Assistência Médica - Cláusula 13ª da CCT",{"$nulls":7},66.15]
["Total",{"$nulls":8},{"$f":"SUM(J54:J57)","v":498.48}]
[]
["Quadro-Resumo do Módulo 2 - Encargos e Benefícios anuais, mensais e diários"]
[2,"Encargos e Benefícios Anuais, Mensais e Diários",{"$nulls":7},"VALOR"]
["2.1","13º (décimo terceiro) Salário, Férias e Adicional de Férias",{"$nulls":7},{"$f":"J38","v":260.84}]
["2.2","GPS, FGTS e outras contribuições",{"$nulls":7},{"$f":"J50","v":589.75}]
["2.3","Benefícios Mensais e Diários",{"$nulls":7},{"$f":"J58","v":498.48}]
["Total",{"$nulls":8},{"$f":"SUM(J62:J64)","v":1349.07}]
[]
["Módulo 3 - Provisão para Rescisão",{"$nulls":10},"GPS"]
[3,"Provisão para Rescisão",{"$nulls":7},"VALOR"]
["A","Aviso prévio indenizado",{"$nulls":7},{"$f":"M69","v":76.28},{"$f":"I31+J65-L69","v":2229.25},{"$f":"(I31+J38)*0.288","v":461.54},{"$f":"K69/12*0.4106","v":76.28}]
["B","Multa do FGTS e contribuição social sobre o Aviso Prévio Indenizado",{"$nulls":7},{"$f":"L70","v":26.32},{"$f":"J48","v":128.2},{"$f":"(K70*0.4+K70*0.1)*0.4106","v":26.32},{"$f":"K70*0.5*0.4106","v":26.32}]
["C","Aviso Prévio Trabalhado",{"$nulls":7},92.07,{"$f":"I31+J65","v":2690.79},{"$f":"K71/12*0.4106","v":92.07}]
["D","Multa do FGTS e contribuição social sobre o Aviso Prévio Trabalhado",{"$nulls":7},26.32,{"$f":"J48","v":128.2},{"$f":"(K72*0.4+K72*0.1)*0.4106","v":26.32},{"$f":"K72*0.5*0.4106","v":26.32}]
["E","Demissão com Justa Causa",{"$nulls":7},{"$f":"N73","v":-3.26},{"$f":"J36","v":111.77},{"$f":"J37","v":149.07},{"$f":"K73+L73","v":260.84},{"$f":"-M73*0.0125","v":-3.26}]
["Total",{"$nulls":8},{"$f":"SUM(J69:J73)","v":217.73}]
[]
[]
["Módulo 4 - Custo de Reposição do Profissional Ausente"]
["4.1","Ausências Legais",{"$nulls":6},"Dias/Ano","VALOR"]
["A","Férias ",{"$nulls":6},20.9589,{"$f":"$L$79*I79/12","v":169.33},{"$f":"I31+J65+J74","v":2908.52},{"$f":"K79/30","v":96.95},{"$f":"L79*I91","v":2857.48},{"$f":"M79/12","v":238.12}]
["B","Ausência justificada",{"$nulls":6},1,8.08]
["C","Acidente de trabalho",{"$nulls":6},0.9659,7.8]
["D","Afastamento por doença",{"$nulls":6},3.4932,{"$f":"$L$79*I82/12-0.001","v":28.22}]
["E","Consulta médica filho",{"$nulls":6},0.2688,{"$f":"$L$79*I83/12","v":2.17}]
["F","Óbitos na família",{"$nulls":6},0.0427,0.34]
["G","Casamento",{"$nulls":6},0.0355,0.29]
["H","Doação de Sangue",{"$nulls":6},0.02,0.16]
["I","Testemunho",{"$nulls":6},0.004,0.03]
["J","Paternidade",{"$nulls":6},0.1997,1.61]
["K","Maternidade",{"$nulls":6},2.4753,{"$f":"$L$79*I89/12-0.001","v":20}]
["L","Consulta pré-natal",{"$nulls":6},0.0098,{"$f":"$L$79*I90/12","v":0.08}]
["Total",{"$nulls":7},{"$f":"SUM(I79:I90)","v":29.4738},{"$f":"SUM(J79:J90)","v":238.11}]
[]
["Módulo 5 - Insumos Diversos"]
[5,"Insumos Diversos",{"$nulls":6},"%","VALOR"]
["A","Material",{"$nulls":7},0]
["B","Equipamento de Proteção Individual - EPI (Norma Regulamentadora nº 06) - Cláusula 35ª da CCT",{"$nulls":7},{"$f":"'EPI '!J39","v":77.53}]
["C","Uniforme",{"$nulls":7},{"$f":"Uniformes!J70","v":61.19}]
["D","Depreciação e Manutenção de Equipamentos",{"$nulls":7},{"$f":"Equipamentos!I42","v":101.23}]
["Total",{"$nulls":8},{"$f":"SUM(J95:J98)","v":239.95}]
[]
["Módulo 6 - Custos Indiretos, Tributos e Lucro"]
[6,"Custos Indiretos, Tributos e Lucro",{"$nulls":6},"%","VALOR"]
["A","Despesas Administrativas/Operacionais",{"$nulls":6},{"$f":"Encarregado!I103","v":0.025},{"$f":"(I$31+J$65+J$74+J$91+J$99)*I103","v":84.66},"( De acordo com o caderno técnico - Limpeza - Pernambuco)"]
["B","Lucro",{"$nulls":6},{"$f":"Encarregado!I104","v":0.042},{"$f":"(I$31+J$65+J$74+J$91+J$99+J$103)*I104","v":145.79},"( De acordo com o caderno técnico - Limpeza - Pernambuco)"]
["C","Tributos"]
[null,"01 - ISSQN e ISS",{"$nulls":6},0.05,{"$f":"I128","v":210.91}]
[null,"02 - PIS",{"$nulls":6},0.0165,{"$f":"I126","v":69.6}]
[null,"03 - COFINS",{"$nulls":6},0.076,{"$f":"I127","v":320.58}]
["Total",{"$nulls":7},{"$f":"SUM(I103:I108)","v":0.2095},{"$f":"SUM(J103:J108)","v":831.54}]
[]
["2. QUADRO-RESUMO DO CUSTO POR EMPREGADO"]
["MÃO DE OBRA VINCULADA A EXECUÇÃO CONTRATUAL (VALOR POR EMPREGADO)",{"$nulls":8},"VALOR"]
["A","Módulo 1 - Composição da Remuneração",{"$nulls":7},{"$f":"I31","v":1341.72}]
["B","Módulo 2 - Encargos e Benefícios Anuais, Mensais e Diários",{"$nulls":7},{"$f":"J65","v":1349.07}]
["C","Módulo 3 - Provisão para Rescisão",{"$nulls":7},{"$f":"J74","v":217.73}]
["D","Módulo 4 - Custo de Reposição do Profissional Ausente",{"$nulls":7},{"$f":"J91","v":238.11}]
["E","Módulo 5 - Insumos Diversos",{"$nulls":7},{"$f":"J99","v":239.95}]
["SUBTOTAL (A+B+C+D+E)",{"$nulls":8},{"$f":"SUM(J113:J117)","v":3386.58}]
["F","Módulo 6 – Custos Indiretos, Tributos e Lucro",{"$nulls":7},{"$f":"J109","v":831.54}]
["VALOR TOTAL POR POSTO",{"$nulls":8},{"$f":"SUM(J118:J119)","v":4218.12}]
[]
[null,null,null,"(*) Cálculo do valor dos tributos"]
[null,null,null,"P0 = Mod. 1 + Mod. 2 + Mod. 3 + Mod.4 + Mod.5 + Mod. 6",{"$nulls":4},{"$f":"(I$31+J$65+J$74+J$91+J$99+J$103+J104)","v":3617.03}]
[null,null,null,"P1 = P0/(1-0,1425)",{"$nulls":4},{"$f":"I123/(1-(SUM(I106:I108)))","v":4218.11}]
[null,null,null,"T = P1 - P0",{"$nulls":4},{"$f":"I124-I123","v":601.08}]
[null,null,null,"PIS = (1,65/14,25) x T",{"$nulls":4},{"$f":"I107/(SUM(I106:I108))*I125","v":69.6}]
[null,null,null,"COFINS = (7,60/14,25) x T",{"$nulls":4},{"$f":"I108/(SUM(I106:I108))*I125","v":320.58}]
[null,null,null,"ISS = (5,00/14,25) x T",{"$nulls":4},{"$f":"I106/(SUM(I106:I108))*I125","v":210.91}]
[]
["VALOR TOTAL DA CONTRATAÇÃO",{"$nulls":7},"MENSAL","ANUAL"]
["VALOR TOTAL - 01 POSTO (AMP)",{"$nulls":7},{"$f":"J120","v":4218.12},{"$f":"I131*12","v":50617.44}]
["VALOR TOTAL - 02 POSTOS (AMP)",{"$nulls":7},{"$f":"I131*2","v":8436.24},{"$f":"I132*12","v":101234.88}]

{"sheet":"Almoxarife","index":7,"n_rows":132,"n_cols":14,"rows_kept":132,"cut":false,"hidden":false,"merged":[[5,0,5,9],[6,0,6,9],[7,1,7,7],[7,8,7,9],[8,1,8,7],[8,8,8,9],[9,1,9,7],[9,8,9,9],[10,1,10,7],[10,8,10,9],[11,1,11,7],[11,8,11,9],[12,1,12,7],[12,8,12,9],[13,1,13,9],[14,0,14,9],[15,1,15,7],[15,8,15,9],[16,1,16,7],[16,8,16,9],[17,1,17,7],[17,8,17,9],[18,1,18,7],[18,8,18,9],[19,1,19,7],[19,8,19,9],[20,1,20,9],[21,0,21,9],[22,1,22,7],[22,8,22,9],[23,1,23,7],[23,8,23,9],[24,1,24,7],[24,8,24,9],[25,1,25,7],[25,8,25,9],[26,1,26,7],[26,8,26,9],[27,1,27,7],[27,8,27,9],[28,1,28,7],[28,8,28,9],[29,1,29,7],[29,8,29,9],[30,0,30,7],[30,8,30,9],[31,0,31,9],[32,0,32,9],[33,0,33,9],[34,1,34,7],[35,1,35,7],[36,1,36,7],[37,0,37,7],[38,0,38,9],[39,0,39,9],[40,1,40,7],[41,1,41,7],[42,1,42,7],[43,1,43,7],[44,1,44,7],[45,1,45,7],[46,1,46,7],[47,1,47,7],[48,1,48,7],[49,0,49,7],[50,1,50,9],[51,0,51,9],[52,1,52,7],[53,1,53,7],[54,1,54,7],[55,1,55,7],[56,1,56,7],[57,0,57,7],[58,0,58,9],[59,0,59,9],[60,1,60,7],[61,1,61,7],[62,1,62,7],[63,1,63,7],[64,0,64,7],[65,0,65,9],[66,0,66,9],[67,1,67,7],[68,1,68,7],[69,1,69,7],[70,1,70,7],[71,1,71,7],[72,1,72,7],[73,0,73,7],[74,0,74,9],[75,0,75,9],[76,0,76,9],[77,1,77,7],[78,1,78,7],[79,1,79,7],[80,1,80,7],[81,1,81,7],[82,1,82,7],[83,1,83,7],[84,1,84,7],[85,1,85,7],[86,1,86,7],[87,1,87,7],[88,1,88,7],[89,1,89,7],[90,0,90,7],[91,0,91,9],[92,0,92,9],[93,1,93,7],[94,1,94,7],[95,1,95,7],[96,1,96,7],[97,1,97,7],[98,0,98,7],[99,0,99,9],[100,0,100,9],[101,1,101,7],[102,1,102,7],[103,1,103,7],[104,1,104,7],[105,1,105,7],[106,1,106,7],[107,1,107,7],[108,0,108,7],[109,0,109,9],[110,0,110,9],[111,0,111,8],[112,1,112,8],[113,1,113,8],[114,1,114,8],[115,1,115,8],[116,1,116,8],[117,0,117,8],[118,1,118,8],[119,0,119,8],[121,3,121,8],[122,3,122,7],[123,3,123,7],[124,3,124,7],[125,3,125,7],[126,3,126,7],[127,3,127,7],[129,0,129,7],[130,0,130,7],[131,0,131,7],[0,0,4,9]]}
["Companhia  de  Desenvolvimento  dos  Vales  do  São  Francisco e do Parnaíba\n3ª Superintendência Regional da CODEVASF-3ªSR\nGerência Regional de Administração e Suporte Logístico-3ªGRA\nPlanilha de Custos e Formação de Preços"]
[]
[]
[]
[]
[]
["DISCRIMINAÇÃO DOS SERVIÇOS"]
[1,"Data de Apresentação da Proposta",{"$nulls":6},"2022-11-18"]
[2,"Município/UF",{"$nulls":6},"PETROLINA/PE"]
[3,"Ano - Acordo, Convenção Coletiva ou Sentença Normativa em Dissídio",{"$nulls":6},"SIEMACO/SEAC - PERNAMBUCO- 2022"]
[4,"Convenção/Acordo Coletivo de Trabalho - Nº do processo e Registro no MTE",{"$nulls":6},"PE000091/2022 13623.100419/2022-07"]
[5,"Vigência da Convenção",{"$nulls":6},"01 de janeiro/2022 a 31 de dezembro/2022"]
[6,"Nº de Meses de Execução Contratual",{"$nulls":6},12]
[]
["IDENTIFICAÇÃO DOS SERVIÇOS"]
[1,"Tipo de Serviço",{"$nulls":6},"LIMPEZA E CONSERVAÇÃO"]
[2,"Unidade de Medida",{"$nulls":6},"POSTO"]
[3,"Quantidade a Contratar em Função da Unidade de Medida",{"$nulls":6},1]
[4,"Categoria profissional",{"$nulls":6},"ALMOXARIFE - ITEM 05"]
[5,"Salário Normativo da Categoria Profissional",{"$nulls":6},1236.43]
[]
["MÓDULO 1 - COMPOSIÇÃO DA REMUNERAÇÃO"]
["A","Salário Base",{"$nulls":6},{"$f":"I20","v":1236.43}]
["B","Adicional de Periculosidade",{"$nulls":6},0]
["C","Adicional de insalubridade",{"$nulls":6},0]
["D","Adicional Noturno",{"$nulls":6},0]
["E","Hora Noturna Adicional",{"$nulls":6},0]
["F","Adicional de Hora Extra",{"$nulls":6},0]
["G","Intervalo Intrajornada",{"$nulls":6},0]
["H","Outros",{"$nulls":6},0]
["Remuneração Total",{"$nulls":7},{"$f":"SUM(I23:I30)","v":1236.43}]
[]
["MÓDULO 2 - ENCARGOS E BENEFÍCIOS ANUAIS, MENSAIS E DIÁRIOS"]
["SUBMÓDULO 2.1 - 13º (Décimo terceiro) Salário, Férias e Adicional de Férias"]
["2.1","13º (Décimo terceiro) Salário e Adicional de Férias",{"$nulls":6},"%","VALOR"]
["A","13º (décimo terceiro) Salário",{"$nulls":6},0.0833,{"$f":"I31*I36","v":102.99}]
["B","Férias e Adicional de Férias",{"$nulls":6},0.1111,{"$f":"I31*I37","v":137.37}]
["Total",{"$nulls":8},{"$f":"SUM(J36:J37)","v":240.36}]
[]
["SUBMÓDULO 2.2 - Encargos Previdenciários (GPS), Fundo de Garantia por Tempo de Serviço (FGTS) e outras contribuições."]
["2.2","GPS, FGTS e outras contribuições",{"$nulls":6},"%","VALOR"]
["A","INSS",{"$nulls":6},0.2,{"$f":"($I$31+$J$38)*I42","v":295.36}]
["B","Salário Educação",{"$nulls":6},0.025,36.92]
["C","Seguro Acidente do Trabalho/SAT/INSS",{"$nulls":6},0.03,44.3]
["D","SESI/SESC",{"$nulls":6},0.015,22.15]
["E","SENAI/SENAC",{"$nulls":6},0.01,14.77]
["F","INCRA",{"$nulls":6},0.002,2.95]
["G","FGTS",{"$nulls":6},0.08,118.14]
["H","SEBRAE",{"$nulls":6},0.006,8.86]
["Total",{"$nulls":7},{"$f":"SUM(I42:I49)","v":0.368},{"$f":"SUM(J42:J49)","v":543.45}]
[]
["SUBMÓDULO 2.3 - Benefícios Mensais e Diários."]
["2.3","Benefícios Mensais e Diários",{"$nulls":6},"%","VALOR"]
["A","Auxílio Alimentação - Cláusula 9º e 11º da CCT (R$ 8,42 * 22 dias + Cesta básica R$ 114,39)",{"$nulls":7},{"$f":"(22*8.42+114.39)","v":299.63}]
["B","Vale Transporte - Cláusula 12ª da CCT (7,00 - valor da passagem  x 2 = 14,00 x 26 - Dias trabalhados)",{"$nulls":7},{"$f":"(14*26)","v":364}]
["C","Desconto Legal sobre Vale Transporte - Cláusula 12ª da CCT, (6% - seis por cento).",{"$nulls":7},{"$f":"(-6%*I20)","v":-74.19}]
["D","Auxílio Saúde/Assistência Médica - Cláusula 13ª da CCT",{"$nulls":7},66.15]
["Total",{"$nulls":8},{"$f":"SUM(J54:J57)","v":655.59}]
[]
["Quadro-Resumo do Módulo 2 - Encargos e Benefícios anuais, mensais e diários"]
[2,"Encargos e Benefícios Anuais, Mensais e Diários",{"$nulls":7},"VALOR"]
["2.1","13º (décimo terceiro) Salário, Férias e Adicional de Férias",{"$nulls":7},{"$f":"J38","v":240.36}]
["2.2","GPS, FGTS e outras contribuições",{"$nulls":7},{"$f":"J50","v":543.45}]
["2.3","Benefícios Mensais e Diários",{"$nulls":7},{"$f":"J58","v":655.59}]
["Total",{"$nulls":8},{"$f":"SUM(J62:J64)","v":1439.4}]
[]
["Módulo 3 - Provisão para Rescisão",{"$nulls":10},"GPS"]
[3,"Provisão para Rescisão",{"$nulls":7},"VALOR"]
["A","Aviso prévio indenizado",{"$nulls":7},{"$f":"M69","v":77},{"$f":"I31+J65-L69","v":2250.51},{"$f":"(I31+J38)*0.288","v":425.32},{"$f":"K69/12*0.4106","v":77}]
["B","Multa do FGTS e contribuição social sobre o Aviso Prévio Indenizado",{"$nulls":7},{"$f":"L70","v":24.25},{"$f":"J48","v":118.14},{"$f":"(K70*0.4+K70*0.1)*0.4106","v":24.25},{"$f":"K70*0.5*0.4106","v":24.25}]
["C","Aviso Prévio Trabalhado",{"$nulls":7},91.56,{"$f":"I31+J65","v":2675.83},{"$f":"K71/12*0.4106","v":91.56}]
["D","Multa do FGTS e contribuição social sobre o Aviso Prévio Trabalhado",{"$nulls":7},24.25,{"$f":"J48","v":118.14},{"$f":"(K72*0.4+K72*0.1)*0.4106","v":24.25},{"$f":"K72*0.5*0.4106","v":24.25}]
["E","Demissão com Justa Causa",{"$nulls":7},{"$f":"N73","v":-3},{"$f":"J36","v":102.99},{"$f":"J37","v":137.37},{"$f":"K73+L73","v":240.36},{"$f":"-M73*0.0125","v":-3}]
["Total",{"$nulls":8},{"$f":"SUM(J69:J73)","v":214.06}]
[]
[]
["Módulo 4 - Custo de Reposição do Profissional Ausente"]
["4.1","Ausências Legais",{"$nulls":6},"Dias/Ano","VALOR"]
["A","Férias ",{"$nulls":6},20.9589,{"$f":"$L$79*I79/12+0.01","v":168.26},{"$f":"I31+J65+J74","v":2889.89},{"$f":"K79/30","v":96.33},{"$f":"L79*I91","v":2839.21},{"$f":"M79/12","v":236.6}]
["B","Ausência justificada",{"$nulls":6},1,{"$f":"$L$79*I80/12","v":8.03}]
["C","Acidente de trabalho",{"$nulls":6},0.9659,7.75]
["D","Afastamento por doença",{"$nulls":6},3.4932,28.04]
["E","Consulta médica filho",{"$nulls":6},0.2688,2.16]
["F","Óbitos na família",{"$nulls":6},0.0427,0.34]
["G","Casamento",{"$nulls":6},0.0355,0.28]
["H","Doação de Sangue",{"$nulls":6},0.02,0.16]
["I","Testemunho",{"$nulls":6},0.004,0.03]
["J","Paternidade",{"$nulls":6},0.1997,1.6]
["K","Maternidade",{"$nulls":6},2.4753,19.87]
["L","Consulta pré-natal",{"$nulls":6},0.0098,0.08]
["Total",{"$nulls":7},{"$f":"SUM(I79:I90)","v":29.4738},{"$f":"SUM(J79:J90)","v":236.6}]
[]
["Módulo 5 - Insumos Diversos"]
[5,"Insumos Diversos",{"$nulls":6},"%","VALOR"]
["A","Material",{"$nulls":7},0]
["B","Equipamento de Proteção Individual - EPI (Norma Regulamentadora nº 06) - Cláusula 35ª da CCT",{"$nulls":7},{"$f":"'EPI '!J80","v":55.12}]
["C","Uniforme",{"$nulls":7},{"$f":"Uniformes!J226","v":61.2}]
["D","Depreciação e Manutenção de Equipamentos",{"$nulls":7},0]
["Total",{"$nulls":8},{"$f":"SUM(J95:J98)","v":116.32}]
[]
["Módulo 6 - Custos Indiretos, Tributos e Lucro"]
[6,"Custos Indiretos, Tributos e Lucro",{"$nulls":6},"%","VALOR"]
["A","Despesas Administrativas/Operacionais",{"$nulls":6},{"$f":"Encarregado!I103","v":0.025},{"$f":"(I$31+J$65+J$74+J$91+J$99)*I103","v":81.07},"( De acordo com o caderno técnico - Limpeza - Pernambuco)"]
["B","Lucro",{"$nulls":6},{"$f":"Encarregado!I104","v":0.042},{"$f":"(I$31+J$65+J$74+J$91+J$99+J$103)*I104","v":139.6},"( De acordo com o caderno técnico - Limpeza - Pernambuco)"]
["C","Tributos"]
[null,"01 - ISSQN e ISS",{"$nulls":6},0.05,{"$f":"I128","v":201.95}]
[null,"02 - PIS",{"$nulls":6},0.0165,{"$f":"I126","v":66.64}]
[null,"03 - COFINS",{"$nulls":6},0.076,{"$f":"I127","v":306.97}]
["Total",{"$nulls":7},{"$f":"SUM(I103:I108)","v":0.2095},{"$f":"SUM(J103:J108)","v":796.23}]
[]
["2. QUADRO-RESUMO DO CUSTO POR EMPREGADO"]
["MÃO DE OBRA VINCULADA A EXECUÇÃO CONTRATUAL (VALOR POR EMPREGADO)",{"$nulls":8},"VALOR"]
["A","Módulo 1 - Composição da Remuneração",{"$nulls":7},{"$f":"I31","v":1236.43}]
["B","Módulo 2 - Encargos e Benefícios Anuais, Mensais e Diários",{"$nulls":7},{"$f":"J65","v":1439.4}]
["C","Módulo 3 - Provisão para Rescisão",{"$nulls":7},{"$f":"J74","v":214.06}]
["D","Módulo 4 - Custo de Reposição do Profissional Ausente",{"$nulls":7},{"$f":"J91","v":236.6}]
["E","Módulo 5 - Insumos Diversos",{"$nulls":7},{"$f":"J99","v":116.32}]
["SUBTOTAL (A+B+C+D+E)",{"$nulls":8},{"$f":"SUM(J113:J117)","v":3242.81}]
["F","Módulo 6 – Custos Indiretos, Tributos e Lucro",{"$nulls":7},{"$f":"J109","v":796.23}]
["VALOR TOTAL POR POSTO",{"$nulls":8},{"$f":"SUM(J118:J119)","v":4039.04}]
[]
[null,null,null,"(*) Cálculo do valor dos tributos"]
[null,null,null,"P0 = Mod. 1 + Mod. 2 + Mod. 3 + Mod.4 + Mod.5 + Mod. 6",{"$nulls":4},{"$f":"(I$31+J$65+J$74+J$91+J$99+J$103+J104)","v":3463.48}]
[null,null,null,"P1 = P0/(1-0,1425)",{"$nulls":4},{"$f":"I123/(1-(SUM(I106:I108)))","v":4039.04}]
[null,null,null,"T = P1 - P0",{"$nulls":4},{"$f":"I124-I123","v":575.56}]
[null,null,null,"PIS = (1,65/14,25) x T",{"$nulls":4},{"$f":"I107/(SUM(I106:I108))*I125","v":66.64}]
[null,null,null,"COFINS = (7,60/14,25) x T",{"$nulls":4},{"$f":"I108/(SUM(I106:I108))*I125","v":306.97}]
[null,null,null,"ISS = (5,00/14,25) x T",{"$nulls":4},{"$f":"I106/(SUM(I106:I108))*I125","v":201.95}]
[]
["VALOR TOTAL DA CONTRATAÇÃO",{"$nulls":7},"MENSAL","ANUAL"]
["VALOR TOTAL - 01 POSTO (ALMOXARIFE)",{"$nulls":7},{"$f":"J120","v":4039.04},{"$f":"I131*12","v":48468.48}]
["VALOR TOTAL - 01 POSTOS (ALMOXARIFE)",{"$nulls":7},{"$f":"I131*1","v":4039.04},{"$f":"I132*12","v":48468.48}]

{"sheet":"Apoio Téc. ADM II","index":8,"n_rows":132,"n_cols":14,"rows_kept":132,"cut":false,"hidden":false,"merged":[[5,0,5,9],[6,0,6,9],[7,1,7,7],[7,8,7,9],[8,1,8,7],[8,8,8,9],[9,1,9,7],[9,8,9,9],[10,1,10,7],[10,8,10,9],[11,1,11,7],[11,8,11,9],[12,1,12,7],[12,8,12,9],[13,1,13,9],[14,0,14,9],[15,1,15,7],[15,8,15,9],[16,1,16,7],[16,8,16,9],[17,1,17,7],[17,8,17,9],[18,1,18,7],[18,8,18,9],[19,1,19,7],[19,8,19,9],[20,1,20,9],[21,0,21,9],[22,1,22,7],[22,8,22,9],[23,1,23,7],[23,8,23,9],[24,1,24,7],[24,8,24,9],[25,1,25,7],[25,8,25,9],[26,1,26,7],[26,8,26,9],[27,1,27,7],[27,8,27,9],[28,1,28,7],[28,8,28,9],[29,1,29,7],[29,8,29,9],[30,0,30,7],[30,8,30,9],[31,0,31,9],[32,0,32,9],[33,0,33,9],[34,1,34,7],[35,1,35,7],[36,1,36,7],[37,0,37,7],[38,0,38,9],[39,0,39,9],[40,1,40,7],[41,1,41,7],[42,1,42,7],[43,1,43,7],[44,1,44,7],[45,1,45,7],[46,1,46,7],[47,1,47,7],[48,1,48,7],[49,0,49,7],[50,1,50,9],[51,0,51,9],[52,1,52,7],[53,1,53,7],[54,1,54,7],[55,1,55,7],[56,1,56,7],[57,0,57,7],[58,0,58,9],[59,0,59,9],[60,1,60,7],[61,1,61,7],[62,1,62,7],[63,1,63,7],[64,0,64,7],[65,0,65,9],[66,0,66,9],[67,1,67,7],[68,1,68,7],[69,1,69,7],[70,1,70,7],[71,1,71,7],[72,1,72,7],[73,0,73,7],[74,0,74,9],[75,0,75,9],[76,0,76,9],[77,1,77,7],[78,1,78,7],[79,1,79,7],[80,1,80,7],[81,1,81,7],[82,1,82,7],[83,1,83,7],[84,1,84,7],[85,1,85,7],[86,1,86,7],[87,1,87,7],[88,1,88,7],[89,1,89,7],[90,0,90,7],[91,0,91,9],[92,0,92,9],[93,1,93,7],[94,1,94,7],[95,1,95,7],[96,1,96,7],[97,1,97,7],[98,0,98,7],[99,0,99,9],[100,0,100,9],[101,1,101,7],[102,1,102,7],[103,1,103,7],[104,1,104,7],[105,1,105,7],[106,1,106,7],[107,1,107,7],[108,0,108,7],[109,0,109,9],[110,0,110,9],[111,0,111,8],[112,1,112,8],[113,1,113,8],[114,1,114,8],[115,1,115,8],[116,1,116,8],[117,0,117,8],[118,1,118,8],[119,0,119,8],[121,3,121,8],[122,3,122,7],[123,3,123,7],[124,3,124,7],[125,3,125,7],[126,3,126,7],[127,3,127,7],[129,0,129,7],[130,0,130,7],[131,0,131,7],[0,0,4,9]]}
["Companhia  de  Desenvolvimento  dos  Vales  do  São  Francisco e do Parnaíba\n3ª Superintendência Regional da CODEVASF-3ªSR\nGerência Regional de Administração e Suporte Logístico-3ªGRA\nPlanilha de Custos e Formação de Preços"]
[]
[]
[]
[]
[]
["DISCRIMINAÇÃO DOS SERVIÇOS"]
[1,"Data de Apresentação da Proposta",{"$nulls":6},"2022-11-18"]
[2,"Município/UF",{"$nulls":6},"PETROLINA/PE"]
[3,"Ano - Acordo, Convenção Coletiva ou Sentença Normativa em Dissídio",{"$nulls":6},"SIEMACO/SEAC - PERNAMBUCO- 2022"]
[4,"Convenção/Acordo Coletivo de Trabalho - Nº do processo e Registro no MTE",{"$nulls":6},"PE000091/2022 13623.100419/2022-07"]
[5,"Vigência da Convenção",{"$nulls":6},"01 de janeiro/2022 a 31 de dezembro/2022"]
[6,"Nº de Meses de Execução Contratual",{"$nulls":6},12]
[]
["IDENTIFICAÇÃO DOS SERVIÇOS"]
[1,"Tipo de Serviço",{"$nulls":6},"LIMPEZA E CONSERVAÇÃO"]
[2,"Unidade de Medida",{"$nulls":6},"POSTO"]
[3,"Quantidade a Contratar em Função da Unidade de Medida",{"$nulls":6},1]
[4,"Categoria profissional",{"$nulls":6},"APOIO TÉCNICO ADMINISTRATIVO II - ITEM 71"]
[5,"Salário Normativo da Categoria Profissional",{"$nulls":6},2612.35]
[]
["MÓDULO 1 - COMPOSIÇÃO DA REMUNERAÇÃO"]
["A","Salário Base",{"$nulls":6},{"$f":"I20","v":2612.35}]
["B","Adicional de Periculosidade",{"$nulls":6},0]
["C","Adicional de insalubridade",{"$nulls":6},0]
["D","Adicional Noturno",{"$nulls":6},0]
["E","Hora Noturna Adicional",{"$nulls":6},0]
["F","Adicional de Hora Extra",{"$nulls":6},0]
["G","Intervalo Intrajornada",{"$nulls":6},0]
["H","Outros",{"$nulls":6},0]
["Remuneração Total",{"$nulls":7},{"$f":"SUM(I23:I30)","v":2612.35}]
[]
["MÓDULO 2 - ENCARGOS E BENEFÍCIOS ANUAIS, MENSAIS E DIÁRIOS"]
["SUBMÓDULO 2.1 - 13º (Décimo terceiro) Salário, Férias e Adicional de Férias"]
["2.1","13º (Décimo terceiro) Salário e Adicional de Férias",{"$nulls":6},"%","VALOR"]
["A","13º (décimo terceiro) Salário",{"$nulls":6},0.0833,{"$f":"I31*I36","v":217.61}]
["B","Férias e Adicional de Férias",{"$nulls":6},0.1111,{"$f":"I31*I37","v":290.23}]
["Total",{"$nulls":8},{"$f":"SUM(J36:J37)","v":507.84}]
[]
["SUBMÓDULO 2.2 - Encargos Previdenciários (GPS), Fundo de Garantia por Tempo de Serviço (FGTS) e outras contribuições."]
["2.2","GPS, FGTS e outras contribuições",{"$nulls":6},"%","VALOR"]
["A","INSS",{"$nulls":6},0.2,{"$f":"($I$31+$J$38)*I42","v":624.04}]
["B","Salário Educação",{"$nulls":6},0.025,78]
["C","Seguro Acidente do Trabalho/SAT/INSS",{"$nulls":6},0.03,93.61]
["D","SESI/SESC",{"$nulls":6},0.015,46.8]
["E","SENAI/SENAC",{"$nulls":6},0.01,31.2]
["F","INCRA",{"$nulls":6},0.002,6.24]
["G","FGTS",{"$nulls":6},0.08,249.62]
["H","SEBRAE",{"$nulls":6},0.006,18.72]
["Total",{"$nulls":7},{"$f":"SUM(I42:I49)","v":0.368},{"$f":"SUM(J42:J49)","v":1148.23}]
[]
["SUBMÓDULO 2.3 - Benefícios Mensais e Diários."]
["2.3","Benefícios Mensais e Diários",{"$nulls":6},"%","VALOR"]
["A","Auxílio Alimentação - Cláusula 9º e 11º da CCT (R$ 8,42 * 22 dias)",{"$nulls":7},{"$f":"(22*8.42)","v":185.24}]
["B","Vale Transporte - Cláusula 12ª da CCT (4,10 - valor da passagem  x 2 = 8,20 x 22 - Dias trabalhados)",{"$nulls":7},{"$f":"(8.2*22)","v":180.4}]
["C","Desconto Legal sobre Vale Transporte - Cláusula 12ª da CCT, (6% - seis por cento).",{"$nulls":7},{"$f":"(-6%*I20)","v":-156.74}]
["D","Auxílio Saúde/Assistência Médica - Cláusula 13ª da CCT",{"$nulls":7},66.15]
["Total",{"$nulls":8},{"$f":"SUM(J54:J57)","v":275.05}]
[]
["Quadro-Resumo do Módulo 2 - Encargos e Benefícios anuais, mensais e diários"]
[2,"Encargos e Benefícios Anuais, Mensais e Diários",{"$nulls":7},"VALOR"]
["2.1","13º (décimo terceiro) Salário, Férias e Adicional de Férias",{"$nulls":7},{"$f":"J38","v":507.84}]
["2.2","GPS, FGTS e outras contribuições",{"$nulls":7},{"$f":"J50","v":1148.23}]
["2.3","Benefícios Mensais e Diários",{"$nulls":7},{"$f":"J58","v":275.05}]
["Total",{"$nulls":8},{"$f":"SUM(J62:J64)","v":1931.12}]
[]
["Módulo 3 - Provisão para Rescisão",{"$nulls":10},"GPS"]
[3,"Provisão para Rescisão",{"$nulls":7},"VALOR"]
["A","Aviso prévio indenizado",{"$nulls":7},{"$f":"M69","v":124.71},{"$f":"I31+J65-L69","v":3644.86},{"$f":"(I31+J38)*0.288","v":898.61},{"$f":"K69/12*0.4106","v":124.71}]
["B","Multa do FGTS e contribuição social sobre o Aviso Prévio Indenizado",{"$nulls":7},{"$f":"L70","v":51.25},{"$f":"J48","v":249.62},{"$f":"(K70*0.4+K70*0.1)*0.4106","v":51.25},{"$f":"K70*0.5*0.4106","v":51.25}]
["C","Aviso Prévio Trabalhado",{"$nulls":7},155.46,{"$f":"I31+J65","v":4543.47},{"$f":"K71/12*0.4106","v":155.46}]
["D","Multa do FGTS e contribuição social sobre o Aviso Prévio Trabalhado",{"$nulls":7},51.25,{"$f":"J48","v":249.62},{"$f":"(K72*0.4+K72*0.1)*0.4106","v":51.25},{"$f":"K72*0.5*0.4106","v":51.25}]
["E","Demissão com Justa Causa",{"$nulls":7},{"$f":"N73","v":-6.35},{"$f":"J36","v":217.61},{"$f":"J37","v":290.23},{"$f":"K73+L73","v":507.84},{"$f":"-M73*0.0125","v":-6.35}]
["Total",{"$nulls":8},{"$f":"SUM(J69:J73)","v":376.32}]
[]
[]
["Módulo 4 - Custo de Reposição do Profissional Ausente"]
["4.1","Ausências Legais",{"$nulls":6},"Dias/Ano","VALOR"]
["A","Férias ",{"$nulls":6},20.9589,{"$f":"$L$79*I79/12-0.01","v":286.41},{"$f":"I31+J65+J74","v":4919.79},{"$f":"K79/30","v":163.99},{"$f":"L79*I91","v":4833.41},{"$f":"M79/12","v":402.78}]
["B","Ausência justificada",{"$nulls":6},1,{"$f":"$L$79*I80/12","v":13.67}]
["C","Acidente de trabalho",{"$nulls":6},0.9659,13.2]
["D","Afastamento por doença",{"$nulls":6},3.4932,{"$f":"$L$79*I82/12-0.01","v":47.73}]
["E","Consulta médica filho",{"$nulls":6},0.2688,3.67]
["F","Óbitos na família",{"$nulls":6},0.0427,0.58]
["G","Casamento",{"$nulls":6},0.0355,0.49]
["H","Doação de Sangue",{"$nulls":6},0.02,0.27]
["I","Testemunho",{"$nulls":6},0.004,0.05]
["J","Paternidade",{"$nulls":6},0.1997,2.73]
["K","Maternidade",{"$nulls":6},2.4753,33.83]
["L","Consulta pré-natal",{"$nulls":6},0.0098,0.13]
["Total",{"$nulls":7},{"$f":"SUM(I79:I90)","v":29.4738},{"$f":"SUM(J79:J90)","v":402.76}]
[]
["Módulo 5 - Insumos Diversos"]
[5,"Insumos Diversos",{"$nulls":6},"%","VALOR"]
["A","Material",{"$nulls":7},0]
["B","Equipamento de Proteção Individual - EPI (Norma Regulamentadora nº 06) - Cláusula 35ª da CCT",{"$nulls":7},0]
["C","Uniforme",{"$nulls":7},{"$f":"Uniformes!J180","v":38.96}]
["D","Depreciação e Manutenção de Equipamentos",{"$nulls":7},0]
["Total",{"$nulls":8},{"$f":"SUM(J95:J98)","v":38.96}]
[]
["Módulo 6 - Custos Indiretos, Tributos e Lucro"]
[6,"Custos Indiretos, Tributos e Lucro",{"$nulls":6},"%","VALOR"]
["A","Despesas Administrativas/Operacionais",{"$nulls":6},{"$f":"Encarregado!I103","v":0.025},{"$f":"(I$31+J$65+J$74+J$91+J$99)*I103","v":134.04},"( De acordo com o caderno técnico - Limpeza - Pernambuco)"]
["B","Lucro",{"$nulls":6},{"$f":"Encarregado!I104","v":0.042},{"$f":"(I$31+J$65+J$74+J$91+J$99+J$103)*I104","v":230.81},"( De acordo com o caderno técnico - Limpeza - Pernambuco)"]
["C","Tributos"]
[null,"01 - ISSQN e ISS",{"$nulls":6},0.05,{"$f":"I128","v":333.9}]
[null,"02 - PIS",{"$nulls":6},0.0165,{"$f":"I126","v":110.19}]
[null,"03 - COFINS",{"$nulls":6},0.076,{"$f":"I127","v":507.53}]
["Total",{"$nulls":7},{"$f":"SUM(I103:I108)","v":0.2095},{"$f":"SUM(J103:J108)","v":1316.47}]
[]
["2. QUADRO-RESUMO DO CUSTO POR EMPREGADO"]
["MÃO DE OBRA VINCULADA A EXECUÇÃO CONTRATUAL (VALOR POR EMPREGADO)",{"$nulls":8},"VALOR"]
["A","Módulo 1 - Composição da Remuneração",{"$nulls":7},{"$f":"I31","v":2612.35}]
["B","Módulo 2 - Encargos e Benefícios Anuais, Mensais e Diários",{"$nulls":7},{"$f":"J65","v":1931.12}]
["C","Módulo 3 - Provisão para Rescisão",{"$nulls":7},{"$f":"J74","v":376.32}]
["D","Módulo 4 - Custo de Reposição do Profissional Ausente",{"$nulls":7},{"$f":"J91","v":402.76}]
["E","Módulo 5 - Insumos Diversos",{"$nulls":7},{"$f":"J99","v":38.96}]
["SUBTOTAL (A+B+C+D+E)",{"$nulls":8},{"$f":"SUM(J113:J117)","v":5361.51}]
["F","Módulo 6 – Custos Indiretos, Tributos e Lucro",{"$nulls":7},{"$f":"J109","v":1316.47}]
["VALOR TOTAL POR POSTO",{"$nulls":8},{"$f":"SUM(J118:J119)","v":6677.98}]
[]
[null,null,null,"(*) Cálculo do valor dos tributos"]
[null,null,null,"P0 = Mod. 1 + Mod. 2 + Mod. 3 + Mod.4 + Mod.5 + Mod. 6",{"$nulls":4},{"$f":"(I$31+J$65+J$74+J$91+J$99+J$103+J104)","v":5726.36}]
[null,null,null,"P1 = P0/(1-0,1425)",{"$nulls":4},{"$f":"I123/(1-(SUM(I106:I108)))","v":6677.97}]
[null,null,null,"T = P1 - P0",{"$nulls":4},{"$f":"I124-I123","v":951.61}]
[null,null,null,"PIS = (1,65/14,25) x T",{"$nulls":4},{"$f":"I107/(SUM(I106:I108))*I125","v":110.19}]
[null,null,null,"COFINS = (7,60/14,25) x T",{"$nulls":4},{"$f":"I108/(SUM(I106:I108))*I125","v":507.53}]
[null,null,null,"ISS = (5,00/14,25) x T",{"$nulls":4},{"$f":"I106/(SUM(I106:I108))*I125","v":333.9}]
[]
["VALOR TOTAL DA CONTRATAÇÃO",{"$nulls":7},"MENSAL","ANUAL"]
["VALOR TOTAL - 01 POSTO (APOIO TÉCNICO ADMINISTRATIVO II)",{"$nulls":7},{"$f":"J120","v":6677.98},{"$f":"I131*12","v":80135.76}]
["VALOR TOTAL - 01 POSTOS (APOIO TÉCNICO ADMINISTRATIVO II)",{"$nulls":7},{"$f":"I131*1","v":6677.98},{"$f":"I132*12","v":80135.76}]

{"sheet":"Complemento Serviço Limpeza","index":9,"n_rows":47,"n_cols":7,"rows_kept":47,"cut":false,"hidden":false,"merged":[[16,1,16,2],[16,3,16,4],[16,5,16,6],[17,1,17,2],[17,3,17,4],[17,5,17,6],[18,0,18,4],[18,5,18,6],[20,0,20,6],[24,1,24,2],[24,3,24,4],[24,5,24,6],[25,1,25,2],[25,3,25,4],[25,5,25,6],[26,0,26,4],[26,5,26,6],[28,0,28,6],[35,0,35,5],[37,0,37,6],[41,1,41,2],[41,3,41,4],[41,5,41,6],[42,1,42,2],[42,3,42,4],[42,5,42,6],[43,1,43,2],[43,3,43,4],[43,5,43,6],[44,1,44,2],[44,3,44,4],[44,5,44,6],[45,0,45,4],[45,5,45,6],[46,0,46,4],[57,0,57,4],[58,0,58,4],[13,0,15,0],[21,0,23,0],[29,0,32,0],[38,0,40,0],[29,1,30,1],[31,1,32,1],[29,2,30,2],[31,2,32,2],[29,3,30,3],[31,3,32,3],[29,4,30,4],[31,4,32,4],[29,5,30,5],[31,5,32,5],[29,6,30,6],[31,6,32,6],[1,0,12,6],[13,1,15,2],[13,3,15,4],[13,5,15,6],[21,1,23,2],[21,3,23,4],[21,5,23,6],[38,1,40,2],[38,3,40,4],[38,5,40,6]]}
[]
["Ministério   da   Desenvolvimento Regional -  MDR\nCompanhia de Desenvolvimento dos Vales do São Francisco e do Parnaíba\n3ª Superintendência Regional\nPORTARIA Nº 07 DE 09/03/2011 - SLTI/MPOG\nCOMPLEMENTO DOS SERVIÇOS DE LIMPEZA E CONSERVAÇÃO\nPREÇO MENSAL UNITÁRIO POR METRO QUADRADO (m²)\nA - ÁREA INTERNA SEM INSALUBRIDADE"]
{"$rows_empty":11}
["MÃO-DE-OBRA","PRODUTIVIDADE\n( 1 / m² )\n( 1 )",null,"PREÇO HOMEM-MÊS\n( R$ )\n( 2 )",null,"SUBTOTAL\n(R$ / m² )\n(3 = 1 x 2)"]
[]
[]
["Auxiliar de Seviços Gerais","1 / 800",null,{"$f":"ASG!J120","v":4308.72},null,{"$f":"D17*(1/800)","v":5.39}]
["Encarregado","1/(14 x 800)",null,{"$f":"Encarregado!J120","v":4322.54},null,{"$f":"D18*(1/(14*800))","v":0.39}]
["TOTAL (Área Tipo \"A\")",{"$nulls":4},{"$f":"F17+F18","v":5.78}]
[]
["B - ÁREA EXTERNA SEM INSALUBRIDADE"]
["MÃO-DE-OBRA","PRODUTIVIDADE\n( 1 / m² )\n( 1 )",null,"PREÇO HOMEM-MÊS\n( R$ )\n( 2 )",null,"SUBTOTAL\n(R$ / m² )\n(3 = 1 x 2)"]
[]
[]
["Auxiliar de Seviços Gerais","1 /2100",null,{"$f":"ASG!J120","v":4308.72},null,{"$f":"D25*(1/2100)","v":2.05}]
["Encarregado","1/(14 x 2100)",null,{"$f":"Encarregado!J120","v":4322.54},null,{"$f":"D26*(1/(14*2100))","v":0.15}]
["TOTAL (Área Tipo \"B\")",{"$nulls":4},{"$f":"SUM(F25:F26)","v":2.2}]
[]
["C - ESQUADRIAS INTERNAS E EXTERNAS"]
["MÃO-DE-OBRA","PRODUTIVIDADE","FREQUÊNCIA NO MÊS (HORA)","JORNADA DE TRABALHO NO MÊS (HORAS) 1/188,76","(1x2x3) Ki","PREÇO HOMEM-MÊS","SUBTOTAL"]
[]
[null,"( 1 / m² )                  (1)","( 2 )","( 3 )","( 4 )","( R$ )                        (5)","(R$ / m² )  (6= 4x5)"]
[]
["Auxiliar de Seviços Gerais","1 /300",16,{"$f":"1/188.76","v":0.0052977},{"$f":"(1/300)*C34*D34","v":0.0002825},{"$f":"ASG!J120","v":4308.72},{"$f":"E34*F34","v":1.22}]
["Encarregado","1/(14 x 300)","16,00",{"$f":"1/188.76","v":0.0052977},{"$f":"1/(14*300)*C35*D35","v":2.02e-5},{"$f":"Encarregado!J120","v":4322.54},{"$f":"E35*F35","v":0.09}]
["TOTAL (Área Tipo \"C\")",{"$nulls":5},{"$f":"SUM(G34:G35)","v":1.31}]
[]
["II - VALOR MENSAL DOS SERVIÇOS DE CONSERVAÇÃO E LIMPEZA"]
["TIPO DE ÁREA","PREÇO MENSAL UNITÁRIO\n(R$ / m²)",null,"ÁREA\n( m² )",null,"SUBTOTAL\n(R$)"]
[]
[]
["A - Interna sem Insalubridade",{"$f":"F19","v":5.78},null,3020.51,null,{"$f":"B42*D42","v":17458.55}]
["B - Externa sem Insalubridade",{"$f":"F27","v":2.2},null,19441.42,null,42771.12]
["C - Esquadrias Internas e Externas",{"$f":"G36","v":1.31},null,282,null,369.42]
["D - Serviços (Outros)",0,null,0,null,0]
["TOTAL MENSAL DOS SERVIÇOS",{"$nulls":4},{"$f":"F42+F43+F44","v":60599.09}]
["PETROLINA/PE, NOVEMBRO DE 2022."]

{"sheet":"Calc. das áreas","index":10,"n_rows":23,"n_cols":10,"rows_kept":23,"cut":false,"hidden":false,"merged":[[7,0,7,9],[8,2,8,5],[8,6,8,9],[16,0,16,1],[22,0,22,4],[33,0,33,4],[34,0,34,4],[1,0,6,9],[18,0,20,9]]}
[]
["Ministério de Desenvolvimento Regional  -  MDR\nCompanhia de Desenvolvimento dos Vales do São Francisco e do Parnaíba\n3ª Superintendência Regional"]
[]
[]
[]
[]
[]
["AREA ÚTIL EM M²"]
[null,null,"AREAS",null,null,null,"EFETIVOS (Por indice de produtividade mínima)"]
[{"$nulls":6},800,2100,300]
["ITEM","UNIDADE*","INTERNA","EXTERNA","ESQUADRIAS","TOTAL","INTERNA","EXTERNA","ESQUADRIAS","TOTAL"]
[1,null,3020.51,19441.42,282,{"$f":"SUM(C12:E12)","v":22743.93},{"$f":"SUM(C12/G$10)","v":3.78},{"$f":"SUM(D12/H$10)","v":9.26},{"$f":"E12/I10","v":0.94},{"$f":"G12+H12+I12","v":13.98}]
[2,{"$nulls":4},0,{"$f":"SUM(C13/G$10)","v":0},0,{"$f":"SUM(D13/I$10)","v":0},{"$f":"G13+H13+I13","v":0}]
[3,{"$nulls":4},0,0,0,0,0]
[4,{"$nulls":4},0,0,0,0,0]
[5,{"$nulls":4},0,0,0,0,0]
["TOTAL DE ÁREA ÚTIL",null,{"$f":"SUM(C12:C16)","v":3020.51},19441.42,282,22743.93,3.78,9.26,0.94,13.98]
[]
["* Estão sendo consideradas as produtividades de 800 m² para áreas internas, 2100 m² para áreas externas e 300 m² para áreas de esquadrias internas e externas.\n"]
[]
[]
[]
["PETROLINA/PE, NOVEMBRO DE 2022."]

{"sheet":"Produtividade","index":11,"n_rows":12,"n_cols":12,"rows_kept":12,"cut":false,"hidden":false,"merged":[[4,0,4,13],[5,0,5,2],[5,3,5,4],[5,5,5,7],[5,8,5,10],[5,11,5,13],[6,0,6,2],[6,3,6,4],[6,5,6,7],[6,8,6,10],[6,11,6,13],[7,0,7,2],[7,3,7,4],[7,5,7,7],[7,8,7,10],[7,11,7,13],[8,0,8,2],[8,3,8,4],[8,5,8,7],[8,8,8,10],[8,11,8,13],[9,0,9,2],[9,3,9,4],[9,5,9,7],[9,8,9,10],[9,11,9,13],[11,0,11,13],[1,0,3,13]]}
[]
["Ministério do Desenvolvimento Regional-MDR\nCompanhia  de  Desenvolvimento  dos  Vales  do  São  Francisco e do Parnaíba\n3ª Superintendência Regional da CODEVASF- 3ªSR"]
[]
[]
["ÍNDICES DE PRODUTIVIDADE"]
["Tipos de Áreas",null,null,"Área (m²)",null,"Frequência",null,null,"Quantidade Estimada de Servente",null,null,"Produtividade Diária"]
["Área Interna",null,null,3020.51,null,"Diária",null,null,{"$f":"D7/L7","v":3.78},null,null,800]
["Área Externa",null,null,19441.42,null,"Diária",null,null,{"$f":"D8/L8","v":9.26},null,null,2100]
["Esquadrias",null,null,282,null,"Diária",null,null,{"$f":"D9/L9","v":0.94},null,null,300]
["TOTAL",null,null,{"$f":"SUM(D7:D9)","v":22743.93},{"$nulls":4},{"$f":"SUM(I7:I9)","v":13.98}]
[]
["\"2.1 Os orgãos e entidades deverão utilizar as experiências e os parâmetos aferidos e resultantes de seus contratos anteriores para aferir as produtividades da mão de obra, em face das caracteristicas das áreas a serem limpas, buscando sempre fatores economicos favoráveis à Administração Pública.\"  Fundamemtado no Item 2.1 do Anexo VI-B da IN 05/2017 da Secretaria de Gestão do Ministério do Planejamento, Desenvolvimento e Gestão - SEGES/MPOG, com  base na experiência e na observação dos contratos anteriores, bem como no conhecimento vivenciado da dinâmica de cada unidade, a contratação dos postos de trabalho devem seguir o quantitativo estimado na planilha do Termo de Referência."]

{"sheet":"Quadro Resumo","index":12,"n_rows":21,"n_cols":7,"rows_kept":21,"cut":false,"hidden":false,"merged":[[18,0,18,5],[20,0,20,4],[31,0,31,4],[32,0,32,4],[10,0,11,0],[3,0,9,6]]}
[]
[]
[]
["Ministério de Desenvolvimento Regional  -  MDR\nCompanhia de Desenvolvimento dos Vales do São Francisco e do Parnaíba\n3ª Superintendência Regional\nPORTARIA Nº 07 DE 09/03/2011 - SLTI/MPOG\nQUADRO RESUMO - VALOR MENSAL DOS SERVIÇOS DE CONSERVAÇÃO E LIMPEZA"]
[]
[]
[]
[]
[]
[]
["Item","Tipo de Serviço","Valor Proposto por profissional","Quant. Prof.","Valor Proposto por Àrea (m²)","Quant. de Área Total por Tipo de Serviço (m²)","Valor Mensal por Tipo  de Serviço"]
[null,"(A)","( B )","( C )","( D )","( E )","(F = D x E)"]
[1,"Serviços de Limpeza e Conservação - Área Interna - Encarregado",{"$f":"Encarregado!J120","v":4322.54},null,{"$f":"'Complemento Serviço Limpeza'!F18","v":0.39},{"$f":"3020.51","v":3020.51},{"$f":"E13*F13","v":1178}]
[2,"Serviços de Limpeza e Conservação - Área Externa - Encarregado",{"$f":"Encarregado!J120","v":4322.54},null,{"$f":"'Complemento Serviço Limpeza'!F26","v":0.15},{"$f":"19441.42","v":19441.42},2916.21]
[3,"Serviços de Limpeza e Conservação - Esquadrias Internas e Externas  - Encarregado",{"$f":"Encarregado!J120","v":4322.54},null,{"$f":"'Complemento Serviço Limpeza'!G35","v":0.09},{"$f":"282","v":282},25.38]
[4,"Serviços de Limpeza e Conservação - Área Interna - Auxiliar de Serviços Gerais",{"$f":"ASG!J120","v":4308.72},null,{"$f":"'Complemento Serviço Limpeza'!F17","v":5.39},{"$f":"3020.51","v":3020.51},16280.55]
[5,"Serviços de Limpeza e Conservação - Área Externa -  Auxiliar de Serviços Gerais",{"$f":"ASG!J120","v":4308.72},null,{"$f":"'Complemento Serviço Limpeza'!F25","v":2.05},{"$f":"19441.42","v":19441.42},39854.91]
[6,"Serviços de Limpeza e Conservação - Esquadrias Internas e Externas  - Auxiliar de Serviços Gerais",{"$f":"ASG!J120","v":4308.72},null,{"$f":"'Complemento Serviço Limpeza'!G34","v":1.22},{"$f":"282","v":282},344.04]
["Valor Mensal dos Serviços",{"$nulls":5},{"$f":"SUM(G13:G18)","v":60599.09}]
[]
["PETROLINA/PE, NOVEMBRO DE 2022."]

{"sheet":"EPI ","index":13,"n_rows":80,"n_cols":10,"rows_kept":80,"cut":false,"hidden":false,"merged":[[3,0,3,9],[4,0,4,9],[11,0,11,2],[12,0,12,8],[13,0,13,9],[14,0,14,9],[15,0,15,9],[22,0,22,2],[23,0,23,8],[24,0,24,9],[25,0,25,9],[37,0,37,2],[38,0,38,8],[46,0,46,9],[58,0,58,2],[59,0,59,8],[67,0,67,9],[78,0,78,2],[79,0,79,8],[0,0,2,9]]}
["Ministério de Desenvolvimento Regional  -  MDR\nCompanhia de Desenvolvimento dos Vales do São Francisco e do Parnaíba\n3ª Superintendência Regional"]
[]
[]
[]
["INSUMOS DIVERSOS EPI - AUXILIAR DE SERVIÇOS GERAIS"]
["DESCRIÇÃO","REFERÊNCIA","UND","QUANT. FORNECIDA POR ANO","COTAÇÃO I","COTAÇÃO II","COTAÇÃO III","PREÇO MEDIANO PRATICADO NO MERCADO (R$)","CUSTO ANUAL","CUSTO MENSAL"]
["Óculos de proteção, material de armação náilon, tipo lente antiembaçante, cor da lente cinza, lente de policarbonato, anti-risco, cordão de segurança, proteção UV, com certificado de aprovação do Ministério do Trabalho e Emprego, de boa qualidade.",null,"Unidade",14,29.03,44.49,37,{"$f":"MEDIAN(E7,F7,G7)","v":37},{"$f":"D7*H7","v":518},{"$f":"I7/12","v":43.17}]
["Par de calçado: bota de segurança, material PVC - cloreto de polivinila, sola de borracha antiderrapante, tipo cano longo, para uso de serviços gerais, com certificado de aprovação do Ministério do Trabalho e Emprego, de boa\nqualidade.",null,"Par",14,65.9,49.9,78.9,65.9,922.6,76.88]
["Par de calçado: botina de segurança, solado baixo, vaqueta relax, poliuretano (pu) bi- densidade, hidrofugado, elástico nas laterais/recoberto, acolchoado, palmilha de couro antibacteriana, biqueira plástica, com certificado de aprovação do Ministério do\nTrabalho e Emprego, de boa qualidade.",null,"Par",14,65,59.9,66.4,65,910,75.83]
["Par de luvas nitrilicas para manuseio de produtos químico, com certificado de aprovação do Ministério do Trabalho e Emprego, de boa qualidade",null,"Par",{"$f":"14*6","v":84},42.78,10.8,19.9,19.9,1671.6,139.3]
["Par de luvas de raspa de couro, cano longo, com certificado de aprovação do Ministério do Ministério do Trabalho e Emprego, de boa qualidade",null,"Par",{"$f":"14*3","v":42},25.4,23.9,21.55,23.9,1003.8,83.65]
["TOTAL",null,null,"-","-","-","-","-",{"$f":"SUM(I7:I11)","v":5026},{"$f":"SUM(J7:J11)","v":418.83}]
["VALOR MENSAL POR POSTO (14 ASG)",{"$nulls":8},{"$f":"J12/14","v":29.92}]
[]
[]
["INSUMOS DIVERSOS EPI - COPEIRA"]
["DESCRIÇÃO","REFERÊNCIA","UND","QUANT. FORNECIDA POR ANO","COTAÇÃO I","COTAÇÃO II","COTAÇÃO III","PREÇO MEDIANO PRATICADO NO MERCADO (R$)","CUSTO ANUAL","CUSTO MENSAL"]
["Avental de PVC, de boa qualidade, cor branco;",null,"Unidade",2,21.5,24.9,19.5,{"$f":"MEDIAN(E18,F18,G18)","v":21.5},{"$f":"H18*D18","v":43},{"$f":"I18/12","v":3.58}]
["Óculos de proteção, material de armação náilon, tipo lente antiembaçante, cor da lente cinza, lente de policarbonato, anti-risco, cordão de segurança, proteção UV, com certificado de aprovação do Ministério do Trabalho e Emprego, de boa qualidade.",null,"Unidade",2,{"$f":"E7","v":29.03},{"$f":"F7","v":44.49},{"$f":"G7","v":37},37,74,6.17]
["Par de calçado: bota de segurança, material PVC - cloreto de polivinila, sola de borracha antiderrapante, tipo cano longo, para uso de serviços gerais, com certificado de aprovação do Ministério do Trabalho e Emprego, de boa\nqualidade.",null,"Par",1,{"$f":"E8","v":65.9},{"$f":"F8","v":49.9},{"$f":"G8","v":78.9},65.9,65.9,5.49]
["Par de luvas de segurança, material neoprene, tamanho 9¹/², aplicação para proteção térmica (altas temperaturas), forro isolante com dupla camada de algodão, comprimento 35,5 cm, modelo de palma antiderrapante com certificado de aprovação do Ministério do Trabalho e Emprego, de boa qualidade.",null,"Unidade",2,25,19.9,28.95,25,50,4.17]
["Par de luvas nitrilicas para manuseio de produtos químico, com certificado de aprovação do Ministério do Trabalho e Emprego, de boa qualidade",null,"Par",6,42.78,10.8,19.9,19.9,119.4,9.95]
["TOTAL",null,null,"-","-","-","-","-",{"$f":"SUM(I18:I22)","v":352.3},{"$f":"SUM(J18:J22)","v":29.36}]
["VALOR MENSAL POR POSTO (1 COPEIRA)",{"$nulls":8},{"$f":"J23/1","v":29.36}]
[]
["INSUMOS DIVERSOS EPI - AJUDANTE DE MANUTENÇÃO PREDIAL"]
["DESCRIÇÃO","REFERÊNCIA","UND","QUANT. FORNECIDA POR ANO","COTAÇÃO I","COTAÇÃO II","COTAÇÃO III","PREÇO MEDIANO PRATICADO NO MERCADO (R$)","CUSTO ANUAL","CUSTO MENSAL"]
["Abafador de ruído auricular, material plástico rígido, formato concha, nível de redução de ruído NRRSF 17 DB, com certificado de aprovação do Ministério do Trabalho e Emprego, de boa qualidade.",null,"Unidade",2,51.75,107.99,78.9,{"$f":"MEDIAN(E28,F28,G28)","v":78.9},{"$f":"D28*H28","v":157.8},{"$f":"I28/12","v":13.15}]
["Capacete de segurança, material polietileno de alta densidade, tipo aba frontal, aplicação construção civil/cia eletricidade e indústrias, características adicionais classe A, com jugular, com certificado de aprovação do Ministério do Trabalho e Emprego, de boa qualidade.",null,"Unidade",2,57,56.9,72.9,57,114,9.5]
["Cinto de segurança, material nylon, paraquedista, revestimento interno de almofada, com suspensório de regularem para pernas e cabo espia, com certificado de aprovação do Ministério do Trabalho e Emprego, de boa qualidade.",null,"Unidade",2,299.9,167.1,399,299.9,599.8,49.98]
["Óculos de proteção, material de armação náilon, tipo lente antiembaçante, cor da lente cinza, lente de policarbonato, anti-risco, cordão de segurança, proteção UV, com certificado de aprovação do Ministério do Trabalho e Emprego, de boa qualidade",null,"Unidade",2,{"$f":"E7","v":29.03},{"$f":"F7","v":44.49},{"$f":"G7","v":37},37,74,6.17]
["Par de calçado: bota de segurança, material PVC - cloreto de polivinila, sola de borracha antiderrapante, tipo cano longo, para uso de serviços gerais, com certificado de aprovação do Ministério do Trabalho e Emprego, de boa qualidade.",null,"Par",2,65.9,49.9,78.9,65.9,131.8,10.98]
["Par de calçado: botina de segurança, solado baixo, vaqueta relax, poliuretano (pu) bi- densidade, hidrofugado, elástico nas laterais/recoberto, acolchoado, palmilha de couro antibacteriana, biqueira plástica, com certificado de aprovação do Ministério do do Ministério do\nTrabalho e Emprego, de boa qualidade.",null,"Par",2,{"$f":"E9","v":65},{"$f":"F9","v":59.9},{"$f":"G9","v":66.4},65,130,10.83]
["Par de luvas de raspa de couro, cano longo, com certificado de aprovação do Ministério do Trabalho e Emprego, de boa qualidade.",null,"Par",2,{"$f":"E11","v":25.4},{"$f":"F11","v":23.9},{"$f":"G11","v":21.55},23.9,47.8,3.98]
["Par de luva de segurança, algodão e poliester, segurança e proteção individual, tricotada, sem costura, 04 fios, com certificado de aprovação do Ministério do Trabalho e Emprego, de boa qualidade.",null,"Par",2,13.9,13.99,12.9,13.9,27.8,2.32]
["Par de luvas isolantes para baixa tensão até 5 Kva, com certificado de aprovação do Ministério do Trabalho e Emprego, de boa qualidade",null,"Par",2,199,268.9,319.3,268.9,537.8,44.82]
["Par de luvas nitrilicas para manuseio de produtos químico, com certificado de aprovação do Ministério do Trabalho e Emprego, de boa qualidade.",null,"Par",2,{"$f":"E22","v":42.78},{"$f":"F22","v":10.8},{"$f":"G22","v":19.9},19.9,39.8,3.32]
["TOTAL",null,null,"-","-","-","-","-",{"$f":"SUM(I28:I37)","v":1860.6},{"$f":"SUM(J28:J37)","v":155.05}]
["VALOR MENSAL POR POSTO (2 AMP)",{"$nulls":8},{"$f":"J38/2","v":77.53}]
{"$rows_empty":7}
["INSUMOS DIVERSOS EPI - ELETRICISTA"]
["DESCRIÇÃO","REFERÊNCIA","UND","QUANT. FORNECIDA POR ANO","COTAÇÃO I","COTAÇÃO II","COTAÇÃO III","PREÇO MEDIANO PRATICADO NO MERCADO (R$)","CUSTO ANUAL","CUSTO MENSAL"]
["Abafador de ruído auricular, material plástico rígido, formato concha, nível de redução de ruído NRRSF 17 DB, com certificado de aprovação do Ministério do Trabalho e Emprego, de boa qualidade.",null,"Unidade",1,{"$f":"E28","v":51.75},{"$f":"F28","v":107.99},{"$f":"G28","v":78.9},{"$f":"MEDIAN(E49,F49,G49)","v":78.9},{"$f":"D49*H49","v":78.9},{"$f":"I49/12","v":6.58}]
["Capacete de segurança, material polietileno de alta densidade, tipo aba frontal, aplicação construção civil/cia eletricidade e indústrias, características adicionais classe A, com jugular, com certificado de aprovação do Ministério do Trabalho e Emprego, de boa qualidade.",null,"Unidade",1,{"$f":"E29","v":57},{"$f":"F29","v":56.9},{"$f":"G29","v":72.9},57,57,4.75]
["Cinto de segurança, material nylon, paraquedista, revestimento interno de almofada, com suspensório de regularem para pernas e cabo espia, com certificado de aprovação do Ministério do Trabalho e Emprego, de boa qualidade.",null,"Unidade",1,{"$f":"E30","v":299.9},{"$f":"F30","v":167.1},{"$f":"G30","v":399},299.9,299.9,24.99]
["Óculos de proteção, material de armação náilon, tipo lente antiembaçante, cor da lente cinza, lente de policarbonato, anti-risco, cordão de segurança, proteção UV, com certificado de aprovação do Ministério do Trabalho e Emprego, de boa qualidade",null,"Unidade",1,{"$f":"E7","v":29.03},{"$f":"F7","v":44.49},{"$f":"G7","v":37},37,37,3.08]
["Par de calçado: bota de segurança, material PVC - cloreto de polivinila, sola de borracha antiderrapante, tipo cano longo, para uso de serviços gerais, com certificado de aprovação do Ministério do Trabalho e Emprego, de boa qualidade.",null,"Par",1,{"$f":"E8","v":65.9},{"$f":"F8","v":49.9},{"$f":"G8","v":78.9},65.9,65.9,5.49]
["Par de calçado: botina de segurança, solado baixo, vaqueta relax, poliuretano (pu) bi- densidade, hidrofugado, elástico nas laterais/recoberto, acolchoado, palmilha de couro antibacteriana, biqueira plástica, com certificado de aprovação do Ministério do do Ministério do\nTrabalho e Emprego, de boa qualidade.",null,"Par",1,{"$f":"E9","v":65},{"$f":"F9","v":59.9},{"$f":"G9","v":66.4},65,65,5.42]
["Par de luvas de raspa de couro, cano longo, com certificado de aprovação do Ministério do Trabalho e Emprego, de boa qualidade.",null,"Par",1,{"$f":"E11","v":25.4},{"$f":"F11","v":23.9},{"$f":"G11","v":21.55},23.9,23.9,1.99]
["Par de luva de segurança, algodão e poliester, segurança e proteção individual, tricotada, sem costura, 04 fios, com certificado de aprovação do Ministério do Trabalho e Emprego, de boa qualidade.",null,"Par",1,{"$f":"E35","v":13.9},{"$f":"F35","v":13.99},{"$f":"G35","v":12.9},13.9,13.9,1.16]
["Par de luvas isolantes para baixa tensão até 5 Kva, com certificado de aprovação do Ministério do Trabalho e Emprego, de boa qualidade",null,"Par",1,{"$f":"E36","v":199},{"$f":"F36","v":268.9},{"$f":"G36","v":319.3},268.9,268.9,22.41]
["Par de luvas nitrilicas para manuseio de produtos químico, com certificado de aprovação do Ministério do Trabalho e Emprego, de boa qualidade.",null,"Par",1,{"$f":"E10","v":42.78},{"$f":"F10","v":10.8},{"$f":"G10","v":19.9},19.9,19.9,1.66]
["TOTAL",null,null,"-","-","-","-","-",{"$f":"SUM(I49:I58)","v":930.3},{"$f":"SUM(J49:J58)","v":77.53}]
["VALOR MENSAL POR POSTO (1 ELETRICISTA)",{"$nulls":8},{"$f":"J59","v":77.53}]
{"$rows_empty":7}
["INSUMOS DIVERSOS EPI - ENCARREGADO"]
["DESCRIÇÃO","REFERÊNCIA","UND","QUANT. FORNECIDA POR ANO","COTAÇÃO I","COTAÇÃO II","COTAÇÃO III","PREÇO MEDIANO PRATICADO NO MERCADO (R$)","CUSTO ANUAL","CUSTO MENSAL"]
["Abafador de ruído auricular, material plástico rígido, formato concha, nível de redução de ruído NRRSF 17 DB, com certificado de aprovação do Ministério do Trabalho e Emprego, de boa qualidade.",null,"Unidade",1,{"$f":"E28","v":51.75},{"$f":"F28","v":107.99},{"$f":"G28","v":78.9},{"$f":"MEDIAN(E70,F70,G70)","v":78.9},{"$f":"D70*H70","v":78.9},{"$f":"I70/12","v":6.58}]
["Capacete de segurança, material polietileno de alta densidade, tipo aba frontal, aplicação construção civil/cia eletricidade e indústrias, características adicionais classe A, com jugular, com certificado de aprovação do Ministério do Trabalho e Emprego, de boa qualidade.",null,"Unidade",1,{"$f":"E29","v":57},{"$f":"F29","v":56.9},{"$f":"G29","v":72.9},57,57,4.75]
["Cinto de segurança, material nylon, paraquedista, revestimento interno de almofada, com suspensório de regularem para pernas e cabo espia, com certificado de aprovação do Ministério do Trabalho e Emprego, de boa qualidade.",null,"Unidade",1,{"$f":"E30","v":299.9},{"$f":"F30","v":167.1},{"$f":"G30","v":399},299.9,299.9,24.99]
["Óculos de proteção, material de armação náilon, tipo lente antiembaçante, cor da lente cinza, lente de policarbonato, anti-risco, cordão de segurança, proteção UV, com certificado de aprovação do Ministério do Trabalho e Emprego, de boa qualidade",null,"Unidade",1,{"$f":"E7","v":29.03},{"$f":"F7","v":44.49},{"$f":"G7","v":37},37,37,3.08]
["Par de calçado: bota de segurança, material PVC - cloreto de polivinila, sola de borracha antiderrapante, tipo cano longo, para uso de serviços gerais, com certificado de aprovação do Ministério do Trabalho e Emprego, de boa qualidade.",null,"Par",1,{"$f":"E8","v":65.9},{"$f":"F8","v":49.9},{"$f":"G8","v":78.9},65.9,65.9,5.49]
["Par de calçado: botina de segurança, solado baixo, vaqueta relax, poliuretano (pu) bi- densidade, hidrofugado, elástico nas laterais/recoberto, acolchoado, palmilha de couro antibacteriana, biqueira plástica, com certificado de aprovação do Ministério do do Ministério do\nTrabalho e Emprego, de boa qualidade.",null,"Par",1,{"$f":"E9","v":65},{"$f":"F9","v":59.9},{"$f":"G9","v":66.4},65,65,5.42]
["Par de luvas de raspa de couro, cano longo, com certificado de aprovação do Ministério do Trabalho e Emprego, de boa qualidade.",null,"Par",1,{"$f":"E11","v":25.4},{"$f":"F11","v":23.9},{"$f":"G11","v":21.55},23.9,23.9,1.99]
["Par de luva de segurança, algodão e poliester, segurança e proteção individual, tricotada, sem costura, 04 fios, com certificado de aprovação do Ministério do Trabalho e Emprego, de boa qualidade.",null,"Par",1,{"$f":"E35","v":13.9},{"$f":"F35","v":13.99},{"$f":"G35","v":12.9},13.9,13.9,1.16]
["Par de luvas nitrilicas para manuseio de produtos químico, com certificado de aprovação do Ministério do Trabalho e Emprego, de boa qualidade.",null,"Par",1,{"$f":"E10","v":42.78},{"$f":"F10","v":10.8},{"$f":"G10","v":19.9},19.9,19.9,1.66]
["TOTAL",null,null,"-","-","-","-","-",{"$f":"SUM(I70:I78)","v":661.4},{"$f":"SUM(J70:J78)","v":55.12}]
["VALOR MENSAL POR POSTO (1 ENCARREGADO)",{"$nulls":8},{"$f":"J79","v":55.12}]

{"sheet":"Equipamentos","index":14,"n_rows":66,"n_cols":9,"rows_kept":66,"cut":false,"hidden":false,"merged":[[3,0,3,8],[4,0,4,8],[38,0,38,2],[39,0,39,7],[40,0,40,7],[41,0,41,7],[46,0,46,8],[62,0,62,2],[63,0,63,7],[64,0,64,7],[65,0,65,7],[0,0,2,8]]}
["Ministério de Desenvolvimento Regional  -  MDR\nCompanhia de Desenvolvimento dos Vales do São Francisco e do Parnaíba\n3ª Superintendência Regional"]
[]
[]
[]
["INSUMOS DIVERSOS - AJUDANTE DE MANUTENÇÃO PREDIAL"]
["DESCRIÇÃO","REFERÊNCIA","UND","QUANT. FORNECIDA POR ANO","COTAÇÃO I","COTAÇÃO II","COTAÇÃO III","PREÇO MEDIANO PRATICADO NO MERCADO (R$)","CUSTO ANUAL"]
["Caixa de ferramentas com cadeado contendo conjunto de martelos, conjunto de chaves de fenda, estrela, halem e de boca, conjunto de alicates (tipo universal com isolamento até 1.000 V, de pressão, amperímetro, de bico, de corte, para grimpar cabo de rede, etc.)","Vonder, Bosch ou similar","Unidade",2,219.19,287.06,276.29,{"$f":"MEDIAN(E7,F7,G7)","v":276.29},{"$f":"D7*H7","v":552.58}]
["Cavadeira 02 (dois) cabos, com batente especial para impossibilitar o choque entre as mãos do usuário, duplo parafuso para fixação do cabo à pá, cabos de madeira de origem  renovável selecionados e encerados, lâmina resistente produzida em aço.","Tramontina ou similar","Unidade",1,89.9,74.9,45.66,74.9,74.9]
["Enxada com cabo de madeira de origem renovável, forjada em aço carbono especial de alta qualidade, cabo com sistema de encabamento de bucha plástica.","Tramontina ou similar","Unidade",2,59,71.68,78.99,71.68,143.36]
["Mangueira de borracha, reforçada, 50 metros.","-","Unidade",2,244.19,219.9,180,219.9,439.8]
["Pá  de  bico,  com  cabo  de  madeira  de  origem renovável, fabricada em aço carbono especial de alta qualidade.","Tramontina ou similar","Unidade",2,50.05,49.99,56.22,50.05,100.1]
["Picareta, forjada em  aço, cabo de madeira.","Tramontina ou simila","Unidade",2,115,129,104.04,115,230]
["Alicate amperímetro digital.","Minipa ou similar","Unidade",2,141.55,160.36,132.9,141.55,283.1]
["Alicate de bico, isolado 1000 W","Tramontina ou similar","Unidade",2,44.9,35.49,39.1,39.1,78.2]
["Alicate de corte.","Tramontina ou similar","Unidade",2,22.9,32.4,35.49,32.4,64.8]
["Alicate de pressão","Tramontina ou similar","Unidade",2,53.9,44.9,44.59,44.9,89.8]
["Alicate tipo universal com isolamento para 1.000 V.","Tramontina ou similar","Unidade",2,28.9,35.9,33.38,33.38,66.76]
["Arco de serra.","Tramontina ou similar","Unidade",2,40.9,38,31.9,38,76]
["Arrebitador.","Bralimpia/CERTEC ou similar","Unidade",2,32.9,38.99,49.9,38.99,77.98]
["Carro de mão com chassi metálico, roda de pneu maciço com bucha plástica, capacidade total mínima de 50 litros.","Tramontina ou similar","Unidade",1,229.9,237.4,239.9,237.4,237.4]
["Chave de teste (eletricidade).","Tramontina ou similar","Unidade",2,11.99,18.85,14.25,14.25,28.5]
["Chave grifo nº 36","Vonder, Bosch ou similar","Unidade",2,100.07,47.3,91.99,91.99,183.98]
["Chave inglesa, 12 polegadas","Tramontina ou similar","Unidade",2,49.97,81,50.82,50.82,101.64]
["Escova de aço, fio trançado de 0,5mm.","Makita ou similar","Unidade",2,19.9,21.64,38.55,21.64,43.28]
["Ferro de solda (com solda), mínimo de 80W de pico","-","Unidade",2,62.99,78.4,79.9,78.4,156.8]
["Jogo de brocas de videa, aço rápido e aço carbono.","Makita ou similar","Unidade",2,74.9,43.68,50,50,100]
["Jogo de lima para metal, mínimo 6 peças.","-","Unidade",2,49,74.95,39.75,49,98]
["Jogo de serra copo para parede mínimo 8 peças.","Makita ou similar","Unidade",1,50.33,39.04,57.9,50.33,50.33]
["Serras para aço (para arco de serra).","Tramontina ou similar","Unidade",12,39.9,14.94,13,14.94,179.28]
["Sonda guia (10m).","Vonder, Bosch ou similar","Unidade",1,44.99,69.9,84.99,69.9,69.9]
["Trena de 5 mm.","-","Unidade",2,44.95,32.99,30,32.99,65.98]
["Alavanca para escavar","-","Unidade",1,126.55,105.8,103.65,105.8,105.8]
["Alavanca tipo pé de cabra.","-","Unidade",1,79.99,75.93,68.77,75.93,75.93]
["Catraca esticadora de arame.","-","Unidade",1,24.9,15,19,19,19]
["Colher de pedreiro","Tramontina ou similar","Unidade",2,34.9,30.64,21.06,30.64,61.28]
["Facão.","Tramontina ou similar","Unidade",2,39.4,35.6,19.79,35.6,71.2]
["Foice com cabo de madeira de origem renovável, forjada em aço carbono especial de alta qualidade, cabo com sistema de encabamento de bucha plástica.","Tramontina ou similar","Unidade",2,68.99,72.9,57.59,68.99,137.98]
["Roçadeira lateral, movida a gasolina, potência mínima de 1.700 W, lâmina de 3 (três) ou 4 (quatro) pontas em aço, peso líquido máximo até 7,7 kg.","Still ou similar","Unidade",2,685,729,801,729,1458]
["TOTAL",null,null,"-","-","-","-","-",{"$f":"SUM(I7:I38)","v":5521.66}]
["DEPRECIAÇÃO (adotado o prazo de 5 anos e valor residual de 20%)",{"$nulls":7},73.62]
["MANUTENÇÃO (adotado de 0,5% a.m)",{"$nulls":7},{"$f":"I39*0.005","v":27.61}]
["DEPRECIAÇÃO + MANUTENÇÃO (Valor Mensal)",{"$nulls":7},{"$f":"I40+I41","v":101.23}]
[]
[]
[]
[]
["INSUMOS DIVERSOS - ELETRICISTA"]
["DESCRIÇÃO","REFERÊNCIA","UND","QUANT. FORNECIDA POR ANO","COTAÇÃO I","COTAÇÃO II","COTAÇÃO III","PREÇO MEDIANO PRATICADO NO MERCADO (R$)","CUSTO ANUAL"]
["Caixa de ferramentas com cadeado contendo conjunto de martelos, conjunto de chaves de fenda, estrela, halem e de boca, conjunto de alicates (tipo universal com isolamento até 1.000 V, de pressão, amperímetro, de bico, de corte, para grimpar cabo de rede, etc.)","Vonder, Bosch ou similar","Unidade",1,{"$f":"E7","v":219.19},{"$f":"F7","v":287.06},{"$f":"G7","v":276.29},{"$f":"MEDIAN(E49,F49,G49)","v":276.29},{"$f":"D49*H49","v":276.29}]
["Alicate amperímetro digital.","Minipa ou similar","Unidade",1,{"$f":"E13","v":141.55},{"$f":"F13","v":160.36},{"$f":"G13","v":132.9},141.55,141.55]
["Alicate de bico, isolado 1000 W","Tramontina ou similar","Unidade",1,44.9,35.49,39.1,39.1,39.1]
["Alicate de corte.","Tramontina ou similar","Unidade",1,22.9,32.4,35.49,32.4,32.4]
["Alicate de pressão","Tramontina ou similar","Unidade",1,53.9,44.9,44.59,44.9,44.9]
["Alicate tipo universal com isolamento para 1.000 V.","Tramontina ou similar","Unidade",1,28.9,35.9,33.38,33.38,33.38]
["Arco de serra.","Tramontina ou similar","Unidade",1,40.9,38,31.9,38,38]
["Chave de teste (eletricidade).","Tramontina ou similar","Unidade",1,{"$f":"E21","v":11.99},{"$f":"F21","v":18.85},{"$f":"G21","v":14.25},14.25,14.25]
["Chave grifo nº 36","Vonder, Bosch ou similar","Unidade",1,{"$f":"E22","v":100.07},{"$f":"F22","v":47.3},{"$f":"G22","v":91.99},91.99,91.99]
["Chave inglesa, 12 polegadas","Tramontina ou similar","Unidade",1,{"$f":"E23","v":49.97},{"$f":"F23","v":81},{"$f":"G23","v":50.82},50.82,50.82]
["Ferro de solda (com solda), mínimo de 80W de pico","-","Unidade",1,{"$f":"E25","v":62.99},{"$f":"F25","v":78.4},{"$f":"G25","v":79.9},78.4,78.4]
["Serras para aço (para arco de serra).","Tramontina ou similar","Unidade",6,{"$f":"E29","v":39.9},{"$f":"F29","v":14.94},{"$f":"G29","v":13},14.94,89.64]
["Sonda guia (10m).","Vonder, Bosch ou similar","Unidade",1,{"$f":"E30","v":44.99},{"$f":"F30","v":69.9},{"$f":"G30","v":84.99},69.9,69.9]
["Trena de 5 mm.","-","Unidade",null,{"$f":"E31","v":44.95},{"$f":"F31","v":32.99},{"$f":"G31","v":30},32.99,0]
["TOTAL",null,null,"-","-","-","-","-",{"$f":"SUM(I49:I62)","v":1000.62}]
["DEPRECIAÇÃO (adotado o prazo de 5 anos e valor residual de 20%)",{"$nulls":7},13.34]
["MANUTENÇÃO (adotado de 0,5% a.m)",{"$nulls":7},{"$f":"I63*0.005","v":5}]
["DEPRECIAÇÃO + MANUTENÇÃO (Valor Mensal)",{"$nulls":7},{"$f":"I64+I65","v":18.34}]

{"sheet":"Material","index":15,"n_rows":110,"n_cols":10,"rows_kept":110,"cut":false,"hidden":false,"merged":[[3,0,3,9],[4,0,4,9],[56,0,56,2],[57,0,57,8],[103,0,103,9],[108,0,108,2],[109,0,109,8],[0,0,2,9]]}
["Ministério de Desenvolvimento Regional  -  MDR\nCompanhia de Desenvolvimento dos Vales do São Francisco e do Parnaíba\n3ª Superintendência Regional"]
[]
[]
[]
["INSUMOS DIVERSOS - AUXILIAR DE SERVIÇOS GERAIS"]
["DESCRIÇÃO","REFERÊNCIA","UND","QUANT. FORNECIDA POR ANO","COTAÇÃO I","COTAÇÃO II","COTAÇÃO III","PREÇO MEDIANO PRATICADO NO MERCADO (R$)","CUSTO ANUAL","CUSTO MENSAL"]
["Água sanitária de 1ª qualidade, 5 litros.","-","Unidade",60,8.75,13.6,17.1,{"$f":"MEDIAN(E7:G7)","v":13.6},{"$f":"D7*H7","v":816},{"$f":"I7/12","v":68}]
["Álcool 70% em gel higienizante antiséptico e hidratante, de 1ª qualidade, 5 litros, para ser utilizado em dispensers tipo saboneteira 800 ml.","-","Unidade",12,71.99,75,59.99,71.99,863.88,71.99]
["Álcool liquido, de 1ª qualidade, 70°, 5 litros.","-","Unidade",36,89.7,35.9,44.55,44.55,1603.8,133.65]
["Balde duas águas, capacidade mínima de 30 litros, com  rodas e espremedor. (MOP)","-","Unidade",12,104.13,144.9,109.9,109.9,1318.8,109.9]
["Balde plástico com capacidade para 12 litros","-","Unidade",3,37,29.9,31.9,31.9,95.7,7.98]
["Desentupidor de ralos e vasos sanitários, em aço, mínimo de 15m.","-","Unidade",1,26.9,44.91,31.5,31.5,31.5,2.63]
["Desinfetante de uso geral 5 litros.","-","Unidade",36,14.07,14.5,10.19,14.07,506.52,42.21]
["Desodorizador\tde\tambiente,\tfragância lavanda, 360ml","-","Unidade",72,27.9,19.11,15.9,19.11,1375.92,114.66]
["Detergente com  ação desodorizadora, galão de 5 litros. (limpa piso)","-","Unidade",48,89,59,78.9,78.9,3787.2,315.6]
["Detergente líquido, de 1ª qualidade, neutro biodegradável, para lavar louça, 500ml, caixa com 24 unidades.","-","Unidade",240,2.29,1.81,1.35,1.81,434.4,36.2]
["Limpador multiuso 500ml .","-","Unidade",60,3,4.89,4.99,4.89,293.4,24.45]
["Dispenser para álcool gel.","-","Unidade",14,28.49,34.19,29.99,29.99,419.86,34.99]
["Dispenser para papel higiênico interfolhado, 500 m.","-","Unidade",25,34.9,42.74,36.9,36.9,922.5,76.88]
["Dispenser para papel toalha interfolhado.","-","Unidade",13,28.49,37.5,28.99,28.99,376.87,31.41]
["Dispenser para sabonete líquido.","-","Unidade",11,{"$f":"E18","v":28.49},{"$f":"F18","v":34.19},{"$f":"G18","v":29.99},29.99,329.89,27.49]
["Escova ,  cepa  plástica,  cerdas  em polipropileno, multiuso, oval.","-","Unidade",2,6.55,10.9,6.99,6.99,13.98,1.17]
["Espanador de pena de avestruz.","-","Unidade",192,21.8,28.9,19.94,21.8,4185.6,348.8]
["Esponja de fibra dupla face","-","Unidade",120,1,2.55,0.99,1,120,10]
["Esponja para lavagem de automóvel","-","Unidade",6,8.9,19.87,12.4,12.4,74.4,6.2]
["Flanela   branca  100%  algodão.","-","Pacote com 12 und.",16,34.5,24.5,29.99,29.99,479.84,39.99]
["Lã de aço, pacote com  8 unidades.","-","Pacote com 8 und.",24,3.1,3.45,3.19,3.19,76.56,6.38]
["Limpa vidros concentrado, unidade de 500ml.",null,"Unidade",2,10.49,16.58,10.79,10.79,21.58,1.8]
["Óleo Lustra   Móveis  (lavanda) ,unidades de 200 ml.",null,"Unidade",60,12.73,12.1,5.5,12.1,726,60.5]
["Pá para lixo, em plástico, com cabo longo.",null,"Unidade",60,25.46,11.45,18.58,18.58,1114.8,92.9]
["Pano de chão de saco alvejado  para limpeza de piso",null,"Kit com 10 unidades",12,29.5,31.4,25.37,29.5,354,29.5]
["Pano de prato de 1ª qualidade em  algodão alvejado,  borda costurada.",null,"Kit com 10 unidades",6,27,29.7,24.93,27,162,13.5]
["Papel higiênico em rolo scott, extra macio e absorvente, hidrossolúvel, 100% de fibras virgens, comprimento de 300 m, embalagem com 08 rolos cada.",null,"Embalagem com 08 rolos",96,69.9,34.11,51.7,51.7,4963.2,413.6]
["Papel Toalha, branco, 3 dobras, pct. c/ 2.400 fls. (100 % celulose)",null,"Pacote com 2.400 fls.",240,11.29,19,19.99,19,4560,380]
["Pastilhas sanitárias adesivas.","-","caixa",120,2.49,4.4,3.95,3.95,474,39.5]
["Placas sinalizadoras \"Piso Molhado\".",null,"Unidade",6,33.55,29.99,28.99,29.99,179.94,15]
["Pulverizador spray (recarregável), 500 ml.",null,"Unidade",60,9.98,14.9,9.9,9.98,598.8,49.9]
["Rodo com duas borrachas - 40cm de largura, com cabo.",null,"Unidade",48,39.99,32.66,31.05,32.66,1567.68,130.64]
["Sabão em barra, de 1ª qualidade, pacote com 5 unidades.",null,"Pacote com 5 unidades",96,11.68,14.9,13.99,13.99,1343.04,111.92]
["Sabão em pó 1kg, caixa com 20 unidades.",null,"Caixa com 20 Unidades",3,5.64,6.15,8.99,6.15,18.45,1.54]
["Sabonete líquido, de odor agradável, com ph neutro concentrado, 5 litros.",null,"Unidade",48,32,17.99,35.99,32,1536,128]
["Saco para lixo, de 200 litros, fardo com 100 unidades.",null,"Fardo com 100 Unidades",24,174.99,96.9,125.99,125.99,3023.76,251.98]
["Saco para lixo, de 100 litros, fardo com 100 unidades.",null,"Fardo com 100 Unidades",60,44.9,51.2,54.9,51.2,3072,256]
["Saco para lixo, de 40 litros, fardo com 100 unidades.",null,"Fardo com 100 Unidades",60,35.91,37.9,43,37.9,2274,189.5]
["Saponáceo   cremoso,   1ª   qualidade,   com 300ml.",null,"Unidade",48,10.84,8.49,10.29,10.29,493.92,41.16]
["Shampoo   concentrado   lava   auto   de   1ª qualidade, galão 5 litros",null,"Unidade",6,52.9,38,41.9,41.9,251.4,20.95]
["Vassoura de nylon com cabo.",null,"Unidade",96,17.29,15.65,22.99,17.29,1659.84,138.32]
["Vassoura de pelo com 40cm de largura, com cabo.",null,"Unidade",96,45.6,24.43,23.15,24.43,2345.28,195.44]
["Vassoura para limpeza de teto com cabo.",null,"Unidade",8,137.9,179.9,168.46,168.46,1347.68,112.31]
["Vassourinha para limpar vaso.",null,"Unidade",48,19.43,29.29,27.23,27.23,1307.04,108.92]
["Lixeia para banheiro com tampa de pedal, 12 Litros (branca)",null,"Unidade",27,39.35,40.7,44.67,40.7,1098.9,91.58]
["Lixeira para escritório metal aramado 12L.",null,"Unidade",93,24.66,27.4,30.12,27.4,2548.2,212.35]
["Lixeira conteiner 240 Litros com adesivo \"lixo orgânico\"",null,"Unidade",2,349.9,341.81,330,341.81,683.62,56.97]
["Lixeira 30 L com pedal",null,"Unidade",10,67.99,37.36,39.52,39.52,395.2,32.93]
["Lixeira para escritório, 12 L, com tampa, pedal e adesivo \"lixo organico\"",null,"Unidade",20,39.35,40.7,44.67,40.7,814,67.83]
["Lixeira conteiner 1000 Litros com pedal e adesivo \"lixo reciclável\".",null,"Unidade",2,1490,1190,1529.1,1490,2980,248.33]
["TOTAL",null,null,"-","-","-","-","-",{"$f":"SUM(I7:I56)","v":60040.95},{"$f":"SUM(J7:J56)","v":5003.45}]
["VALOR MENSAL POR POSTO (14 ASG)",{"$nulls":8},{"$f":"J57/14","v":357.39}]
{"$rows_empty":45}
["INSUMOS DIVERSOS - COPEIRA"]
["DESCRIÇÃO","REFERÊNCIA","UND","QUANT. FORNECIDA POR ANO","COTAÇÃO I","COTAÇÃO II","COTAÇÃO III","PREÇO MÉDIO PRATICADO NO MERCADO (R$)","CUSTO ANUAL","CUSTO MENSAL"]
["Adoçante líquido de sucralose, de 75 a 100ml, produto registrado no Ministério da Saúde.",null,"Unidade",30,6,4.29,3.01,{"$f":"MEDIAN(E106:G106)","v":4.29},{"$f":"D106*H106","v":128.7},{"$f":"I106/12","v":10.73}]
["Açucar cristal, 1 kg",null,"Unidade",600,4.19,3.99,4.28,4.19,2514,209.5]
["Café moído e torrado a vácuo extraforte 500g",null,"Unidade",720,15.99,17.15,13.99,15.99,11512.8,959.4]
["TOTAL",null,null,"-","-","-","-","-",{"$f":"SUM(I106:I108)","v":14155.5},{"$f":"SUM(J106:J108)","v":1179.63}]
["VALOR MENSAL POR POSTO ( 1 COPEIRA)",{"$nulls":8},{"$f":"J109/1","v":1179.63}]

{"sheet":"Uniformes","index":16,"n_rows":258,"n_cols":10,"rows_kept":258,"cut":false,"hidden":false,"merged":[[3,0,3,9],[4,0,4,9],[12,0,12,7],[13,0,13,7],[31,0,31,9],[39,0,39,7],[40,0,40,7],[61,0,61,9],[68,0,68,7],[69,0,69,7],[96,0,96,9],[103,0,103,7],[104,0,104,7],[131,0,131,9],[135,0,135,7],[136,0,136,7],[174,0,174,9],[178,0,178,7],[179,0,179,7],[217,0,217,9],[224,0,224,7],[225,0,225,7],[252,0,252,9],[256,0,256,7],[257,0,257,7],[0,0,2,9]]}
["Ministério de Desenvolvimento Regional  -  MDR\nCompanhia de Desenvolvimento dos Vales do São Francisco e do Parnaíba\n3ª Superintendência Regional"]
[]
[]
[]
["INSUMOS DIVERSOS - AUXILIAR DE SERVIÇOS GERAIS"]
["DESCRIÇÃO","REFERÊNCIA","UND","QUANT. FORNECIDA POR ANO","COTAÇÃO I","COTAÇÃO II","COTAÇÃO III","PREÇO MEDIANO PRATICADO NO MERCADO (R$)","CUSTO ANUAL","CUSTO MENSAL"]
["Calça comprida com elástico  e cordão, em tecido garbardine com  elastano.",null,"Unidade",{"$f":"14*4","v":56},42.99,49.99,45.9,{"$f":"MEDIAN(E7:G7)","v":45.9},{"$f":"D7*H7","v":2570.4},{"$f":"I7/12","v":214.2}]
["Camiseta   malha   fria,   com   gola   esporte, mangas curtas, com emblema da empresa pintado no lado superior esquerdo, de boa qualidade.",null,"Unidade",56,23.9,29.9,26.9,26.9,1506.4,125.53]
["Camiseta com gola simples, de mangas longas, proteção UV 50, sem abotoamento, com logo marca da empresa;",null,"Unidade",56,29.63,36.01,32,32,1792,149.33]
["Par de meia em algodão, tipo c\nano médio, de boa qualidade.",null,"Kit com 3 unidades",56,29.36,32.99,29.69,29.69,1662.64,138.55]
["Par de tênis soft Works",null,"Par",56,77.99,113.98,59.97,77.99,4367.44,363.95]
["Bata manga curta com botão, em  tecido garbardine com elastano com emblema da empresa pintado no lado superior esquerdo, de boa qualidade.",null,"Unidade",56,34.5,34.99,54.9,34.99,1959.44,163.29]
["TOTAL",{"$nulls":7},{"$f":"SUM(I7:I12)","v":13858.32},{"$f":"SUM(J7:J12)","v":1154.85}]
["VALOR MENSAL POR POSTO (14 ASG)",{"$nulls":8},{"$f":"J13/14","v":82.49}]
{"$rows_empty":17}
["INSUMOS DIVERSOS - COPEIRA"]
["DESCRIÇÃO","REFERÊNCIA","UND","QUANT. FORNECIDA POR ANO","COTAÇÃO I","COTAÇÃO II","COTAÇÃO III","PREÇO MEDIANO PRATICADO NO MERCADO (R$)","CUSTO ANUAL","CUSTO MENSAL"]
["Calça comprida com elástico  e cordão, em tecido garbardine com  elastano.",null,"Unidade",4,{"$f":"E7","v":42.99},{"$f":"F7","v":49.99},{"$f":"G7","v":45.9},{"$f":"MEDIAN(E34:G34)","v":45.9},{"$f":"D34*H34","v":183.6},{"$f":"I34/12","v":15.3}]
["Camiseta   malha   fria,   com   gola   esporte, mangas curtas, com emblema da empresa pintado no lado superior esquerdo, de boa qualidade.",null,"Unidade",4,23.9,29.9,26.9,26.9,107.6,8.97]
["Camiseta com gola simples, de mangas longas, proteção UV 50, sem abotoamento, com logo marca da empresa;",null,"Unidade",4,29.63,36.01,32,32,128,10.67]
["Par de meia em algodão, tipo c\nano médio, de boa qualidade.",null,"Kit com 3 unidades",4,29.36,32.99,29.69,29.69,118.76,9.9]
["Par de tênis soft Works",null,"Par",4,77.99,113.98,59.97,77.99,311.96,26]
["Bata manga curta com botão, em  tecido garbardine com elastano com emblema da empresa pintado no lado superior esquerdo, de boa qualidade.",null,"Unidade",4,34.5,34.99,54.9,34.99,139.96,11.66]
["TOTAL",{"$nulls":7},{"$f":"SUM(I34:I39)","v":989.88},{"$f":"SUM(J34:J39)","v":82.5}]
["VALOR MENSAL POR POSTO (01 COPEIRA)",{"$nulls":8},{"$f":"J40/1","v":82.5}]
{"$rows_empty":20}
["INSUMOS DIVERSOS - AJUDANTE DE MANUTENÇÃO PREDIAL"]
["DESCRIÇÃO","REFERÊNCIA","UND","QUANT. FORNECIDA POR ANO","COTAÇÃO I","COTAÇÃO II","COTAÇÃO III","PREÇO MEDIANO PRATICADO NO MERCADO (R$)","CUSTO ANUAL","CUSTO MENSAL"]
["Calça comprida jeans com  bolsos externos.",null,"Unidade",8,59.99,59.79,62.4,{"$f":"MEDIAN(E64,F64,G64)","v":59.99},{"$f":"D64*H64","v":479.92},{"$f":"I64/12","v":39.99}]
["Camiseta   malha   fria,   com   gola   esporte, mangas curtas, com emblema da empresa pintado no lado superior esquerdo, de boa qualidade.",null,"Unidade",8,{"$f":"E8","v":23.9},{"$f":"F8","v":29.9},{"$f":"G8","v":26.9},26.9,215.2,17.93]
["Camiseta com gola simples, de mangas longas, proteção UV 50, sem abotoamento, com logo marca da empresa;",null,"Unidade",8,{"$f":"E9","v":29.63},{"$f":"F9","v":36.01},{"$f":"G9","v":32},32,256,21.33]
["Par de meia em algodão, tipo c\nano médio, de boa qualidade.",null,"Kit com 3 unidades",8,{"$f":"E10","v":29.36},{"$f":"F10","v":32.99},{"$f":"G10","v":29.69},29.69,237.52,19.79]
["Scrub manga curta com botão e bolsos externos, em  tecido brim , com emblema da empresa bordado no lado superior esquerdo, de boa qualidade.",null,"Unidades",8,{"$f":"E39","v":34.5},{"$f":"F39","v":34.99},{"$f":"G39","v":54.9},34.99,279.92,23.33]
["TOTAL",{"$nulls":7},{"$f":"SUM(I64:I68)","v":1468.56},{"$f":"SUM(J64:J68)","v":122.37}]
["VALOR MENSAL POR POSTO (2 AMP)",{"$nulls":8},{"$f":"J69/2","v":61.19}]
{"$rows_empty":26}
["INSUMOS DIVERSOS - ELETRICISTA"]
["DESCRIÇÃO","REFERÊNCIA","UND","QUANT. FORNECIDA POR ANO","COTAÇÃO I","COTAÇÃO II","COTAÇÃO III","PREÇO MEDIANO PRATICADO NO MERCADO (R$)","CUSTO ANUAL","CUSTO MENSAL"]
["Calça comprida jeans com  bolsos externos.",null,"Unidade",4,{"$f":"E64","v":59.99},{"$f":"F64","v":59.79},{"$f":"G64","v":62.4},{"$f":"MEDIAN(E99,F99,G99)","v":59.99},{"$f":"D99*H99","v":239.96},{"$f":"I99/12","v":20}]
["Camiseta   malha   fria,   com   gola   esporte, mangas curtas, com emblema da empresa pintado no lado superior esquerdo, de boa qualidade.",null,"Unidade",4,{"$f":"E8","v":23.9},{"$f":"F8","v":29.9},{"$f":"G8","v":26.9},26.9,107.6,8.97]
["Camiseta com gola simples, de mangas longas, proteção UV 50, sem abotoamento, com logo marca da empresa;",null,"Unidade",4,{"$f":"E9","v":29.63},{"$f":"F9","v":36.01},{"$f":"G9","v":32},32,128,10.67]
["Par de meia em algodão, tipo c\nano médio, de boa qualidade.",null,"Kit com 3 unidades",4,{"$f":"E10","v":29.36},{"$f":"F10","v":32.99},{"$f":"G10","v":29.69},29.69,118.76,9.9]
["Scrub manga curta com botão e bolsos externos, em  tecido brim , com emblema da empresa bordado no lado superior esquerdo, de boa qualidade.",null,"Unidades",4,{"$f":"E39","v":34.5},{"$f":"F39","v":34.99},{"$f":"G39","v":54.9},34.99,139.96,11.66]
["TOTAL",{"$nulls":7},{"$f":"SUM(I99:I103)","v":734.28},{"$f":"SUM(J99:J103)","v":61.2}]
["VALOR MENSAL POR POSTO (01 ELETRICISTA)",{"$nulls":8},{"$f":"J104/1","v":61.2}]
{"$rows_empty":26}
["INSUMOS DIVERSOS - RECEPCIONISTA"]
["DESCRIÇÃO","REFERÊNCIA","UND","QUANT. FORNECIDA POR ANO","COTAÇÃO I","COTAÇÃO II","COTAÇÃO III","PREÇO MEDIANO PRATICADO NO MERCADO (R$)","CUSTO ANUAL","CUSTO MENSAL"]
["Camisa social em  tricoline, mangas curtas, com emblema da empresa bordado no lado superior esquerdo, de boa qualidade.",null,"Unidade",12,52.87,57.17,58.6,{"$f":"MEDIAN(E134,F134,G134)","v":57.17},{"$f":"D134*H134","v":686.04},{"$f":"I134/12","v":57.17}]
["Camisa social em  tricoline, manga longa, com emblema da empresa bordado no lado superior esquerdo, de boa qualidade.",null,"Unidade",12,59.7,79.9,56.9,{"$f":"MEDIAN(E135,F135,G135)","v":59.7},{"$f":"D135*H135","v":716.4},{"$f":"I135/12","v":59.7}]
["TOTAL",{"$nulls":7},{"$f":"SUM(I134,I135)","v":1402.44},{"$f":"SUM(J134,J135)","v":116.87}]
["VALOR MENSAL POR POSTO (3 RECEPCIONISTAS)",{"$nulls":8},{"$f":"J136/3","v":38.96}]
{"$rows_empty":37}
["INSUMOS DIVERSOS - APOIO TÉCNICO ADMINISTRATIVO"]
["DESCRIÇÃO","REFERÊNCIA","UND","QUANT. FORNECIDA POR ANO","COTAÇÃO I","COTAÇÃO II","COTAÇÃO III","PREÇO MEDIANO PRATICADO NO MERCADO (R$)","CUSTO ANUAL","CUSTO MENSAL"]
["Camisa social em  tricoline, mangas curtas, com emblema da empresa bordado no lado superior esquerdo, de boa qualidade.",null,"Unidade",4,{"$f":"E134","v":52.87},{"$f":"F134","v":57.17},{"$f":"G134","v":58.6},{"$f":"MEDIAN(E177,F177,G177)","v":57.17},{"$f":"D177*H177","v":228.68},{"$f":"I177/12","v":19.06}]
["Camisa social em  tricoline, manga longa, com emblema da empresa bordado no lado superior esquerdo, de boa qualidade.",null,"Unidade",4,{"$f":"E135","v":59.7},{"$f":"F135","v":79.9},{"$f":"G135","v":56.9},{"$f":"MEDIAN(E178,F178,G178)","v":59.7},{"$f":"D178*H178","v":238.8},{"$f":"I178/12","v":19.9}]
["TOTAL",{"$nulls":7},{"$f":"SUM(I177,I178)","v":467.48},{"$f":"SUM(J177,J178)","v":38.96}]
["VALOR MENSAL POR POSTO (01 APOIO TÉCNICO ADMINISTRATIVO)",{"$nulls":8},{"$f":"J179/1","v":38.96}]
{"$rows_empty":37}
["INSUMOS DIVERSOS - ALMOXARIFE"]
["DESCRIÇÃO","REFERÊNCIA","UND","QUANT. FORNECIDA POR ANO","COTAÇÃO I","COTAÇÃO II","COTAÇÃO III","PREÇO MEDIANO PRATICADO NO MERCADO (R$)","CUSTO ANUAL","CUSTO MENSAL"]
["Calça comprida jeans com  bolsos externos.",null,"Unidade",4,{"$f":"E64","v":59.99},{"$f":"F64","v":59.79},{"$f":"G64","v":62.4},{"$f":"MEDIAN(E220,F220,G220)","v":59.99},{"$f":"D220*H220","v":239.96},{"$f":"I220/12","v":20}]
["Camiseta   malha   fria,   com   gola   esporte, mangas curtas, com emblema da empresa pintado no lado superior esquerdo, de boa qualidade.",null,"Unidade",4,{"$f":"E8","v":23.9},{"$f":"F8","v":29.9},{"$f":"G8","v":26.9},26.9,107.6,8.97]
["Camiseta com gola simples, de mangas longas, proteção UV 50, sem abotoamento, com logo marca da empresa;",null,"Unidade",4,{"$f":"E9","v":29.63},{"$f":"F9","v":36.01},{"$f":"G9","v":32},32,128,10.67]
["Par de meia em algodão, tipo c\nano médio, de boa qualidade.",null,"Kit com 3 unidades",4,{"$f":"E10","v":29.36},{"$f":"F10","v":32.99},{"$f":"G10","v":29.69},29.69,118.76,9.9]
["Scrub manga curta com botão e bolsos externos, em  tecido brim , com emblema da empresa bordado no lado superior esquerdo, de boa qualidade.",null,"Unidades",4,{"$f":"E39","v":34.5},{"$f":"F39","v":34.99},{"$f":"G39","v":54.9},34.99,139.96,11.66]
["TOTAL",{"$nulls":7},{"$f":"SUM(I220:I224)","v":734.28},{"$f":"SUM(J220:J224)","v":61.2}]
["VALOR MENSAL POR POSTO (01 ALMOXARIFE)",{"$nulls":8},{"$f":"J225/1","v":61.2}]
{"$rows_empty":26}
["INSUMOS DIVERSOS - ENCARREGADO"]
["DESCRIÇÃO","REFERÊNCIA","UND","QUANT. FORNECIDA POR ANO","COTAÇÃO I","COTAÇÃO II","COTAÇÃO III","PREÇO MEDIANO PRATICADO NO MERCADO (R$)","CUSTO ANUAL","CUSTO MENSAL"]
["Camisa social em  tricoline, mangas curtas, com emblema da empresa bordado no lado superior esquerdo, de boa qualidade.",null,"Unidade",4,{"$f":"E134","v":52.87},{"$f":"F134","v":57.17},{"$f":"G134","v":58.6},{"$f":"MEDIAN(E255,F255,G255)","v":57.17},{"$f":"D255*H255","v":228.68},{"$f":"I255/12","v":19.06}]
["Camisa social em  tricoline, manga longa, com emblema da empresa bordado no lado superior esquerdo, de boa qualidade.",null,"Unidade",4,{"$f":"E135","v":59.7},{"$f":"F135","v":79.9},{"$f":"G135","v":56.9},{"$f":"MEDIAN(E256,F256,G256)","v":59.7},{"$f":"D256*H256","v":238.8},{"$f":"I256/12","v":19.9}]
["TOTAL",{"$nulls":7},{"$f":"SUM(I255,I256)","v":467.48},{"$f":"SUM(J255,J256)","v":38.96}]
["VALOR MENSAL POR POSTO (01 ENCARREGADO)",{"$nulls":8},{"$f":"J257/1","v":38.96}]