{"text_format":"2","workbook":"xlsx","n_sheets":9,"sheets":["PFP1","Modelo Proposta","PFP2.1_FatorKa","PFP2.2_FatorKb","PFP3_FatorKc","DQC","CT_OS","CT_RAM","CT_CV"],"not_rendered":{"charts":0,"images":0,"macros":0,"external_links":0,"defined_names":0,"comments":0,"pivot_tables":0},"unopened":[],"bounds":{"document_bytes":16777216,"sheet_cells":100000,"run_cost":"one","rows_first":2000,"rows_last":500,"rows_between":2000,"halvings":0,"cell_chars":16384,"cell_head_chars":4096},"cells_cut":0,"cells_raw":0,"read":"whole","date_system":"1900"}

{"sheet":"PFP1","index":0,"n_rows":37,"n_cols":9,"rows_kept":37,"cut":false,"hidden":false,"merged":[[34,0,34,8],[0,0,1,6],[4,3,4,6],[0,7,0,8],[1,7,1,8],[4,7,4,8],[2,0,2,8],[3,0,3,8],[4,0,4,2],[23,0,23,4],[23,5,23,8],[22,0,22,4],[22,5,22,8],[5,0,5,2],[5,7,5,8],[5,3,5,6],[36,0,36,8],[24,0,24,4],[25,7,25,8],[24,5,24,8],[25,0,25,4],[26,0,26,6],[26,7,26,8],[27,0,27,4],[28,0,28,6],[28,7,28,8],[33,0,33,8],[29,0,29,8],[30,0,30,8],[31,0,31,8],[35,0,35,8],[32,0,32,8]]}
["PROPOSTA FINANCEIRA DO PROJETO",{"$nulls":6},"CODIGO:"]
[{"$nulls":7},"PFP-1"]
["NOME DA EMPRESA:"]
[]
["PROJETO:",null,null,"CONTRATANTE:",null,null,null,"EDITAL:"]
["CONTRATAÇÃO DE SERVIÇOS DE APOIO TÉCNICO-ADMINISTRATIVO CONTINUADO VISANDO À IMPLANTAÇÃO E ACOMPANHAMENTO DE AÇÕES DE DESENVOLVIMENTO REGIONAL NA ÁREA DE ATUAÇÃO DA 10ª SUPERINTENDÊNCIA REGIONAL DA CODEVASF NO ESTADO DO TOCANTINS.",null,null,"CODEVASF (10ª/SR)"]
["Cod.","Categoria / Insumo","Uni","Qde","CUD","PU","FatorK","CT","PT"]
["MO","Mão de Obra com Vínculo",{"$nulls":5},{"$f":"SUM(H9:H12)","v":774278.6399999999},{"$f":"SUM(I9:I12)","v":1843402.56}]
["P1","Profissional Pleno (Coordenador)","mês",{"$f":"DQC!D7","v":12},{"$f":"DQC!E7","v":14218.63},{"$f":"ROUND(E9*G9,2)","v":33851.71},{"$f":"PFP2.1_FatorKa!$E$37","v":2.3807999999999998},{"$f":"ROUND(D9*E9,2)","v":170623.56},{"$f":"ROUND(F9*D9,2)","v":406220.52}]
["P3","Profissional Junior (Geral)","mês",12,{"$f":"DQC!E8","v":4815.49},{"$f":"ROUND(E10*G10,2)","v":11464.72},{"$f":"PFP2.1_FatorKa!$E$37","v":2.3807999999999998},{"$f":"ROUND(D10*E10,2)","v":57785.88},{"$f":"ROUND(F10*D10,2)","v":137576.64000000001}]
["P3","Profissional Junior (De campo)","mês",{"$f":"DQC!D9","v":36},{"$f":"DQC!E9","v":10302},24527,{"$f":"PFP2.1_FatorKa!$E$37","v":2.3807999999999998},370872,882972]
["T1","Técnico Pleno","mês",{"$f":"DQC!D10","v":60},{"$f":"DQC!E10","v":2916.62},6943.89,{"$f":"PFP2.1_FatorKa!$E$37","v":2.3807999999999998},174997.2,{"$f":"ROUND(F12*D12,2)","v":416633.4}]
["MO","Mão de Obra sem Vínculo",{"$nulls":5},{"$f":"SUM(H14:H15)","v":0},{"$f":"SUM(I14:I15)","v":0}]
["P2","Profissional Medio","mês",{"$f":"DQC!D12","v":0},11711.04,{"$f":"ROUND(E14*G14,2)","v":19853.73},{"$f":"PFP2.2_FatorKb!$E$37","v":1.6953},{"$f":"ROUND(D14*E14,2)","v":0},{"$f":"ROUND(F14*D14,2)","v":0}]
["T1","Técnico Pleno","mês",{"$f":"DQC!D13","v":0},5362.72,9091.42,{"$f":"PFP2.2_FatorKb!$E$37","v":1.6953},0,{"$f":"ROUND(F15*D15,2)","v":0}]
["DPV","Diárias e Veículos",{"$nulls":5},{"$f":"SUM(H17:H19)","v":549626.39999999991},{"$f":"SUM(I17:I19)","v":690216.24}]
["D","Diárias","dia",{"$f":"DQC!D15","v":1008},{"$f":"DQC!E15","v":305.10000000000002},{"$f":"ROUND(E17*G17,2)","v":383.14},{"$f":"PFP3_FatorKc!$E$19","v":1.2558},{"$f":"ROUND(D17*E17,2)","v":307540.8},{"$f":"ROUND(F17*D17,2)","v":386205.12}]
["V1","Saveiro Robust 1.6 Total Flex 8V ou similar","mês",{"$f":"DQC!D16","v":12},5400.3,{"$f":"ROUND(E18*G18,2)","v":6781.7},{"$f":"PFP3_FatorKc!$E$19","v":1.2558},{"$f":"ROUND(D18*E18,2)","v":64803.6},{"$f":"ROUND(F18*D18,2)","v":81380.399999999994}]
["V2","Hilux CS 4x4 2.8 TDI Diesel Mec. ou similar","mês",{"$f":"DQC!D17","v":12},14773.5,{"$f":"ROUND(E19*G19,2)","v":18552.560000000001},{"$f":"PFP3_FatorKc!$E$19","v":1.2558},{"$f":"ROUND(D19*E19,2)","v":177282},{"$f":"ROUND(F19*D19,2)","v":222630.72}]
["EM","Equipamentos e Materiais",{"$nulls":5},{"$f":"SUM(H21:H22)","v":43597.56},{"$f":"SUM(I21:I22)","v":54749.82}]
["EM1","Notebook tela 14”, HD 1TB, memória RAM de 8GB ","un",{"$f":"DQC!D19","v":10},{"$f":"DQC!E19","v":3525.6333333333332},{"$f":"ROUND(E21*G21,2)","v":4427.49},{"$f":"PFP3_FatorKc!$E$19","v":1.2558},{"$f":"ROUND(D21*E21,2)","v":35256.33},{"$f":"ROUND(F21*D21,2)","v":44274.9}]
["EM2","Navegador GPS/ GLONASS, resolução visor de 160 X 240, tamanho de display 2,6”, memória interna 8GB, slot cartão de memória microSD, prova d'água, conexão bluetooth, com câmera 8MP","un",{"$f":"DQC!D20","v":2},{"$f":"DQC!E20","v":4170.6166666666668},5237.46,{"$f":"PFP3_FatorKc!$E$19","v":1.2558},8341.23,10474.92]
["TOTAL DOS CUSTOS DIRETOS",{"$nulls":4},{"$f":"H8+H16+H13+H20","v":1367502.5999999999}]
["TOTAL DOS ENCARGOS E DESPESAS DIVERSAS",{"$nulls":4},{"$f":"F25-F23","v":1220866.0199999998}]
["TOTAL DA PROPOSTA",{"$nulls":4},{"$f":"I8+I16+I13+I20","v":2588368.6199999996}]
["NOME DO INFORMANTE:",{"$nulls":6},"QUALIFICAÇÃO"]
[]
["ASSINATURA:",{"$nulls":6},"DATA:"]
[]
["OBSERVAÇÃO:"]
["Un - unidade de medição do insumo;"]
["Qde - Quantidade do Insumo (não pode ocorrer alteração pela Licitante)"]
["CUD - Custo Unitário Direto do Insumo (sem encargos, taxas e impostos, valor não pode ser maior que o Orçado pela Codevasf)"]
["CT - Custo Total (sem encargos, taxas e impostos) - CT = Qde x CUD"]
["FatorK - Taxa de Ressarcimento de Despesas e Encargos"]
["PU - Preço Unitário (incluído encargos, taxas e impostos) - PU = CUD x FatorK"]
["PT - Preço Total (incluído encargos, taxas e impostos) - PT = Qde x PU"]

{"sheet":"Modelo Proposta","index":1,"n_rows":37,"n_cols":9,"rows_kept":37,"cut":false,"hidden":false,"merged":[[32,0,32,8],[33,0,33,8],[34,0,34,8],[35,0,35,8],[36,0,36,8],[31,0,31,8],[24,0,24,4],[24,5,24,8],[25,0,25,4],[25,7,25,8],[26,0,26,6],[26,7,26,8],[27,0,27,4],[28,0,28,6],[28,7,28,8],[29,0,29,8],[30,0,30,8],[23,0,23,4],[23,5,23,8],[0,0,1,6],[0,7,0,8],[1,7,1,8],[2,0,2,8],[3,0,3,8],[4,0,4,2],[4,3,4,6],[4,7,4,8],[5,0,5,2],[5,3,5,6],[5,7,5,8],[22,0,22,4],[22,5,22,8]]}
["MODELO PROPOSTA FINANCEIRA DO PROJETO",{"$nulls":6},"CODIGO:"]
[{"$nulls":7},"PFP-1"]
["NOME DA EMPRESA:"]
[]
["PROJETO:",null,null,"CONTRATANTE:",null,null,null,"EDITAL:"]
["CONTRATAÇÃO DE SERVIÇOS DE APOIO TÉCNICO-ADMINISTRATIVO CONTINUADO VISANDO À IMPLANTAÇÃO E ACOMPANHAMENTO DE AÇÕES DE DESENVOLVIMENTO REGIONAL NA ÁREA DE ATUAÇÃO DA 10ª SUPERINTENDÊNCIA REGIONAL DA CODEVASF NO ESTADO DO TOCANTINS.",null,null,"CODEVASF (10ª/SR)"]
["Cod.","Categoria / Insumo","Uni","Qde","CUD","PU","FatorK","CT","PT"]
["MO","Mão de Obra com Vínculo",{"$nulls":5},{"$f":"SUM(H9:H12)","v":0},{"$f":"SUM(I9:I12)","v":0}]
["P1","Profissional Pleno (Coordenador)","mês",{"$f":"DQC!D7","v":12},null,{"$f":"ROUND(E9*G9,2)","v":0},{"$f":"PFP2.1_FatorKa!$E$37","v":2.3807999999999998},{"$f":"ROUND(D9*E9,2)","v":0},{"$f":"ROUND(F9*D9,2)","v":0}]
["P3","Profissional Junior (Geral)","mês",{"$f":"DQC!D8","v":12},null,{"$f":"ROUND(E10*G10,2)","v":0},{"$f":"PFP2.1_FatorKa!$E$37","v":2.3807999999999998},{"$f":"ROUND(D10*E10,2)","v":0},{"$f":"ROUND(F10*D10,2)","v":0}]
["P3","Profissional Junior (De campo)","mês",{"$f":"DQC!D9","v":36},null,0,{"$f":"PFP2.1_FatorKa!$E$37","v":2.3807999999999998},0,0]
["T1","Técnico Pleno","mês",{"$f":"DQC!D10","v":60},null,0,{"$f":"PFP2.1_FatorKa!$E$37","v":2.3807999999999998},0,{"$f":"ROUND(F12*D12,2)","v":0}]
["MO","Mão de Obra sem Vínculo",{"$nulls":5},{"$f":"SUM(H14:H15)","v":0},{"$f":"SUM(I14:I15)","v":0}]
["P2","Profissional Medio","mês",{"$f":"DQC!D12","v":0},null,{"$f":"ROUND(E14*G14,2)","v":0},{"$f":"PFP2.2_FatorKb!$E$37","v":1.6953},{"$f":"ROUND(D14*E14,2)","v":0},{"$f":"ROUND(F14*D14,2)","v":0}]
["T1","Técnico Pleno","mês",{"$f":"DQC!D13","v":0},null,0,{"$f":"PFP2.2_FatorKb!$E$37","v":1.6953},0,0]
["DPV","Diárias, Passagens e Veículos",{"$nulls":5},{"$f":"SUM(H17:H19)","v":0},{"$f":"SUM(I17:I19)","v":0}]
["D","Diárias","dia",{"$f":"DQC!D15","v":1008},null,{"$f":"ROUND(E17*G17,2)","v":0},{"$f":"PFP3_FatorKc!$E$19","v":1.2558},{"$f":"ROUND(D17*E17,2)","v":0},{"$f":"ROUND(F17*D17,2)","v":0}]
["V1","Saveiro Robust 1.6 Total Flex 8V ou similar","mês",{"$f":"DQC!D16","v":12},null,{"$f":"ROUND(E18*G18,2)","v":0},{"$f":"PFP3_FatorKc!$E$19","v":1.2558},{"$f":"ROUND(D18*E18,2)","v":0},{"$f":"ROUND(F18*D18,2)","v":0}]
["V2","Hilux CS 4x4 2.8 TDI Diesel Mec. ou similar","mês",{"$f":"DQC!D17","v":12},null,{"$f":"ROUND(E19*G19,2)","v":0},{"$f":"PFP3_FatorKc!$E$19","v":1.2558},0,0]
["EM","Equipamentos e Materiais",{"$nulls":5},{"$f":"SUM(H21:H22)","v":0},{"$f":"SUM(I21:I22)","v":0}]
["EM1","Notebook tela 14”, HD 1TB, memória RAM de 8GB ","un",{"$f":"DQC!D19","v":10},null,{"$f":"ROUND(E21*G21,2)","v":0},{"$f":"PFP3_FatorKc!$E$19","v":1.2558},{"$f":"ROUND(D21*E21,2)","v":0},{"$f":"ROUND(F21*D21,2)","v":0}]
["EM2","Navegador GPS/ GLONASS, resolução visor de 160 X 240, tamanho de display 2,6”, memória interna 8GB, slot cartão de memória microSD, prova d'água, conexão bluetooth, com câmera 8MP","un",{"$f":"DQC!D20","v":2},null,0,{"$f":"PFP3_FatorKc!$E$19","v":1.2558},0,0]
["TOTAL DOS CUSTOS DIRETOS",{"$nulls":4},{"$f":"H8+H16+H13+H20","v":0}]
["TOTAL DOS ENCARGOS E DESPESAS DIVERSAS",{"$nulls":4},{"$f":"F25-F23","v":0}]
["TOTAL DA PROPOSTA",{"$nulls":4},{"$f":"I8+I16+I13+I20","v":0}]
["NOME DO INFORMANTE:",{"$nulls":6},"QUALIFICAÇÃO"]
[]
["ASSINATURA:",{"$nulls":6},"DATA:"]
[]
["OBSERVAÇÃO:"]
["Un - unidade de medição do insumo;"]
["Qde - Quantidade do Insumo (não pode ocorrer alteração pela Licitante)"]
["CUD - Custo Unitário Direto do Insumo (sem encargos, taxas e impostos, valor não pode ser maior que o Orçado pela Codevasf)"]
["CT - Custo Total (sem encargos, taxas e impostos) - CT = Qde x CUD"]
["FatorK - Taxa de Ressarcimento de Despesas e Encargos (detalhar composição nas Planilhas \"FCON2.1\", \"FCON2.2\", \"FCON3\")"]
["PU - Preço Unitário (incluído encargos, taxas e impostos) - PU = CUD x FatorK"]
["PT - Preço Total (incluído encargos, taxas e impostos) - PT = Qde x PU"]

{"sheet":"PFP2.1_FatorKa","index":2,"n_rows":46,"n_cols":6,"rows_kept":46,"cut":false,"hidden":false,"merged":[[45,0,45,5],[44,0,44,5],[43,0,43,5],[42,0,42,5],[25,1,25,3],[30,1,30,3],[31,1,31,3],[40,0,40,3],[29,1,29,3],[26,1,26,3],[27,1,27,3],[28,1,28,3],[38,4,38,5],[37,4,37,5],[34,1,34,3],[32,1,32,3],[8,1,8,3],[18,1,18,3],[19,1,19,3],[9,1,9,3],[14,1,14,3],[15,1,15,3],[16,1,16,3],[17,1,17,3],[10,1,10,3],[11,1,11,3],[12,1,12,3],[13,1,13,3],[0,0,1,4],[2,0,2,5],[5,0,5,1],[5,2,5,4],[6,0,7,3],[6,4,6,5],[4,2,4,4],[3,0,3,5],[33,1,33,3],[35,1,35,3],[36,1,36,3],[20,1,20,3],[21,1,21,3],[22,1,22,3],[23,1,23,3],[24,1,24,3]]}
["DETALHAMENTO DOS ENCARGOS SOCIAIS: Ka",{"$nulls":4},"CODIGO:"]
[{"$nulls":5},"PFP-2.1"]
["NOME DA EMPRESA:"]
[]
["PROJETO:",null,"CONTRATANTE:",null,null,"EDITAL:"]
["CONTRATAÇÃO DE SERVIÇOS DE APOIO TÉCNICO-ADMINISTRATIVO CONTINUADO VISANDO À IMPLANTAÇÃO E ACOMPANHAMENTO DE AÇÕES DE DESENVOLVIMENTO REGIONAL NA ÁREA DE ATUAÇÃO DA 10ª SUPERINTENDÊNCIA REGIONAL DA CODEVASF NO ESTADO DO TOCANTINS.",null,"CODEVASF (10ª/SR)"]
["DISCRIMINAÇÃO",null,null,null,"VALORES"]
[{"$nulls":4},"%","R$"]
["A","ENCARGOS SOCIAIS BÁSICOS",null,null,{"$f":"ROUND(SUM(E10:E18),4)","v":0.378},{"$f":"E9*'PFP1'!$H$8","v":292677.32591999997}]
["A1","Seconci",null,null,0.01,{"$f":"E10*'PFP1'!$H$8","v":7742.786399999999}]
["A2","INSS",null,null,0.2,{"$f":"E11*'PFP1'!$H$8","v":154855.72799999997}]
["A3","FGTS",null,null,0.08,{"$f":"E12*'PFP1'!$H$8","v":61942.291199999992}]
["A4","Incra",null,null,2E-3,{"$f":"E13*'PFP1'!$H$8","v":1548.5572799999998}]
["A5","Salário Educação ",null,null,2.5000000000000001E-2,{"$f":"E14*'PFP1'!$H$8","v":19356.965999999997}]
["A6","Sebrae",null,null,6.0000000000000001E-3,{"$f":"E15*'PFP1'!$H$8","v":4645.6718399999991}]
["A7","Seguro contra acidente",null,null,0.03,{"$f":"E16*'PFP1'!$H$8","v":23228.359199999995}]
["A8","Senai",null,null,0.01,{"$f":"E17*'PFP1'!$H$8","v":7742.786399999999}]
["A9","Sesi",null,null,1.4999999999999999E-2,{"$f":"E18*'PFP1'!$H$8","v":11614.179599999998}]
["B"," ENCARGOS SOCIAIS QUE RECEBEM INCIDÊNCIA DE \"A\"",null,null,{"$f":"ROUND(SUM(E20:E26),4)","v":0.1862},{"$f":"E19*'PFP1'!$H$8","v":144170.682768}]
["B1","13º Salário  ",null,null,8.3299999999999999E-2,{"$f":"E20*'PFP1'!$H$8","v":64497.41071199999}]
["B2","Auxilio Enfermidade",null,null,6.7000000000000002E-3,{"$f":"E21*'PFP1'!$H$8","v":5187.6668879999997}]
["B3","Licença Paternidade",null,null,5.9999999999999995E-4,{"$f":"E22*'PFP1'!$H$8","v":464.56718399999988}]
["B4","Faltas Justificadas",null,null,5.5999999999999999E-3,{"$f":"E23*'PFP1'!$H$8","v":4335.9603839999991}]
["B5","Auxílio Acidente de Trabalho",null,null,8.0000000000000004E-4,{"$f":"E24*'PFP1'!$H$8","v":619.422912}]
["B6","Férias Gozadas",null,null,8.8900000000000007E-2,{"$f":"E25*'PFP1'!$H$8","v":68833.371096000003}]
["B7","Salário Maternidade",null,null,2.9999999999999997E-4,{"$f":"E26*'PFP1'!$H$8","v":232.28359199999994}]
["C"," ENCARGOS SOCIAIS QUE NÃO RECEBEM INCIDÊNCIA DE \"A\"",null,null,{"$f":"ROUND(SUM(E28:E32),4)","v":0.1065},{"$f":"E27*'PFP1'!$H$8","v":82460.675159999984}]
["C1","Aviso Prévio Indenizado",null,null,5.3499999999999999E-2,{"$f":"E28*'PFP1'!$H$8","v":41423.907239999993}]
["C2","Aviso Prévio Trabalhado",null,null,1.2999999999999999E-3,{"$f":"E29*'PFP1'!$H$8","v":1006.5622319999998}]
["C3","Férias Indenizadas",null,null,1.7999999999999999E-2,{"$f":"E30*'PFP1'!$H$8","v":13937.015519999997}]
["C4","Depósito Rescisão Sem Justa Causa",null,null,2.92E-2,{"$f":"E31*'PFP1'!$H$8","v":22608.936287999997}]
["C5","Indenização Adicional",null,null,4.4999999999999997E-3,{"$f":"E32*'PFP1'!$H$8","v":3484.2538799999993}]
["D"," REINCIDÊNCIAS",null,null,{"$f":"ROUND(SUM(E34:E35),4)","v":7.5200000000000003E-2},{"$f":"E33*'PFP1'!$H$8","v":58225.753727999996}]
["D1","Reincidência de \"A\" sobre \"B\"",null,null,{"$f":"ROUND(E9*E19,4)","v":7.0400000000000004E-2},{"$f":"E34*'PFP1'!$H$8","v":54509.216256}]
["D2","Reincidência de \"A\" sobre Aviso Prévio Trabalhado e reincidência do FGTS sobre aviso prévio indenizado",null,null,{"$f":"(E29*E9)+(E28*E12)","v":4.7714000000000003E-3},{"$f":"E35*'PFP1'!$H$8","v":3694.3931028959996}]
["K1","ENCARGOS SOCIAIS",null,null,{"$f":"ROUND(E9+E19+E27+E33,4)","v":0.74590000000000001},{"$f":"E36*'PFP1'!$H$8","v":577534.43757599988}]
["Ka","TAXA DE RESSARCIMENTO DE DESPESAS E ENCARGOS SOBRE M.O.",null,null,{"$f":"ROUND((1+E36+PFP3_FatorKc!E15)*(1+PFP3_FatorKc!E14)*(1+PFP3_FatorKc!E10),4)","v":2.3807999999999998}]
["NOME DO INFORMANTE:",null,null,null,"QUALIFICAÇÃO"]
[]
["ASSINATURA:",null,null,null,"DATA:"]
[]
["OBSERVAÇÃO:"]
["1 - DISCRIMINAR OS ENCARGOS SOCIAIS COM SEUS RESPECTIVOS PERCENTUAS TOTALIZANDO OS MESMOS. "]
["2 - APLICAR O  % TOTAL P/ CALCULAR OS E. SOCIAIS INCIDENTES NA MÃO-DE-OBRA COM VÍNCULO PERMANENTE"]
["Ka - Taxa de Ressarcimento de Despesas e Encargos sobre a Mão de Obra COM VINCULO (incide apenas no Insumo Codigo M.O.)"]
["Ka = (1 + K1 + K2) x (1 + K3) x (1 + K4)"]

{"sheet":"PFP2.2_FatorKb","index":3,"n_rows":46,"n_cols":6,"rows_kept":46,"cut":false,"hidden":false,"merged":[[45,0,45,5],[38,4,38,5],[40,0,40,3],[42,0,42,5],[43,0,43,5],[44,0,44,5],[33,1,33,3],[34,1,34,3],[35,1,35,3],[36,1,36,3],[37,4,37,5],[32,1,32,3],[21,1,21,3],[22,1,22,3],[23,1,23,3],[24,1,24,3],[25,1,25,3],[26,1,26,3],[27,1,27,3],[28,1,28,3],[29,1,29,3],[30,1,30,3],[31,1,31,3],[20,1,20,3],[0,0,1,4],[2,0,2,5],[3,0,3,5],[4,2,4,4],[5,0,5,1],[5,2,5,4],[6,0,7,3],[6,4,6,5],[8,1,8,3],[18,1,18,3],[19,1,19,3]]}
["DETALHAMENTO DOS ENCARGOS SOCIAIS: Kb",{"$nulls":4},"CODIGO:"]
[{"$nulls":5},"PFP-2.2"]
["NOME DA EMPRESA:"]
[]
["PROJETO:",null,"CONTRATANTE:",null,null,"EDITAL:"]
["CONTRATAÇÃO DE SERVIÇOS DE APOIO TÉCNICO-ADMINISTRATIVO CONTINUADO VISANDO À IMPLANTAÇÃO E ACOMPANHAMENTO DE AÇÕES DE DESENVOLVIMENTO REGIONAL NA ÁREA DE ATUAÇÃO DA 10ª SUPERINTENDÊNCIA REGIONAL DA CODEVASF NO ESTADO DO TOCANTINS.",null,"CODEVASF (10ª/SR)"]
["DISCRIMINAÇÃO",null,null,null,"VALORES"]
[{"$nulls":4},"%","R$"]
["A","ENCARGOS SOCIAIS BÁSICOS",null,null,{"$f":"ROUND(SUM(E10:E18),4)","v":0.2},{"$f":"E9*'PFP1'!$H$13","v":0}]
["A1","Seconci",null,null,0,{"$f":"E10*'PFP1'!$H$13","v":0}]
["A2","INSS",null,null,0.2,{"$f":"E11*'PFP1'!$H$13","v":0}]
["A3","FGTS",null,null,0,{"$f":"E12*'PFP1'!$H$13","v":0}]
["A4","Incra",null,null,0,{"$f":"E13*'PFP1'!$H$13","v":0}]
["A5","Salário Educação ",null,null,0,{"$f":"E14*'PFP1'!$H$13","v":0}]
["A6","Sebrae",null,null,0,{"$f":"E15*'PFP1'!$H$13","v":0}]
["A7","Seguro contra acidente",null,null,0,{"$f":"E16*'PFP1'!$H$13","v":0}]
["A8","Senai",null,null,0,{"$f":"E17*'PFP1'!$H$13","v":0}]
["A9","Sesi",null,null,0,{"$f":"E18*'PFP1'!$H$13","v":0}]
["B"," ENCARGOS SOCIAIS QUE RECEBEM INCIDÊNCIA DE \"A\"",null,null,{"$f":"ROUND(SUM(E20:E26),4)","v":0},{"$f":"E19*'PFP1'!$H$13","v":0}]
["B1","13º Salário  ",null,null,0,{"$f":"E20*'PFP1'!$H$13","v":0}]
["B2","Auxilio Enfermidade",null,null,0,{"$f":"E21*'PFP1'!$H$13","v":0}]
["B3","Licença Paternidade",null,null,0,{"$f":"E22*'PFP1'!$H$13","v":0}]
["B4","Faltas Justificadas",null,null,0,{"$f":"E23*'PFP1'!$H$13","v":0}]
["B5","Auxílio Acidente de Trabalho",null,null,0,{"$f":"E24*'PFP1'!$H$13","v":0}]
["B6","Férias Gozadas",null,null,0,{"$f":"E25*'PFP1'!$H$13","v":0}]
["B7","Salário Maternidade",null,null,0,{"$f":"E26*'PFP1'!$H$13","v":0}]
["C"," ENCARGOS SOCIAIS QUE NÃO RECEBEM INCIDÊNCIA DE \"A\"",null,null,{"$f":"ROUND(SUM(E28:E32),4)","v":0},{"$f":"E27*'PFP1'!$H$13","v":0}]
["C1","Aviso Prévio Indenizado",null,null,0,{"$f":"E28*'PFP1'!$H$13","v":0}]
["C2","Aviso Prévio Trabalhado",null,null,0,{"$f":"E29*'PFP1'!$H$13","v":0}]
["C3","Férias Indenizadas",null,null,0,{"$f":"E30*'PFP1'!$H$13","v":0}]
["C4","Depósito Rescisão Sem Justa Causa",null,null,0,{"$f":"E31*'PFP1'!$H$13","v":0}]
["C5","Indenização Adicional",null,null,0,{"$f":"E32*'PFP1'!$H$13","v":0}]
["D"," REINCIDÊNCIAS",null,null,{"$f":"ROUND(SUM(E34:E35),4)","v":0},{"$f":"E33*'PFP1'!$H$13","v":0}]
["D1","Reincidência de \"A\" sobre \"B\"",null,null,{"$f":"ROUND(E9*E19,4)","v":0},{"$f":"E34*'PFP1'!$H$13","v":0}]
["D2","Reincidência de \"A\" sobre Aviso Prévio Trabalhado e reincidência do FGTS sobre aviso prévio indenizado",null,null,{"$f":"ROUND(E9*E29,4)+ROUND(E28*E12,4)","v":0},{"$f":"E35*'PFP1'!$H$13","v":0}]
["K1","ENCARGOS SOCIAIS",null,null,{"$f":"ROUND(E9+E19+E27+E33,4)","v":0.2},{"$f":"E36*'PFP1'!$H$13","v":0}]
["Kb","TAXA DE RESSARCIMENTO DE DESPESAS E ENCARGOS SOBRE M.O.",null,null,{"$f":"ROUND((1+E36+PFP3_FatorKc!E15)*(1+PFP3_FatorKc!E14)*(1+PFP3_FatorKc!E10),4)","v":1.6953}]
["NOME DO INFORMANTE:",null,null,null,"QUALIFICAÇÃO"]
[]
["ASSINATURA:",null,null,null,"DATA:"]
[]
["OBSERVAÇÃO:"]
["1 - DISCRIMINAR OS ENCARGOS SOCIAIS COM SEUS RESPECTIVOS PERCENTUAS TOTALIZANDO OS MESMOS. "]
["2 - APLICAR O % TOTAL P/ CALCULAR OS E. SOCIAIS INCIDENTES NA MÃO-DE-OBRA SEM VÍNCULO PERMANENTE"]
["Kb - Taxa de Ressarcimento de Despesas e Encargos sobre a Mão de Obra SEM VINCULO (incide apenas no Insumo Codigo M.O.)"]
["Kb = (1 + K1 + K2) x (1 + K3) x (1 + K4)"]

{"sheet":"PFP3_FatorKc","index":4,"n_rows":37,"n_cols":6,"rows_kept":37,"cut":false,"hidden":false,"merged":[[6,3,6,5],[6,0,7,2],[34,0,34,5],[14,1,14,3],[13,1,13,3],[10,1,10,2],[11,1,11,2],[12,1,12,2],[8,0,9,0],[8,1,9,2],[27,0,27,5],[0,0,1,4],[2,0,2,5],[5,0,5,1],[5,2,5,4],[4,2,4,4],[3,0,3,5],[35,0,35,5],[36,0,36,5],[18,1,18,3],[15,1,15,3],[16,1,16,3],[17,1,17,3],[23,0,23,5],[28,0,28,5],[29,0,29,5],[24,0,24,5],[25,0,25,5],[26,0,26,5],[30,0,30,5],[31,0,31,5],[32,0,32,5],[33,0,33,5]]}
["DESPESAS FISCAIS E CUSTOS DIVERSOS: Kc",{"$nulls":4},"CODIGO:"]
[{"$nulls":5},"PFP-3"]
["NOME DA EMPRESA:"]
[]
["PROJETO:",null,"CONTRATANTE:",null,null,"EDITAL:"]
["CONTRATAÇÃO DE SERVIÇOS DE APOIO TÉCNICO-ADMINISTRATIVO CONTINUADO VISANDO À IMPLANTAÇÃO E ACOMPANHAMENTO DE AÇÕES DE DESENVOLVIMENTO REGIONAL NA ÁREA DE ATUAÇÃO DA 10ª SUPERINTENDÊNCIA REGIONAL DA CODEVASF NO ESTADO DO TOCANTINS.",null,"CODEVASF (10ª/SR)"]
["DISCRIMINAÇÃO 1",null,null,"VALORES"]
[null,null,null,"% preço","% custo","R$"]
["K4","DESPESAS FISCAIS",null,"K' (%)2","K (%)3"]
[null,null,null,{"$f":"ROUND(D11+D12+D13,4)","v":0.124},{"$f":"ROUND(E11+E12+E13,4)","v":0.1416},{"$f":"E10*SUM('PFP1'!$H$8*(1+PFP2.1_FatorKa!$E$36)+'PFP1'!$H$13*(1+PFP2.2_FatorKb!$E$36)+'PFP1'!$H$16+'PFP1'!$H$20+PFP3_FatorKc!$F$15+PFP3_FatorKc!$F$14)","v":321049.21574083774}]
[1,"ISS",null,0.05,{"$f":"ROUND((1/(1-$D$10))*D11,4)","v":5.7099999999999998E-2},{"$f":"E11*SUM('PFP1'!$H$8*(1+PFP2.1_FatorKa!$E$36)+'PFP1'!$H$13*(1+PFP2.2_FatorKb!$E$36)+'PFP1'!$H$16+'PFP1'!$H$20+PFP3_FatorKc!$F$15+PFP3_FatorKc!$F$14)","v":129462.64278814853}]
[2,"PIS - aliquota efetiva com percentual-desconto de 20%",null,{"$f":"ROUND(1.65%*0.8,4)","v":1.32E-2},{"$f":"ROUND((1/(1-$D$10))*D12,4)","v":1.5100000000000001E-2},{"$f":"E12*SUM('PFP1'!$H$8*(1+PFP2.1_FatorKa!$E$36)+'PFP1'!$H$13*(1+PFP2.2_FatorKb!$E$36)+'PFP1'!$H$16+'PFP1'!$H$20+PFP3_FatorKc!$F$15+PFP3_FatorKc!$F$14)","v":34236.180492137355}]
[3,"COFINS - aliquota efetiva com percentual-desconto de 20%",null,{"$f":"ROUND(7.6%*0.8,4)","v":6.08E-2},6.9400000000000003E-2,{"$f":"E13*SUM('PFP1'!$H$8*(1+PFP2.1_FatorKa!$E$36)+'PFP1'!$H$13*(1+PFP2.2_FatorKb!$E$36)+'PFP1'!$H$16+'PFP1'!$H$20+PFP3_FatorKc!$F$15+PFP3_FatorKc!$F$14)","v":157350.39246055181}]
["K3","REMUNERAÇÃO DA EMPRESA (LUCRO)",null,null,0.1,{"$f":"E14*SUM('PFP1'!$H$8*(1+PFP2.1_FatorKa!$E$36)+'PFP1'!$H$13*(1+PFP2.2_FatorKb!$E$36)+'PFP1'!$H$16+'PFP1'!$H$20+PFP3_FatorKc!$F$15)","v":206117.88375759998}]
["K2","CUSTOS DA ADMINISTRAÇÃO CENTRAL",null,null,{"$f":"ROUND(SUM(E16:E18),4)","v":0.15},{"$f":"ROUND(E15*('PFP1'!$H$8+'PFP1'!$H$13),2)","v":116141.8}]
[4,"Custos da administração central da empresa (diretoria, pessoal técnico de apoio e pessoal administrativo não diretamente vinculado à prestação dos serviços)",null,null,0.1,{"$f":"ROUND(E16*('PFP1'!$H$8+'PFP1'!$H$13),2)","v":77427.86}]
[5,"Outras despesas que afetam o custo de produção como treinamento, biblioteca, programa de qualidade, programa de benefícios, auditoria interna e externa",null,null,0.03,{"$f":"ROUND(E17*('PFP1'!$H$8+'PFP1'!$H$13),2)","v":23228.36}]
[6,"Despesas fixas e variaveis com patrimônio, aluguéis, comunicação, manutenção e transporte não diretamente relacionados com o custo direto dos serviços",null,null,0.02,{"$f":"ROUND(E18*('PFP1'!$H$8+'PFP1'!$H$13),2)","v":15485.57}]
["Kc","TAXA RESSARCIMENTO DE DESPESAS SOBRE CUSTOS DIVERSOS",null,null,{"$f":"ROUND((1+E14)*(1+E10),4)","v":1.2558}]
["NOME DO INFORMANTE:",null,null,null,"QUALIFICAÇÃO:"]
[]
["ASSINATURA:",null,null,null,"DATA:"]
[]
["Observação:"]
["1 - RELACIONAR OS CUSTOS DE ADMINISTRAÇÃO COM RESPECTIVOS PERCENTUAIS INCIDENTES NA MÃO -DE-OBRA"]
["1 - DISCRIMINAR OS TRIBUTOS QUE INCIDEM SOBRE OS CUSTOS DA PRESTAÇÃO DOS SERVIÇOS"]
["2 - K4 = INDICAR % DE CADA TRIBUTO E A SOMA DOS MESMOS (ex: ISS 5% + PIS 1,65% + COFINS 7,60% = 14,25%)"]
["3 - PIS e COFINS, Regime de Incidencia Acumulativa (0,65% e 3,00% - sem percentual de desconto) ou em Regime de Incidencia Não Acumulativa (1,65% e 7,60% - aplicável percentual de desconto) de acordo com a forma de apuração do lucro no IRPJ. APRESENTAR COMPROVANTES de aproveitamento de créditos tributários dos últimos 12 meses em caso de aplicação de \"percentual de desconto\"."]
["4 - AS DESPESAS FISCAIS (K4) INCIDEM SOBRE O TOTAL DA FATURA E NÃO SOBRE OS CUSTOS INCORRIDOS, "]
["     DEVENDO SER CALCULADO O K4' APLICANDO-SE A SEGUINTE FÓRMULA:"]
["     K4' = { [ 1 / ( 1 - K4) ] - 1 } x 100"]
[{"$f":"CONCATENATE(\"     K4' = { [ 1 / ( 1 - \",D10,\" ) ] - 1 } x 100\")","v":"     K4' = { [ 1 / ( 1 - 0,124 ) ] - 1 } x 100"}]
["Kc - Taxa de Ressarcimento de Despesas sobre Custos Diversos (incide sobre os Insumos Codigo DP e EQ)"]
["Kc = (1 + K3) x (1 + K4)"]
["K2 - Incide sobre o Custo Total (CT) da Mão de Obra (MO)"]
["K3 - Incide sobre o Custo Total (CT) Mão de Obra com encargos (MO x Ka ou Kb), demais Custos (DP e EQ), e Custos da Administração Central (K2)"]
["K4 -  Incide sobre o Custo Total (CT) Mão de Obra com encargos (MO x Ka ou Kb), demais Custos (DP e EQ), e Custos da Administração Central (K2) e Lucro (K3)"]

{"sheet":"DQC","index":5,"n_rows":35,"n_cols":11,"rows_kept":35,"cut":false,"hidden":false,"merged":[[24,0,24,6],[24,7,24,8],[2,0,3,10],[20,0,20,4],[20,5,20,8],[21,0,21,4],[21,5,21,8],[0,0,1,9],[34,0,34,8],[29,0,29,8],[30,0,30,8],[31,0,31,8],[32,0,32,8],[33,0,33,8],[25,0,25,4],[26,0,26,6],[26,7,26,8],[27,0,27,8],[28,0,28,8],[22,0,22,4],[22,5,22,8],[23,0,23,4],[23,7,23,8]]}
["DETALHAMENTO DO QUANTITATIVOS CONTRATADOS",{"$nulls":9},"CODIGO:"]
[{"$nulls":10},"DQC"]
["INSUMOS POR ESTADO/PRODUTO"]
[]
["Cod.","Categoria / Insumo","Uni","Qde","CUD","PU","FatorK","CT","PT","TO","Total"]
["MO","Mão de Obra com Vínculo",{"$nulls":5},{"$f":"SUM(H7:H10)","v":774278.6399999999},{"$f":"SUM(I7:I10)","v":1843402.56}]
["P1","Profissional Pleno (Coordenador) ","mês",{"$f":"K7","v":12},14218.63,{"$f":"ROUND(E7*G7,2)","v":33851.71},{"$f":"PFP2.1_FatorKa!$E$37","v":2.3807999999999998},{"$f":"ROUND(D7*E7,2)","v":170623.56},{"$f":"ROUND(F7*D7,2)","v":406220.52},12,{"$f":"SUM(J7:J7)","v":12}]
["P3","Profissional Junior (Geral)","mês",12,4815.49,{"$f":"ROUND(E8*G8,2)","v":11464.72},{"$f":"PFP2.1_FatorKa!$E$37","v":2.3807999999999998},{"$f":"ROUND(D8*E8,2)","v":57785.88},{"$f":"ROUND(F8*D8,2)","v":137576.64000000001},12,{"$f":"SUM(J8:J8)","v":12}]
["P3","Profissional Junior (De campo)","mês",36,10302,{"$f":"ROUND(E9*G9,2)","v":24527},{"$f":"PFP2.1_FatorKa!$E$37","v":2.3807999999999998},{"$f":"ROUND(D9*E9,2)","v":370872},{"$f":"ROUND(F9*D9,2)","v":882972},{"$f":"D9","v":36},{"$f":"SUM(J9:J9)","v":36}]
["T1","Técnico Pleno","mês",{"$f":"5*12","v":60},2916.62,{"$f":"ROUND(E10*G10,2)","v":6943.89},{"$f":"PFP2.1_FatorKa!$E$37","v":2.3807999999999998},{"$f":"ROUND(D10*E10,2)","v":174997.2},{"$f":"ROUND(F10*D10,2)","v":416633.4},{"$f":"D10","v":60},{"$f":"SUM(J10:J10)","v":60}]
["MO","Mão de Obra sem Vínculo",{"$nulls":5},{"$f":"SUM(H12:H13)","v":0},{"$f":"SUM(I12:I13)","v":0}]
["P2","Profissional Médio","mês",null,null,{"$f":"ROUND(E12*G12,2)","v":0},{"$f":"PFP2.2_FatorKb!$E$37","v":1.6953},{"$f":"ROUND(D12*E12,2)","v":0},{"$f":"ROUND(F12*D12,2)","v":0},null,{"$f":"SUM(J12:J12)","v":0}]
["T1","Técnico Pleno","mês",null,null,0,{"$f":"PFP2.2_FatorKb!$E$37","v":1.6953},0,0,null,{"$f":"SUM(J13:J13)","v":0}]
["DPV","Diárias, Passagens e Veículos",{"$nulls":5},{"$f":"SUM(H15:H17)","v":549626.39999999991},{"$f":"SUM(I15:I17)","v":690216.24}]
["D1","Diárias","dia",{"$f":"K15","v":1008},305.10000000000002,{"$f":"ROUND(E15*G15,2)","v":383.14},{"$f":"PFP3_FatorKc!$E$19","v":1.2558},{"$f":"ROUND(D15*E15,2)","v":307540.8},{"$f":"ROUND(F15*D15,2)","v":386205.12},{"$f":"(24+24)*21","v":1008},{"$f":"SUM(J15:J15)","v":1008}]
["V1","Saveiro Robust 1.6 Total Flex 8V ou similar","mês",12,{"$f":"'PFP1'!E18","v":5400.3},{"$f":"ROUND(E16*G16,2)","v":6781.7},{"$f":"PFP3_FatorKc!$E$19","v":1.2558},{"$f":"ROUND(D16*E16,2)","v":64803.6},{"$f":"ROUND(F16*D16,2)","v":81380.399999999994},{"$f":"D16","v":12},{"$f":"SUM(J16:J16)","v":12}]
["V2","Hilux CS 4x4 2.8 TDI Diesel Mec. ou similar","mês",{"$f":"K17","v":12},{"$f":"'PFP1'!E19","v":14773.5},{"$f":"ROUND(E17*G17,2)","v":18552.560000000001},{"$f":"PFP3_FatorKc!$E$19","v":1.2558},{"$f":"ROUND(D17*E17,2)","v":177282},{"$f":"ROUND(F17*D17,2)","v":222630.72},12,{"$f":"SUM(J17:J17)","v":12}]
["EM","Equipamentos e Materiais",{"$nulls":5},{"$f":"SUM(H19:H20)","v":43597.56},{"$f":"SUM(I19:I20)","v":54749.82}]
["EM1","Notebook tela 15.6”, HD 1TB, memória RAM de 8GB ","un",{"$f":"K19","v":10},{"$f":"AVERAGE(2999,3799,3778.9)","v":3525.6333333333332},{"$f":"ROUND(E19*G19,2)","v":4427.49},{"$f":"PFP3_FatorKc!$E$19","v":1.2558},{"$f":"ROUND(D19*E19,2)","v":35256.33},{"$f":"ROUND(F19*D19,2)","v":44274.9},10,{"$f":"SUM(J19:J19)","v":10}]
["EM2","Navegador GPS/ GLONASS, resolução visor de 160 X 240, tamanho de display 2,6”, memória interna 8GB, slot cartão de memória microSD, prova d'água, conexão bluetooth, com câmera 8MP","un",{"$f":"K20","v":2},{"$f":"AVERAGE(4199,4713.85,3599)","v":4170.6166666666668},5237.46,{"$f":"PFP3_FatorKc!$E$19","v":1.2558},8341.23,10474.92,2,{"$f":"SUM(J20:J20)","v":2}]
["TOTAL DOS CUSTOS DIRETOS",{"$nulls":4},{"$f":"H6+H14+H11+H18","v":1367502.5999999999}]
["TOTAL DOS ENCARGOS E DESPESAS DIVERSAS",{"$nulls":4},{"$f":"F23-F21","v":1220866.0199999998}]
["TOTAL DA PROPOSTA",{"$nulls":4},{"$f":"I6+I14+I11+I18","v":2588368.6199999996}]
["NOME DO INFORMANTE:",{"$nulls":6},"QUALIFICAÇÃO:"]
[]
["ASSINATURA:",{"$nulls":6},"DATA:"]
[]
["OBSERVAÇÃO:"]
["Uni - unidade de medição do insumo"]
["Qde - Quantidade do Insumo (não pode ocorrer alteração pela Licitante)"]
["CUD - Custo Unitário Direto do Insumo (sem encargos, taxas e impostos, valor não pode ser maior que o Orçado pela Codevasf)"]
["CT - Custo Total (sem encargos, taxas e impostos) - CT = Qde x CUD"]
["FatorK - Taxa de Ressarcimento de Despesas e Encargos"]
["PU - Preço Unitário (incluído encargos, taxas e impostos) - PU = CUD x FatorK"]
["PT - Preço Total (incluído encargos, taxas e impostos) - PT = Qde x PU"]

{"sheet":"CT_OS","index":6,"n_rows":47,"n_cols":9,"rows_kept":47,"cut":false,"hidden":false,"merged":[[0,0,1,6],[0,7,0,8],[1,7,1,8],[4,0,4,2],[4,3,4,6],[4,7,4,8],[2,0,2,6],[3,0,3,6],[3,7,3,8],[5,0,5,2],[5,3,5,6],[5,7,5,8],[7,5,7,6],[6,7,6,8],[7,7,7,8],[6,3,6,4],[6,5,6,6],[6,1,6,2],[7,1,7,2],[7,3,7,4],[9,3,9,4],[10,3,10,4],[8,3,8,4],[9,1,9,2],[10,1,10,2],[8,1,8,2],[13,1,13,2],[11,1,11,2],[11,3,11,4],[12,3,12,4],[13,3,13,4],[12,1,12,2],[15,7,15,8],[32,0,32,4],[14,7,14,8],[14,1,14,2],[15,1,15,2],[32,5,32,8],[14,3,14,4],[15,3,15,4],[14,5,14,6],[15,5,15,6],[8,7,8,8],[9,7,9,8],[10,7,10,8],[13,5,13,6],[13,7,13,8],[11,5,11,6],[12,5,12,6],[11,7,11,8],[12,7,12,8],[8,5,8,6],[9,5,9,6],[10,5,10,6],[33,5,33,8],[34,5,34,8],[36,0,36,6],[36,7,36,8],[37,0,37,4],[34,0,34,4],[35,0,35,4],[33,0,33,4],[35,7,35,8],[43,0,43,8],[44,0,44,8],[45,0,45,8],[46,0,46,8],[38,0,38,6],[38,7,38,8],[40,0,40,8],[41,0,41,8],[42,0,42,8],[39,0,39,8]]}
["ORDEM DE SERVIÇO",{"$nulls":6},"CODIGO:"]
[{"$nulls":7},"O.S."]
["NOME DA EMPRESA:",{"$nulls":6},"N° O.S.:"]
[]
["PROJETO:",null,null,"CONTRATANTE:",null,null,null,"CONTRATO:"]
["CONTRATAÇÃO DE SERVIÇOS DE APOIO TÉCNICO-ADMINISTRATIVO CONTINUADO VISANDO À IMPLANTAÇÃO E ACOMPANHAMENTO DE AÇÕES DE DESENVOLVIMENTO REGIONAL NA ÁREA DE ATUAÇÃO DA 10ª SUPERINTENDÊNCIA REGIONAL DA CODEVASF NO ESTADO DO TOCANTINS.",null,null,"CODEVASF (10ª/SR)"]
["Cod.","Produtos/Atividades",null,"Tipo",null,"Prazo",null,"Obs"]
{"$rows_empty":9}
["Cod.","Categoria / Insumo","Uni","Qde","CUD","PU","FatorK","CT","PT"]
["MO","Mão de Obra com Vínculo",{"$nulls":5},{"$f":"SUM(H19:H22)","v":0},{"$f":"SUM(I19:I22)","v":0}]
["P1","Profissional Pleno (Coordenador)","mês"]
["P3","Profissional Junior (Geral)","mês"]
["P3","Profissional Junior (De campo)","mês"]
["T1","Tecnico Pleno","mês"]
["MO","Mão de Obra sem Vínculo",{"$nulls":5},{"$f":"SUM(H21:H25)","v":0},{"$f":"SUM(I21:I25)","v":0}]
["P2","Profissional Medio","mês"]
["T1","Tecnico Pleno","mês"]
["DPV","Diárias, Passagens E Veículos",{"$nulls":5},{"$f":"SUM(H27:H29)","v":0},{"$f":"SUM(I27:I29)","v":0}]
["DPV","Diárias","dia"]
["V1","Saveiro Robust 1.6 Total Flex 8V ou similar","mês"]
["V2","Hilux CS 4x4 2.8 TDI Diesel Mec. ou similar","mês"]
["EM","Equipamentos e Materiais",{"$nulls":5},{"$f":"SUM(H31:H32)","v":0},{"$f":"SUM(I31:I32)","v":0}]
["EM1","Notebook","un"]
["EM2","Navegador GPS","un"]
["TOTAL DOS CUSTOS DIRETOS",{"$nulls":4},{"$f":"H18+H26+H23+H30","v":0}]
["TOTAL DOS ENCARGOS E DESPESAS DIVERSAS",{"$nulls":4},{"$f":"F35-F33","v":0}]
["TOTAL DA PROPOSTA",{"$nulls":4},{"$f":"I18+I26+I23+I30","v":0}]
["NOME DO INFORMANTE:",{"$nulls":6},"QUALIFICAÇÃO"]
[]
["ASSINATURA:",{"$nulls":6},"DATA:"]
[]
["OBSERVAÇÃO:"]
["Un - unidade de medição do insumo;"]
["Qde - Quantidade do Insumo (não pode ocorrer alteração pela Licitante)"]
["CUD - Custo Unitário Direto do Insumo (sem encargos, taxas e impostos, valor não pode ser maior que o Orçado pela Codevasf)"]
["CT - Custo Total (sem encargos, taxas e impostos) - CT = Qde x CUD"]
["FatorK - Taxa de Ressarcimento de Despesas e Encargos (detalhar composição nas Planilhas \"FCON2.1\", \"FCON2.2\", \"FCON3\")"]
["PU - Preço Unitário (incluído encargos, taxas e impostos) - PU = CUD x FatorK"]
["PT - Preço Total (incluído encargos, taxas e impostos) - PT = Qde x PU"]

{"sheet":"CT_RAM","index":7,"n_rows":41,"n_cols":8,"rows_kept":41,"cut":false,"hidden":false,"merged":[[0,0,1,6],[0,7,0,8],[1,7,1,8],[4,0,4,2],[4,3,4,6],[4,7,4,8],[2,0,2,6],[3,0,3,6],[7,1,7,2],[7,3,7,4],[7,5,7,6],[7,7,7,8],[3,7,3,8],[8,1,8,2],[8,3,8,4],[8,5,8,6],[8,7,8,8],[5,0,5,2],[5,3,5,6],[5,7,5,8],[6,1,6,2],[6,3,6,4],[6,5,6,6],[6,7,6,8],[11,1,11,2],[11,3,11,4],[11,5,11,6],[11,7,11,8],[9,1,9,2],[9,3,9,4],[9,5,9,6],[9,7,9,8],[10,1,10,2],[10,3,10,4],[10,5,10,6],[10,7,10,8],[14,1,14,2],[14,3,14,4],[14,5,14,6],[14,7,14,8],[12,1,12,2],[12,3,12,4],[12,5,12,6],[12,7,12,8],[13,1,13,2],[13,3,13,4],[13,5,13,6],[13,7,13,8],[15,1,15,2],[15,3,15,4],[15,5,15,6],[15,7,15,8],[40,0,40,8],[36,0,36,4],[36,7,36,8],[37,0,37,6],[37,7,37,8],[38,0,38,4],[39,0,39,4],[39,7,39,8],[29,0,29,4],[29,5,29,8],[16,1,16,2],[16,3,16,4],[16,5,16,6],[16,7,16,8],[34,0,34,4],[34,5,34,8],[33,0,33,4],[19,7,19,8],[20,1,20,2],[20,3,20,4],[20,5,20,6],[20,7,20,8],[17,1,17,2],[17,3,17,4],[17,5,17,6],[17,7,17,8],[18,1,18,2],[18,3,18,4],[18,5,18,6],[18,7,18,8],[19,1,19,2],[19,3,19,4],[19,5,19,6],[24,1,24,2],[24,3,24,4],[24,5,24,6],[22,5,22,6],[22,7,22,8],[24,7,24,8],[21,1,21,2],[21,3,21,4],[21,5,21,6],[21,7,21,8],[22,1,22,2],[22,3,22,4],[41,0,43,8],[28,5,28,6],[28,7,28,8],[25,1,25,2],[25,3,25,4],[25,5,25,6],[25,7,25,8],[26,1,26,2],[26,3,26,4],[26,5,26,6],[26,7,26,8],[35,0,35,4],[35,5,35,8],[27,1,27,2],[27,3,27,4],[27,5,27,6],[27,7,27,8],[28,1,28,2],[28,3,28,4],[30,0,30,4],[31,0,31,4],[32,0,32,4]]}
["RELATÓRIO DE ACOMPANHAMENTO E MEDIÇÃO",{"$nulls":6},"CODIGO:"]
[{"$nulls":7},"RAM"]
["NOME DA EMPRESA:",{"$nulls":6},"N° RAM:"]
[]
["PROJETO:",null,null,"CONTRATANTE:",null,null,null,"CONTRATO:"]
["CONTRATAÇÃO DE SERVIÇOS DE APOIO TÉCNICO-ADMINISTRATIVO CONTINUADO VISANDO À IMPLANTAÇÃO E ACOMPANHAMENTO DE AÇÕES DE DESENVOLVIMENTO REGIONAL NA ÁREA DE ATUAÇÃO DA 10ª SUPERINTENDÊNCIA REGIONAL DA CODEVASF NO ESTADO DO TOCANTINS.",null,null,"CODEVASF (10ª/SR)"]
["Cod.","Produtos Demandados",null,"Tipo",null,"Prazo",null,"Obs"]
{"$rows_empty":8}
["Cod.","Produtos Executados",null,"Tipo",null,"Prazo",null,"Obs"]
{"$rows_empty":8}
["Cod.","Infrações Constatadas",null,"Tipo",null,"Sanção",null,"Valor"]
[]
[]
[]
[]
["N° de Atividades Demandadas"]
["N° de Atividades Entregues"]
["Grau de Execução das Atividades Programadas (GEAP)"]
["Fator de Ajuste no Pagamento"]
["Multas e descontos"]
["TOTAL DA ORDEM DE SERVIÇO"]
["TOTAL DA ORDEM DE PAGAMENTO"]
["FISCAL:",{"$nulls":6},"SETOR:"]
[]
["ASSINATURA:",{"$nulls":6},"DATA:"]
[]
["OBSERVAÇÕES:"]

{"sheet":"CT_CV","index":8,"n_rows":50,"n_cols":8,"rows_kept":50,"cut":false,"hidden":false,"merged":[[0,0,1,5],[0,6,0,7],[1,6,1,7],[5,3,5,5],[5,6,5,7],[2,0,2,7],[3,0,3,7],[10,0,10,7],[6,0,6,1],[6,2,6,7],[7,0,7,7],[9,0,9,1],[8,2,8,3],[8,4,8,5],[8,6,8,7],[11,0,11,1],[11,2,11,3],[12,0,12,1],[12,2,12,3],[11,4,11,5],[12,4,12,5],[13,0,13,1],[13,2,13,3],[14,0,14,1],[14,2,14,3],[13,4,13,5],[14,4,14,5],[17,1,17,7],[18,1,18,7],[19,1,19,7],[15,0,15,1],[15,2,15,3],[16,0,16,1],[16,2,16,3],[15,4,15,5],[16,4,16,5],[47,0,47,7],[48,0,48,7],[49,0,49,7],[4,0,4,2],[4,3,4,5],[4,6,4,7],[5,0,5,2],[43,0,43,7],[44,0,44,7],[45,0,45,7],[46,0,46,7],[33,1,33,7],[36,1,36,7],[26,1,26,7],[28,1,28,7],[29,1,29,7],[40,6,40,7],[42,6,42,7],[39,0,39,5],[40,0,40,5],[37,4,37,7],[38,0,38,3],[38,4,38,7],[27,1,27,7],[35,1,35,7],[34,1,34,7],[39,6,39,7],[9,2,9,3],[9,4,9,5],[9,6,9,7],[30,1,30,7],[31,1,31,7],[32,1,32,7],[20,1,20,7],[21,1,21,7],[22,1,22,7],[23,1,23,7],[24,1,24,7],[25,1,25,7]]}
["FICHA CURRICULAR DA EQUIPE TÉCNICA",{"$nulls":5},"CODIGO:"]
[{"$nulls":6},"CV"]
["NOME DA EMPRESA:"]
[]
["PROJETO:",null,null,"CONTRATANTE:",null,null,"EDITAL:"]
["CONTRATAÇÃO DE SERVIÇOS DE APOIO TÉCNICO-ADMINISTRATIVO CONTINUADO VISANDO À IMPLANTAÇÃO E ACOMPANHAMENTO DE AÇÕES DE DESENVOLVIMENTO REGIONAL NA ÁREA DE ATUAÇÃO DA 10ª SUPERINTENDÊNCIA REGIONAL DA CODEVASF NO ESTADO DO TOCANTINS.",null,null,"CODEVASF (10ª/SR)"]
["NOME DO PROFISSIONAL:"]
[]
["ATUAÇÃO NO PROJETO:",null,"FORMAÇÃO PRINCIPAL:",null," NASCIMENTO:",null,"NACIONALIDADE:"]
[]
["FORMAÇÃO"]
["ESCOLARIDADE",null,"ENTIDADE",null,"CIDADE",null,"DURAÇÃO","ANO CONCL."]
["Técnico (título)",null,"Escola",null,"Cidade",null,"X anos","AAAA"]
["Superior (título)",null,"Universidade",null,"Cidade",null,"X anos","AAAA"]
["Especialização (título)",null,"Universidade",null,"Cidade",null,"X anos","AAAA"]
["Mestrado (título)",null,"Universidade",null,"Cidade",null,"X anos","AAAA"]
["Doutorado (título)",null,"Universidade",null,"Cidade",null,"X anos","AAAA"]
["PERIODO","CAPACIDADE TÉCNICA - EXPERIÊNCIA PROFISSIONAL"]
["(MM/AA a MM/AA)","(Empresa, cargo ou função, cidade)"]
[]
[]
[]
[]
[]
["CAT","CAPACIDADE TÉCNICA - SERVIÇO OU OBRA"]
["(nº da ART ou CAT)","(Objeto resumido, quantificação, contratante, cidade)"]
[]
[]
[]
[]
[]
["ANO","CAPACIDADE TECNOLÓGICA - CERTIFICADO"]
["(AAAA)","(Nome do curso, empresa de treinamento, carga horaria em hs, cidade)"]
[]
[]
[]
[]
["CONCORDO EM PARTICIPAR DESTE OBJETO (ASSINATURA):",null,null,null,"Nº DO REGISTRO PROFISSIONAL:"]
[]
["NOME DO INFORMANTE:",{"$nulls":5},"QUALIFICAÇÃO"]
[]
["ASSINATURA:",{"$nulls":5},"DATA:"]
[]
["OBSERVAÇÃO:"]
["1 – PREENCHER UMA FICHA PARA CADA PROFISSIONAL DA EQUIPE CHAVE (ESPECIALISTAS) E COMPLEMENTAR (ANALISTAS)"]
["2 – JUNTAR COMPROVANTES DE ESCOLARIDADE"]
["3 – JUNTAR OS COMPROVANTES DA EXP. PROFISSIONAL, CERTIFICADOS PELA UNIDADE PROFISSIONAL COMPETENTE"]
["4 – JUNTAR OS COMPROVANTES DE CAPACIDADE TECNICA, RELATIVO AOS CAT DE SERVIÇOS SIMILARES OU CORRELATOS, CONFORME, ITEM 10."]
["5 – JUNTAR OS COMPROVANTES DE CAPACIDADE TECNOLOGICA, CONFORME ITEM 10."]
["6 – ITENS EM VERMELHO SÃO APENAS INSTRUÇÃO DE PREENCHIMENTO E DEVEM SER APAGADOS."]